Workbook

Sheet Extrahed
A1: Info
A2: |* FileName (|*=string)\r
A3: |* Date\r
A4: |* Time\r
A5: |* Comments\r
A6: |* Type of Gas\r
A7: |* Sample ID\r
A8: |* Absorption or Desorption?\r
A9: |* Asymptotic time step? (Yes/No)\r
A10: |* Concentration Calculation Method?\r
A11: |* Collect Kinetic data? (Yes/No)\r
A12: |* Dose test? (Yes/No)\r
... A48: HR_N2
A49: 41226
A50: 0.63055556
A51: Ap 2 se vzorkem HR_N2, zrnitost 0,06-0,15mm. m(ap2+vz) =13,4750g - adsorpce CO2 pri 30 C.
A52: CARBON DIOXIDE
A53: HR_N2
A54: Absorption
A55: Yes
A56: Direct Method
A57: Yes
A58: Yes
A59: 1
A60: Yes
A61: Yes
A62: Yes
A64: Specdata
A65: 3435660296
A66: 1
A67: 0
A68: 0.7685
A69: 100
A70: 30
A71: 31
A72: 20
A73: 1.5
A74: 9999999
A75: 14.52
A76: 9.789562
...

Sheet Condit+DATA
AL22: After correction
C23: Time | D23: peq | E23: peqLP | F23: presLP | G23: pinit | H23: pres | I23: Ts | J23: Tr | K23: Vr | L23: Aliquot | M23: A/D | N23: pin | O23: pin | P23: pin | Q23: pin | V23: TCCH0 | W23: TCCH1 | X23: TCCH2 | AD23: TCCHref | AE23: Mass % | AF23: Moles Gas | AG23: ml gas STP | AH23: H / f.u. | AI23: molkg | AJ23: ml gas STP / ml sample | AK23: mg gas / g sample | AL23: Direct | AM23: Apparent | AN23: R-factor
C24: [hours] | D24: [bar] | E24: [bar] | F24: [bar] | G24: [bar] | H24: [bar] | I24: [°C] | J24: [°C] | K24: [cm3] | L24: --- | M24: --- | N24: [volts] | O24: [volts] | P24: [volts] | Q24: [volts] | V24: [volts] | W24: [volts] | X24: [volts] | AD24: [kelvin] | AE24: [%wt.] | AF24: [moles] | AG24: [cm3] | AH24: [H / f.u.] | AI24: [mmoles g-1] | AJ24: [cm3 cm-3] | AK24: [mg g-1] | AL24: [mmoles g-1] | AM24: [mmoles g-1] | AN24: [mmoles g-1]
C25: =Extrahed!A96 -> elapsedtime | D25: =Extrahed!B96 -> Peq | E25: =Extrahed!C96 -> PeqLP | F25: =Extrahed!D96 -> PresLP | G25: =Extrahed!E96 -> Pinit | H25: =Extrahed!F96 -> Pres | I25: =Extrahed!G96 -> Ts | J25: =Extrahed!H96 -> Tr | ... AN25: =Extrahed!AL96 -> NewConc2
B26: 1 | C26: =Extrahed!A97 -> 0.3104253 | D26: =Extrahed!B97 -> 0.00144078 | E26: =Extrahed!C97 -> 0.00144078 | F26: =Extrahed!D97 -> 0.00080378 | G26: =Extrahed!E97 -> 0.00080378 | H26: =Extrahed!F97 -> 0.00069762 | I26: =Extrahed!G97 -> 29.95331 | J26: =Extrahed!H97 -> 31.07391 | ... AN26: =Extrahed!AL97 -> 0
B27: 2 | C27: =Extrahed!A98 -> 0.760829 | D27: =Extrahed!B98 -> 0.08382573 | E27: =Extrahed!C98 -> 0.08382573 | F27: =Extrahed!D98 -> 0.1511351 | G27: =Extrahed!E98 -> 0.00144078 | H27: =Extrahed!F98 -> 0.1508166 | I27: =Extrahed!G98 -> 29.95331 | J27: =Extrahed!H98 -> 31.07391 | ... AN27: =Extrahed!AL98 -> 0.04850794
B28: 3 | C28: =Extrahed!A99 -> 1.299887 | D28: =Extrahed!B99 -> 0.1749163 | E28: =Extrahed!C99 -> 0.1749163 | F28: =Extrahed!D99 -> 0.2422257 | G28: =Extrahed!E99 -> 0.08393189 | H28: =Extrahed!F99 -> 0.2419072 | I28: =Extrahed!G99 -> 29.98444 | J28: =Extrahed!H99 -> 31.07391 | ... AN28: =Extrahed!AL99 -> 0.09336782
B29: 4 | C29: =Extrahed!A100 -> 1.804709 | D29: =Extrahed!B100 -> 0.2802331 | E29: =Extrahed!C100 -> 0.2802331 | F29: =Extrahed!D100 -> 0.3509398 | G29: =Extrahed!E100 -> 0.1752348 | H29: =Extrahed!F100 -> 0.3501967 | I29: =Extrahed!G100 -> 29.98444 | J29: =Extrahed!H100 -> 31.07391 | ... AN29: =Extrahed!AL100 -> 0.1351976
B30: 5 | C30: =Extrahed!A101 -> 2.200929 | D30: =Extrahed!B101 -> 0.3617688 | E30: =Extrahed!C101 -> 0.3617688 | F30: =Extrahed!D101 -> 0.4132594 | G30: =Extrahed!E101 -> 0.2803393 | H30: =Extrahed!F101 -> 0.4121977 | I30: =Extrahed!G101 -> 30.04669 | J30: =Extrahed!H101 -> 31.07391 | ... AN30: =Extrahed!AL101 -> 0.1629211
B31: 6 | C31: =Extrahed!A102 -> 2.597591 | D31: =Extrahed!B102 -> 0.456469 | E31: =Extrahed!C102 -> 0.456469 | F31: =Extrahed!D102 -> 0.5139049 | G31: =Extrahed!E102 -> 0.3619811 | H31: =Extrahed!F102 -> 0.5130556 | I31: =Extrahed!G102 -> 29.98444 | J31: =Extrahed!H102 -> 31.04279 | ... AN31: =Extrahed!AL102 -> 0.1921548
B32: 7 | C32: =Extrahed!A103 -> 2.93293 | D32: =Extrahed!B103 -> 0.5582823 | E32: =Extrahed!C103 -> 0.5582823 | F32: =Extrahed!D103 -> 0.6178416 | G32: =Extrahed!E103 -> 0.4566814 | H32: =Extrahed!F103 -> 0.6166738 | I32: =Extrahed!G103 -> 29.98444 | J32: =Extrahed!H103 -> 31.04279 | ... AN32: =Extrahed!AL103 -> 0.2204537
B33: 8 | C33: =Extrahed!A104 -> 3.267109 | D33: =Extrahed!B104 -> 0.6689075 | E33: =Extrahed!C104 -> 0.6689075 | F33: =Extrahed!D104 -> 0.7316517 | G33: =Extrahed!E104 -> 0.559344 | H33: =Extrahed!F104 -> 0.7302716 | I33: =Extrahed!G104 -> 30.04669 | J33: =Extrahed!H104 -> 31.07391 | ... AN33: =Extrahed!AL104 -> 0.2478437
B34: 9 | C34: =Extrahed!A105 -> 3.61197 | D34: =Extrahed!B105 -> 0.7662619 | E34: =Extrahed!C105 -> 0.7662619 | F34: =Extrahed!D105 -> 0.8211498 | G34: =Extrahed!E105 -> 0.6699691 | H34: =Extrahed!F105 -> 0.8195573 | I34: =Extrahed!G105 -> 29.98444 | J34: =Extrahed!H105 -> 31.04279 | ... AN34: =Extrahed!AL105 -> 0.2711349
B35: 10 | C35: =Extrahed!A106 -> 3.951454 | D35: =Extrahed!B106 -> 0.888353 | E35: =Extrahed!C106 -> 0.888353 | F35: =Extrahed!D106 -> 0.9543884 | G35: =Extrahed!E106 -> 0.7666865 | H35: =Extrahed!F106 -> 0.9526896 | I35: =Extrahed!G106 -> 29.95331 | J35: =Extrahed!H106 -> 31.04279 | ... AN35: =Extrahed!AL106 -> 0.297471
B36: 11 | C36: =Extrahed!A107 -> 4.03401 | D36: =Extrahed!B107 -> 1.013204 | E36: =Extrahed!C107 -> 1.013204 | F36: =Extrahed!D107 -> 1.076586 | G36: =Extrahed!E107 -> 0.8898394 | H36: =Extrahed!F107 -> 1.074568 | I36: =Extrahed!G107 -> 29.98444 | J36: =Extrahed!H107 -> 31.04279 | ... AN36: =Extrahed!AL107 -> 0.3177587
B37: 12 | C37: =Extrahed!A108 -> 0 | D37: =Extrahed!B108 -> 0 | E37: =Extrahed!C108 -> 0 | F37: =Extrahed!D108 -> 0 | G37: =Extrahed!E108 -> 0 | H37: =Extrahed!F108 -> 0 | I37: =Extrahed!G108 -> 0 | J37: =Extrahed!H108 -> 0 | ... AN37: =Extrahed!AL108 -> 0
... B75: 50 | C75: =Extrahed!A146 -> 0 | D75: =Extrahed!B146 -> 0 | E75: =Extrahed!C146 -> 0 | F75: =Extrahed!D146 -> 0 | G75: =Extrahed!E146 -> 0 | H75: =Extrahed!F146 -> 0 | I75: =Extrahed!G146 -> 0 | J75: =Extrahed!H146 -> 0 | ... AN75: =Extrahed!AL146 -> 0

Sheet Lang
B2: ='Condit+DATA'!B8 -> 0
C6: 1 | D6: 2 | E6: 3
C8: ='Condit+DATA'!D25 -> Peq | D8: ='Condit+DATA'!AL25 -> NewConc0
B9: 1 | C9: ='Condit+DATA'!D26 -> 0.00144078 | D9: ='Condit+DATA'!AL26 -> 0
B10: 2 | C10: =IF('Condit+DATA'!D27=0,"",'Condit+DATA'!D27) -> 0.08382573 | D10: =IF('Condit+DATA'!AL27=0,"",'Condit+DATA'!AL27) -> 0.04856789 | E10: =IF(C10="","",C10/D10) -> 1.7259496
B11: 3 | C11: =IF('Condit+DATA'!D28=0,"",'Condit+DATA'!D28) -> 0.1749163 | D11: =IF('Condit+DATA'!AL28=0,"",'Condit+DATA'!AL28) -> 0.09349101 | E11: =IF(C11="","",C11/D11) -> 1.8709425
B12: 4 | C12: =IF('Condit+DATA'!D29=0,"",'Condit+DATA'!D29) -> 0.2802331 | D12: =IF('Condit+DATA'!AL29=0,"",'Condit+DATA'!AL29) -> 0.1353934 | E12: =IF(C12="","",C12/D12) -> 2.0697693
B13: 5 | C13: =IF('Condit+DATA'!D30=0,"",'Condit+DATA'!D30) -> 0.3617688 | D13: =IF('Condit+DATA'!AL30=0,"",'Condit+DATA'!AL30) -> 0.1631698 | E13: =IF(C13="","",C13/D13) -> 2.2171309
B14: 6 | C14: =IF('Condit+DATA'!D31=0,"",'Condit+DATA'!D31) -> 0.456469 | D14: =IF('Condit+DATA'!AL31=0,"",'Condit+DATA'!AL31) -> 0.1924666 | E14: =IF(C14="","",C14/D14) -> 2.371679
B15: 7 | C15: =IF('Condit+DATA'!D32=0,"",'Condit+DATA'!D32) -> 0.5582823 | D15: =IF('Condit+DATA'!AL32=0,"",'Condit+DATA'!AL32) -> 0.220833 | E15: =IF(C15="","",C15/D15) -> 2.5280746
B16: 8 | C16: =IF('Condit+DATA'!D33=0,"",'Condit+DATA'!D33) -> 0.6689075 | D16: =IF('Condit+DATA'!AL33=0,"",'Condit+DATA'!AL33) -> 0.2482938 | E16: =IF(C16="","",C16/D16) -> 2.6940161
B17: 9 | C17: =IF('Condit+DATA'!D34=0,"",'Condit+DATA'!D34) -> 0.7662619 | D17: =IF('Condit+DATA'!AL34=0,"",'Condit+DATA'!AL34) -> 0.2716492 | E17: =IF(C17="","",C17/D17) -> 2.8207773
B18: 10 | C18: =IF('Condit+DATA'!D35=0,"",'Condit+DATA'!D35) -> 0.888353 | D18: =IF('Condit+DATA'!AL35=0,"",'Condit+DATA'!AL35) -> 0.2980678 | E18: =IF(C18="","",C18/D18) -> 2.9803723
B19: 11 | C19: =IF('Condit+DATA'!D36=0,"",'Condit+DATA'!D36) -> 1.013204 | D19: =IF('Condit+DATA'!AL36=0,"",'Condit+DATA'!AL36) -> 0.3184384 | E19: =IF(C19="","",C19/D19) -> 3.1817896
B20: 12 | C20: =IF('Condit+DATA'!D37=0,"",'Condit+DATA'!D37) | D20: =IF('Condit+DATA'!AL37=0,"",'Condit+DATA'!AL37) | E20: =IF(C20="","",C20/D20)
B21: 13 | C21: =IF('Condit+DATA'!D38=0,"",'Condit+DATA'!D38) | D21: =IF('Condit+DATA'!AL38=0,"",'Condit+DATA'!AL38) | E21: =IF(C21="","",C21/D21)
... B57: 49 | C57: =IF('Condit+DATA'!D74=0,"",'Condit+DATA'!D74) | D57: =IF('Condit+DATA'!AL74=0,"",'Condit+DATA'!AL74) | E57: =IF(C57="","",C57/D57)
