Workbook

Sheet Data
B7: 0 | C7: 1 | D7: 0.3900694 | E7: 0.1434592 | F7: 0.05601892 | G7: 0.02745403 | H7: 0.3012009
B8: 0 | C8: 1 | D8: 0.3897521 | E8: 0.1437766 | F8: 0.05601892 | G8: 0.02745403 | H8: 0.3002487
B9: 0 | C9: 1 | D9: 0.3900694 | E9: 0.1434592 | F9: 0.05601892 | G9: 0.02745403 | H9: 0.2992966
B10: 0 | C10: 1 | D10: 0.3900694 | E10: 0.1434592 | F10: 0.05601892 | G10: 0.02745403 | H10: 0.2981857
B11: 0 | C11: 1 | D11: 0.3900694 | E11: 0.1434592 | F11: 0.05601892 | G11: 0.02745403 | H11: 0.2972335
B12: 0 | C12: 1 | D12: 0.3897521 | E12: 0.1434592 | F12: 0.05601892 | G12: 0.02745403 | H12: 0.2962814
B13: 0 | C13: 1 | D13: 0.3900694 | E13: 0.1434592 | F13: 0.05601892 | G13: 0.02745403 | H13: 0.2954879
B14: 0 | C14: 1 | D14: 0.3900694 | E14: 0.1434592 | F14: 0.05586023 | G14: 0.02745403 | H14: 0.2945357
B15: 0 | C15: 1 | D15: 0.3900694 | E15: 0.1434592 | F15: 0.05586023 | G15: 0.02745403 | H15: 0.2935836
B16: 0 | C16: 1 | D16: 0.3900694 | E16: 0.1434592 | F16: 0.05586023 | G16: 0.02745403 | H16: 0.2924727
B17: 0 | C17: 1 | D17: 0.3900694 | E17: 0.1434592 | F17: 0.05586023 | G17: 0.02745403 | H17: 0.2916793
B18: 0 | C18: 1 | D18: 0.3900694 | E18: 0.1434592 | F18: 0.05586023 | G18: 0.02745403 | H18: 0.2905684
... B141: 7 | C141: 1 | D141: 0.3461112 | E141: 0.1480613 | F141: 0.9489891 | G141: 0.4738598 | H141: 0.3962585

Sheet Separovaná data
N5: Tohoto prázdného prostoru se potřebuju zbavit
B7: {=IF(Data!B7=0,Data!B7,"")} -> 0 | C7: =IF(B7="","",Data!F7) -> 0.05601892 | D7: {=IF(B7="","",Data!H7)} -> 0.3012009 | F7: {=IF(Data!B7=1,Data!B7,"")} | G7: {=IF(F7="","",Data!F7)} | H7: {=IF(F7="","",Data!H7)} | J7: {=IF(Data!B7=2,Data!B7,"")} | K7: {=IF(J7="","",Data!F7)} | L7: {=IF(J7="","",Data!H7)}
B8: {=IF(Data!B8=0,Data!B8,"")} -> 0 | C8: =IF(B8="","",Data!F8) -> 0.05601892 | D8: {=IF(B8="","",Data!H8)} -> 0.3002487 | F8: {=IF(Data!B8=1,Data!B8,"")} | G8: {=IF(F8="","",Data!F8)} | H8: {=IF(F8="","",Data!H8)} | J8: {=IF(Data!B8=2,Data!B8,"")} | K8: {=IF(J8="","",Data!F8)} | L8: {=IF(J8="","",Data!H8)}
B9: {=IF(Data!B9=0,Data!B9,"")} -> 0 | C9: =IF(B9="","",Data!F9) -> 0.05601892 | D9: {=IF(B9="","",Data!H9)} -> 0.2992966 | F9: {=IF(Data!B9=1,Data!B9,"")} | G9: {=IF(F9="","",Data!F9)} | H9: {=IF(F9="","",Data!H9)} | J9: {=IF(Data!B9=2,Data!B9,"")} | K9: {=IF(J9="","",Data!F9)} | L9: {=IF(J9="","",Data!H9)}
B10: {=IF(Data!B10=0,Data!B10,"")} -> 0 | C10: =IF(B10="","",Data!F10) -> 0.05601892 | D10: {=IF(B10="","",Data!H10)} -> 0.2981857 | F10: {=IF(Data!B10=1,Data!B10,"")} | G10: {=IF(F10="","",Data!F10)} | H10: {=IF(F10="","",Data!H10)} | J10: {=IF(Data!B10=2,Data!B10,"")} | K10: {=IF(J10="","",Data!F10)} | L10: {=IF(J10="","",Data!H10)}
B11: {=IF(Data!B11=0,Data!B11,"")} -> 0 | C11: =IF(B11="","",Data!F11) -> 0.05601892 | D11: {=IF(B11="","",Data!H11)} -> 0.2972335 | F11: {=IF(Data!B11=1,Data!B11,"")} | G11: {=IF(F11="","",Data!F11)} | H11: {=IF(F11="","",Data!H11)} | J11: {=IF(Data!B11=2,Data!B11,"")} | K11: {=IF(J11="","",Data!F11)} | L11: {=IF(J11="","",Data!H11)}
B12: {=IF(Data!B12=0,Data!B12,"")} -> 0 | C12: =IF(B12="","",Data!F12) -> 0.05601892 | D12: {=IF(B12="","",Data!H12)} -> 0.2962814 | F12: {=IF(Data!B12=1,Data!B12,"")} | G12: {=IF(F12="","",Data!F12)} | H12: {=IF(F12="","",Data!H12)} | J12: {=IF(Data!B12=2,Data!B12,"")} | K12: {=IF(J12="","",Data!F12)} | L12: {=IF(J12="","",Data!H12)} | N12: a tak dále….
B13: {=IF(Data!B13=0,Data!B13,"")} -> 0 | C13: =IF(B13="","",Data!F13) -> 0.05601892 | D13: {=IF(B13="","",Data!H13)} -> 0.2954879 | F13: {=IF(Data!B13=1,Data!B13,"")} | G13: {=IF(F13="","",Data!F13)} | H13: {=IF(F13="","",Data!H13)} | J13: {=IF(Data!B13=2,Data!B13,"")} | K13: {=IF(J13="","",Data!F13)} | L13: {=IF(J13="","",Data!H13)}
B14: {=IF(Data!B14=0,Data!B14,"")} -> 0 | C14: =IF(B14="","",Data!F14) -> 0.05586023 | D14: {=IF(B14="","",Data!H14)} -> 0.2945357 | F14: {=IF(Data!B14=1,Data!B14,"")} | G14: {=IF(F14="","",Data!F14)} | H14: {=IF(F14="","",Data!H14)} | J14: {=IF(Data!B14=2,Data!B14,"")} | K14: {=IF(J14="","",Data!F14)} | L14: {=IF(J14="","",Data!H14)}
B15: {=IF(Data!B15=0,Data!B15,"")} -> 0 | C15: =IF(B15="","",Data!F15) -> 0.05586023 | D15: {=IF(B15="","",Data!H15)} -> 0.2935836 | F15: {=IF(Data!B15=1,Data!B15,"")} | G15: {=IF(F15="","",Data!F15)} | H15: {=IF(F15="","",Data!H15)} | J15: {=IF(Data!B15=2,Data!B15,"")} | K15: {=IF(J15="","",Data!F15)} | L15: {=IF(J15="","",Data!H15)}
B16: {=IF(Data!B16=0,Data!B16,"")} -> 0 | C16: =IF(B16="","",Data!F16) -> 0.05586023 | D16: {=IF(B16="","",Data!H16)} -> 0.2924727 | F16: {=IF(Data!B16=1,Data!B16,"")} | G16: {=IF(F16="","",Data!F16)} | H16: {=IF(F16="","",Data!H16)} | J16: {=IF(Data!B16=2,Data!B16,"")} | K16: {=IF(J16="","",Data!F16)} | L16: {=IF(J16="","",Data!H16)}
B17: {=IF(Data!B17=0,Data!B17,"")} -> 0 | C17: =IF(B17="","",Data!F17) -> 0.05586023 | D17: {=IF(B17="","",Data!H17)} -> 0.2916793 | F17: {=IF(Data!B17=1,Data!B17,"")} | G17: {=IF(F17="","",Data!F17)} | H17: {=IF(F17="","",Data!H17)} | J17: {=IF(Data!B17=2,Data!B17,"")} | K17: {=IF(J17="","",Data!F17)} | L17: {=IF(J17="","",Data!H17)}
B18: {=IF(Data!B18=0,Data!B18,"")} -> 0 | C18: =IF(B18="","",Data!F18) -> 0.05586023 | D18: {=IF(B18="","",Data!H18)} -> 0.2905684 | F18: {=IF(Data!B18=1,Data!B18,"")} | G18: {=IF(F18="","",Data!F18)} | H18: {=IF(F18="","",Data!H18)} | J18: {=IF(Data!B18=2,Data!B18,"")} | K18: {=IF(J18="","",Data!F18)} | L18: {=IF(J18="","",Data!H18)}
B19: {=IF(Data!B19=0,Data!B19,"")} -> 0 | C19: =IF(B19="","",Data!F19) -> 0.05586023 | D19: {=IF(B19="","",Data!H19)} -> 0.2897749 | F19: {=IF(Data!B19=1,Data!B19,"")} | G19: {=IF(F19="","",Data!F19)} | H19: {=IF(F19="","",Data!H19)} | J19: {=IF(Data!B19=2,Data!B19,"")} | K19: {=IF(J19="","",Data!F19)} | L19: {=IF(J19="","",Data!H19)}
B20: {=IF(Data!B20=0,Data!B20,"")} -> 0 | C20: =IF(B20="","",Data!F20) -> 0.05586023 | D20: {=IF(B20="","",Data!H20)} -> 0.288664 | F20: {=IF(Data!B20=1,Data!B20,"")} | G20: {=IF(F20="","",Data!F20)} | H20: {=IF(F20="","",Data!H20)} | J20: {=IF(Data!B20=2,Data!B20,"")} | K20: {=IF(J20="","",Data!F20)} | L20: {=IF(J20="","",Data!H20)}
B21: {=IF(Data!B21=0,Data!B21,"")} -> 0 | C21: =IF(B21="","",Data!F21) -> 0.05586023 | D21: {=IF(B21="","",Data!H21)} -> 0.2877119 | F21: {=IF(Data!B21=1,Data!B21,"")} | G21: {=IF(F21="","",Data!F21)} | H21: {=IF(F21="","",Data!H21)} | J21: {=IF(Data!B21=2,Data!B21,"")} | K21: {=IF(J21="","",Data!F21)} | L21: {=IF(J21="","",Data!H21)}
B22: {=IF(Data!B22=0,Data!B22,"")} -> 0 | C22: =IF(B22="","",Data!F22) -> 0.05586023 | D22: {=IF(B22="","",Data!H22)} -> 0.2867597 | F22: {=IF(Data!B22=1,Data!B22,"")} | G22: {=IF(F22="","",Data!F22)} | H22: {=IF(F22="","",Data!H22)} | J22: {=IF(Data!B22=2,Data!B22,"")} | K22: {=IF(J22="","",Data!F22)} | L22: {=IF(J22="","",Data!H22)}
B23: {=IF(Data!B23=0,Data!B23,"")} -> 0 | C23: =IF(B23="","",Data!F23) -> 0.05586023 | D23: {=IF(B23="","",Data!H23)} -> 0.2858076 | F23: {=IF(Data!B23=1,Data!B23,"")} | G23: {=IF(F23="","",Data!F23)} | H23: {=IF(F23="","",Data!H23)} | J23: {=IF(Data!B23=2,Data!B23,"")} | K23: {=IF(J23="","",Data!F23)} | L23: {=IF(J23="","",Data!H23)}
B24: {=IF(Data!B24=0,Data!B24,"")} -> 0 | C24: =IF(B24="","",Data!F24) -> 0.05570154 | D24: {=IF(B24="","",Data!H24)} -> 0.2848554 | F24: {=IF(Data!B24=1,Data!B24,"")} | G24: {=IF(F24="","",Data!F24)} | H24: {=IF(F24="","",Data!H24)} | J24: {=IF(Data!B24=2,Data!B24,"")} | K24: {=IF(J24="","",Data!F24)} | L24: {=IF(J24="","",Data!H24)}
... B141: {=IF(Data!B141=0,Data!B141,"")} | C141: =IF(B141="","",Data!F141) | D141: {=IF(B141="","",Data!H141)} | F141: {=IF(Data!B141=1,Data!B141,"")} | G141: {=IF(F141="","",Data!F141)} | H141: {=IF(F141="","",Data!H141)} | J141: {=IF(Data!B141=2,Data!B141,"")} | K141: {=IF(J141="","",Data!F141)} | L141: {=IF(J141="","",Data!H141)}
