Workbook

Sheet AA Seznam klientů

Sheet List1

Sheet AA vzor
D2: Tomáš
C3: Jméno | I3: Smlouva o poskytování sociální služby: | M3: NE | N3: Uzavřená dne:
D4: Navrátil | I4: Souhlas se zpracováním osobních údajů: | M4: NE | N4: Uzavřený dne:
C5: Příjmení | I5: Individuální plán, přání a cíle klienta: | M5: NE | N5: Uzavřené dne:
D6: 24.3 1987
C7: Rok nar. | I7: Individuální plán klienta | N7: Uzevřený dne (datum revize)
A16: Statistika klienta za rok 2014 | M16: Celkový přehled
A18: Měsíc | B18: Docházka | C18: Učení | D18: Počítač | E18: Hudba | F18: Hry | G18: VV | H18: Tanec | I18: Zpěv | J18: DVD | K18: Out | L18: SP | N18: Počet dnů v klubu Zvídálek | Q18: =SUM(B32) -> 0
N19: Pomoc při učení | P19: =SUM(C32) -> 0
A20: Leden | B20: =(B59) -> 0 | C20: =(C59) -> 0 | D20: =(D59) -> 0 | E20: =(E59) -> 0 | F20: =(F59) -> 0 | G20: =(G59) -> 0 | H20: =(H59) -> 0 | I20: =(I59) -> 0 | ... L20: =(L59) -> 0 | N20: Aktivita - počítač | P20: =SUM(D32) -> 0
A21: Únor | B21: =(B85) -> 0 | C21: =(C85) -> 0 | D21: =(D85) -> 0 | E21: =(E85) -> 0 | F21: =(F85) -> 0 | G21: =(G85) -> 0 | H21: =(H85) -> 0 | I21: =(I85) -> 0 | ... L21: =(L85) -> 0 | N21: Aktivita - hudba | P21: =SUM(E32) -> 0
A22: Březen | B22: =(B112) -> 0 | C22: =(C112) -> 0 | D22: =(D112) -> 0 | E22: =(E112) -> 0 | F22: =(F112) -> 0 | G22: =(G112) -> 0 | H22: =(H112) -> 0 | I22: =(I112) -> 0 | ... L22: =(L112) -> 0 | N22: Aktivita - hry | P22: =SUM(F32) -> 0
A23: Duben | B23: =(B140) -> 0 | C23: =(C140) -> 0 | D23: =(D140) -> 0 | E23: =(E140) -> 0 | F23: =(F140) -> 0 | G23: =(G140) -> 0 | H23: =(H140) -> 0 | I23: =(I140) -> 0 | ... L23: =(L140) -> 0 | N23: Aktivita - VV | P23: =SUM(G32) -> 0
A24: Květen | B24: =(B168) -> 0 | C24: =(C168) -> 0 | D24: =(D168) -> 0 | E24: =(E168) -> 0 | F24: =(F168) -> 0 | G24: =(G168) -> 0 | H24: =(H168) -> 0 | I24: =(I168) -> 0 | ... L24: =(L168) -> 0 | N24: Aktivita - tanec | P24: =SUM(H32) -> 0
A25: Červen | B25: =(B195) -> 0 | C25: =(C195) -> 0 | D25: =(D195) -> 0 | E25: =(E195) -> 0 | F25: =(F195) -> 0 | G25: =(G195) -> 0 | H25: =(H195) -> 0 | I25: =(I195) -> 0 | ... L25: =(L195) -> 0 | N25: Aktivita - zpěv | P25: =SUM(I32) -> 0
A26: Červenec | B26: =(B224) -> 0 | C26: =(C224) -> 0 | D26: =(D224) -> 0 | E26: =(E224) -> 0 | F26: =(F224) -> 0 | G26: =(G224) -> 0 | H26: =(H224) -> 0 | I26: =(I224) -> 0 | ... L26: =(L224) -> 0 | N26: Aktivita - DVD | P26: =SUM(J32) -> 0
A27: Srpen | B27: =(B251) -> 0 | C27: =(C251) -> 0 | D27: =(D251) -> 0 | E27: =(E251) -> 0 | F27: =(F251) -> 0 | G27: =(G251) -> 0 | H27: =(H251) -> 0 | I27: =(I251) -> 0 | ... L27: =(L251) -> 0 | N27: Aktivita - out | P27: =SUM(K32) -> 0
A28: Září | B28: =(B279) -> 0 | C28: =(C279) -> 0 | D28: =(D279) -> 0 | E28: =(E279) -> 0 | F28: =(F279) -> 0 | G28: =(G279) -> 0 | H28: =(H279) -> 0 | I28: =(I279) -> 0 | ... L28: =(L279) -> 0 | N28: Komunikace se SP | P28: =SUM(L32) -> 0
A29: Říjen | B29: =(B308) -> 0 | C29: =(C308) -> 0 | D29: =(D308) -> 0 | E29: =(E308) -> 0 | F29: =(F308) -> 0 | G29: =(G308) -> 0 | H29: =(H308) -> 0 | I29: =(I308) -> 0 | ... L29: =(L308) -> 0
A30: Listopad | B30: =(B334) -> 0 | C30: =(C334) -> 0 | D30: =(D334) -> 0 | E30: =(E334) -> 0 | F30: =(F334) -> 0 | G30: =(G334) -> 0 | H30: =(H334) -> 0 | I30: =(I334) -> 0 | ... L30: =(L334) -> 0
A31: Prosinec | B31: =(B363) -> 0 | C31: =(C363) -> 0 | D31: =(D363) -> 0 | E31: =(E363) -> 0 | F31: =(F363) -> 0 | G31: =(G363) -> 0 | H31: =(H363) -> 0 | I31: =(I363) -> 0 | ... L31: =(L363) -> 0
A32: Celkem | B32: =SUM(B20:B31) -> 0 | C32: =SUM(C20:C31) -> 0 | D32: =SUM(D20:D31) -> 0 | E32: =SUM(E20:E31) -> 0 | F32: =SUM(F20:F31) -> 0 | G32: =SUM(G20:G31) -> 0 | H32: =SUM(H20:H31) -> 0 | I32: =SUM(I20:I31) -> 0 | ... L32: =SUM(L20:L31) -> 0
A36: Leden - 2014
A38: Datum | B38: Docházka | C38: Učení | D38: Počítač | E38: Hudba | F38: Hry | G38: VV | H38: Tanec | I38: Zpěv | J38: DVD | K38: Out | L38: SP | M38: pochvaly / pokárání
A40: 41645
A41: 41646
A42: 41647
A43: 41648
A44: 41649
A45: 41652
A46: 41653
A47: 41654
A48: 41655
A49: 41656
A50: 41659
A51: 41660
... A58: 41669
A59: Celkem | B59: =SUM(B40:B58) -> 0 | C59: =SUM(C40:C58) -> 0 | D59: =SUM(D40:D58) -> 0 | E59: =SUM(E40:E58) -> 0 | F59: =SUM(F40:F58) -> 0 | G59: =SUM(G40:G58) -> 0 | H59: =SUM(H40:H58) -> 0 | I59: =SUM(I40:I58) -> 0 | ... L59: =SUM(L40:L58) -> 0
A61: Únor - 2014
A63: Datum | B63: Docházka | C63: Učení | D63: Počítač | E63: Hudba | F63: Hry | G63: VV | H63: Tanec | I63: Zpěv | J63: DVD | K63: Out | L63: SP | M63: pochvaly / pokárání
A65: 41673
A66: 41674
A67: 41675
A68: 41676
A69: 41677
A70: 41680
A71: 41681
A72: 41682
A73: 41683
A74: 41684
A75: 41687
A76: 41688
... A84: 41698
A85: Celkem | B85: =SUM(B65:B84) -> 0 | C85: =SUM(C65:C84) -> 0 | D85: =SUM(D65:D84) -> 0 | E85: =SUM(E65:E84) -> 0 | F85: =SUM(F65:F84) -> 0 | G85: =SUM(G65:G84) -> 0 | H85: =SUM(H65:H84) -> 0 | I85: =SUM(I65:I84) -> 0 | ... L85: =SUM(L65:L84) -> 0
A87: Březen - 2014
A89: Datum | B89: Docházka | C89: Učení | D89: Počítač | E89: Hudba | F89: Hry | G89: VV | H89: Tanec | I89: Zpěv | J89: DVD | K89: Out | L89: SP | M89: pochvaly / pokárání
A91: 41701
A92: 41702
A93: 41703
A94: 41704
A95: 41705
A96: 41708
A97: 41709
A98: 41710
A99: 41711
A100: 41712
A101: 41715
A102: 41716
... A111: 41729
A112: Celkem | B112: =SUM(B91:B111) -> 0 | C112: =SUM(C91:C111) -> 0 | D112: =SUM(D91:D111) -> 0 | E112: =SUM(E91:E111) -> 0 | F112: =SUM(F91:F111) -> 0 | G112: =SUM(G91:G111) -> 0 | H112: =SUM(H91:H111) -> 0 | I112: =SUM(I91:I111) -> 0 | ... L112: =SUM(L91:L111) -> 0
A114: Duben - 2014
A116: Datum | B116: Docházka | C116: Učení | D116: Počítač | E116: Hudba | F116: Hry | G116: VV | H116: Tanec | I116: Zpěv | J116: DVD | K116: Out | L116: SP | M116: pochvaly / pokárání
A118: 41730
A119: 41731
A120: 41732
A121: 41733
A122: 41736
A123: 41737
A124: 41738
A125: 41739
A126: 41740
A127: 41743
A128: 41744
A129: 41745
... A139: 41759
A140: Celkem | B140: =SUM(B118:B139) -> 0 | C140: =SUM(C118:C139) -> 0 | D140: =SUM(D118:D139) -> 0 | E140: =SUM(E118:E139) -> 0 | F140: =SUM(F118:F139) -> 0 | G140: =SUM(G118:G139) -> 0 | H140: =SUM(H118:H139) -> 0 | I140: =SUM(I118:I139) -> 0 | ... L140: =SUM(L118:L139) -> 0
A142: Květen - 2014
A144: Datum | B144: Docházka | C144: Učení | D144: Počítač | E144: Hudba | F144: Hry | G144: VV | H144: Tanec | I144: Zpěv | J144: DVD | K144: Out | L144: SP | M144: pochvaly / pokárání
A146: 41760
A147: 41761
A148: 41764
A149: 41765
A150: 41766
A151: 41767
A152: 41768
A153: 41771
A154: 41772
A155: 41773
A156: 41774
A157: 41775
...

Sheet Adam Baláž
D2: Adam
C3: Jméno | I3: Smlouva o poskytování sociální služby: | M3: NE | N3: Uzavřená dne:
D4: Baláž | I4: Souhlas se zpracováním osobních údajů: | M4: NE | N4: Uzavřený dne:
C5: Příjmení | I5: Individuální plán, přání a cíle klienta: | M5: NE | N5: Uzavřené dne:
C7: Rok nar. | I7: Individuální plán klienta | N7: Uzevřený dne (datum revize)
A16: Statistika klienta za rok 2014 | M16: Celkový přehled
A18: Měsíc | B18: Docházka | C18: Učení | D18: Počítač | E18: Hudba | F18: Hry | G18: VV | H18: Tanec | I18: Zpěv | J18: DVD | K18: Out | L18: SP | N18: Počet dnů v klubu Zvídálek | Q18: =SUM(B32) -> 83
N19: Pomoc při učení | P19: =SUM(C32) -> 0
A20: Leden | B20: =(B59) -> 14 | C20: =(C59) -> 0 | D20: =(D59) -> 11 | E20: =(E59) -> 10 | F20: =(F59) -> 11 | G20: =(G59) -> 7 | H20: =(H59) -> 1 | I20: =(I59) -> 0 | ... L20: =(L59) -> 0 | N20: Aktivita - počítač | P20: =SUM(D32) -> 55
A21: Únor | B21: =(B85) -> 18 | C21: =(C85) -> 0 | D21: =(D85) -> 14 | E21: =(E85) -> 14 | F21: =(F85) -> 16 | G21: =(G85) -> 9 | H21: =(H85) -> 1 | I21: =(I85) -> 1 | ... L21: =(L85) -> 0 | N21: Aktivita - hudba | P21: =SUM(E32) -> 43
A22: Březen | B22: =(B112) -> 13 | C22: =(C112) -> 0 | D22: =(D112) -> 9 | E22: =(E112) -> 6 | F22: =(F112) -> 9 | G22: =(G112) -> 2 | H22: =(H112) -> 0 | I22: =(I112) -> 0 | ... L22: =(L112) -> 0 | N22: Aktivita - hry | P22: =SUM(F32) -> 62
A23: Duben | B23: =(B140) -> 6 | C23: =(C140) -> 0 | D23: =(D140) -> 6 | E23: =(E140) -> 4 | F23: =(F140) -> 4 | G23: =(G140) -> 2 | H23: =(H140) -> 1 | I23: =(I140) -> 0 | ... L23: =(L140) -> 0 | N23: Aktivita - VV | P23: =SUM(G32) -> 25
A24: Květen | B24: =(B168) -> 6 | C24: =(C168) -> 0 | D24: =(D168) -> 1 | E24: =(E168) -> 2 | F24: =(F168) -> 6 | G24: =(G168) -> 2 | H24: =(H168) -> 0 | I24: =(I168) -> 0 | ... L24: =(L168) -> 0 | N24: Aktivita - tanec | P24: =SUM(H32) -> 3
A25: Červen | B25: =(B195) -> 11 | C25: =(C195) -> 0 | D25: =(D195) -> 7 | E25: =(E195) -> 4 | F25: =(F195) -> 8 | G25: =(G195) -> 1 | H25: =(H195) -> 0 | I25: =(I195) -> 0 | ... L25: =(L195) -> 0 | N25: Aktivita - zpěv | P25: =SUM(I32) -> 1
A26: Červenec | B26: =(B224) -> 8 | C26: =(C224) -> 0 | D26: =(D224) -> 3 | E26: =(E224) -> 2 | F26: =(F224) -> 2 | G26: =(G224) -> 2 | H26: =(H224) -> 0 | I26: =(I224) -> 0 | ... L26: =(L224) -> 0 | N26: Aktivita - DVD | P26: =SUM(J32) -> 9
A27: Srpen | B27: =(B251) -> 7 | C27: =(C251) -> 0 | D27: =(D251) -> 4 | E27: =(E251) -> 1 | F27: =(F251) -> 6 | G27: =(G251) -> 0 | H27: =(H251) -> 0 | I27: =(I251) -> 0 | ... L27: =(L251) -> 0 | N27: Aktivita - out | P27: =SUM(K32) -> 14
A28: Září | B28: =(B279) -> 0 | C28: =(C279) -> 0 | D28: =(D279) -> 0 | E28: =(E279) -> 0 | F28: =(F279) -> 0 | G28: =(G279) -> 0 | H28: =(H279) -> 0 | I28: =(I279) -> 0 | ... L28: =(L279) -> 0 | N28: Komunikace se SP | P28: =SUM(L32) -> 0
A29: Říjen | B29: =(B308) -> 0 | C29: =(C308) -> 0 | D29: =(D308) -> 0 | E29: =(E308) -> 0 | F29: =(F308) -> 0 | G29: =(G308) -> 0 | H29: =(H308) -> 0 | I29: =(I308) -> 0 | ... L29: =(L308) -> 0
A30: Listopad | B30: =(B334) -> 0 | C30: =(C334) -> 0 | D30: =(D334) -> 0 | E30: =(E334) -> 0 | F30: =(F334) -> 0 | G30: =(G334) -> 0 | H30: =(H334) -> 0 | I30: =(I334) -> 0 | ... L30: =(L334) -> 0
A31: Prosinec | B31: =(B363) -> 0 | C31: =(C363) -> 0 | D31: =(D363) -> 0 | E31: =(E363) -> 0 | F31: =(F363) -> 0 | G31: =(G363) -> 0 | H31: =(H363) -> 0 | I31: =(I363) -> 0 | ... L31: =(L363) -> 0
A32: Celkem | B32: =SUM(B20:B31) -> 83 | C32: =SUM(C20:C31) -> 0 | D32: =SUM(D20:D31) -> 55 | E32: =SUM(E20:E31) -> 43 | F32: =SUM(F20:F31) -> 62 | G32: =SUM(G20:G31) -> 25 | H32: =SUM(H20:H31) -> 3 | I32: =SUM(I20:I31) -> 1 | ... L32: =SUM(L20:L31) -> 0
A36: Leden - 2014
A38: Datum | B38: Docházka | C38: Učení | D38: Počítač | E38: Hudba | F38: Hry | G38: VV | H38: Tanec | I38: Zpěv | J38: DVD | K38: Out | L38: SP | M38: pochvaly / pokárání
A40: 41645
A41: 41646 | B41: 1 | D41: 1 | E41: 1 | F41: 1 | G41: 1
A42: 41647
A43: 41648 | B43: 1 | D43: 1 | E43: 1 | F43: 1 | G43: 1
A44: 41649 | B44: 1 | D44: 1 | E44: 1 | F44: 1
A45: 41652
A46: 41653 | B46: 1 | D46: 1 | F46: 1 | G46: 1
A47: 41654
A48: 41655 | B48: 1 | D48: 1 | E48: 1 | F48: 1 | G48: 1
A49: 41656
A50: 41659 | B50: 1 | D50: 1 | E50: 1 | F50: 1
A51: 41660 | B51: 1 | D51: 1 | E51: 1
A52: 41661 | B52: 1 | D52: 1 | E52: 1 | F52: 1 | G52: 1
A53: 41662 | B53: 1 | D53: 1 | F53: 1
A54: 41663 | B54: 1 | D54: 1 | H54: 1 | J54: 1
A55: 41666 | B55: 1 | E55: 1
A56: 41667 | B56: 1 | E56: 1 | F56: 1
A57: 41668 | B57: 1 | D57: 1 | F57: 1 | G57: 1
A58: 41669 | B58: 1 | E58: 1 | F58: 1 | G58: 1
A59: Celkem | B59: =SUM(B40:B58) -> 14 | C59: =SUM(C40:C58) -> 0 | D59: =SUM(D40:D58) -> 11 | E59: =SUM(E40:E58) -> 10 | F59: =SUM(F40:F58) -> 11 | G59: =SUM(G40:G58) -> 7 | H59: =SUM(H40:H58) -> 1 | I59: =SUM(I40:I58) -> 0 | ... L59: =SUM(L40:L58) -> 0
A61: Únor - 2014
A63: Datum | B63: Docházka | C63: Učení | D63: Počítač | E63: Hudba | F63: Hry | G63: VV | H63: Tanec | I63: Zpěv | J63: DVD | K63: Out | L63: SP | M63: pochvaly / pokárání
A65: 41673 | B65: 1 | E65: 1 | F65: 1 | G65: 1
A66: 41674 | B66: 1 | D66: 1 | E66: 1 | F66: 1 | G66: 1
A67: 41675 | B67: 1 | D67: 1 | E67: 1 | F67: 1 | J67: 1
A68: 41676 | B68: 1 | F68: 1
A69: 41677
A70: 41680 | B70: 1 | D70: 1 | F70: 1 | G70: 1 | H70: 1 | J70: 1
A71: 41681 | B71: 1 | D71: 1 | F71: 1 | J71: 1
A72: 41682 | B72: 1 | D72: 1 | E72: 1 | F72: 1 | G72: 1 | I72: 1
A73: 41683 | B73: 1 | D73: 1 | E73: 1 | F73: 1 | G73: 1
A74: 41684 | B74: 1 | D74: 1 | E74: 1 | F74: 1 | G74: 1
A75: 41687 | B75: 1 | D75: 1 | E75: 1 | F75: 1
A76: 41688 | B76: 1 | D76: 1 | E76: 1 | F76: 1 | K76: 1
A77: 41689 | B77: 1 | E77: 1 | F77: 1 | J77: 1
A78: 41690 | B78: 1 | D78: 1 | E78: 1 | G78: 1
A79: 41691 | B79: 1 | D79: 1 | E79: 1 | F79: 1 | G79: 1
A80: 41694 | B80: 1 | D80: 1 | G80: 1
A81: 41695 | B81: 1 | D81: 1 | E81: 1 | F81: 1
A82: 41696 | B82: 1 | E82: 1 | F82: 1
A83: 41697 | B83: 1 | D83: 1 | E83: 1 | F83: 1
A84: 41698
A85: Celkem | B85: =SUM(B65:B84) -> 18 | C85: =SUM(C65:C84) -> 0 | D85: =SUM(D65:D84) -> 14 | E85: =SUM(E65:E84) -> 14 | F85: =SUM(F65:F84) -> 16 | G85: =SUM(G65:G84) -> 9 | H85: =SUM(H65:H84) -> 1 | I85: =SUM(I65:I84) -> 1 | ... L85: =SUM(L65:L84) -> 0
A87: Březen - 2014
A89: Datum | B89: Docházka | C89: Učení | D89: Počítač | E89: Hudba | F89: Hry | G89: VV | H89: Tanec | I89: Zpěv | J89: DVD | K89: Out | L89: SP | M89: pochvaly / pokárání
A91: 41701 | B91: 1 | D91: 1 | E91: 1
A92: 41702 | B92: 1 | D92: 1
A93: 41703 | B93: 1 | F93: 1 | G93: 1
A94: 41704 | B94: 1 | F94: 1 | G94: 1
A95: 41705 | B95: 1 | D95: 1 | E95: 1 | F95: 1
A96: 41708
A97: 41709
A98: 41710
A99: 41711 | B99: 1 | D99: 1 | F99: 1
A100: 41712
A101: 41715
A102: 41716 | B102: 1 | D102: 1 | F102: 1
A103: 41717
A104: 41718
A105: 41719 | B105: 1 | D105: 1 | E105: 1
A106: 41722 | B106: 1 | F106: 1
A107: 41723 | B107: 1 | D107: 1 | F107: 1 | J107: 1
A108: 41724 | B108: 1 | E108: 1 | F108: 1
A109: 41725 | B109: 1 | D109: 1 | E109: 1 | F109: 1
A110: 41726 | B110: 1 | D110: 1 | E110: 1
A111: 41729
A112: Celkem | B112: =SUM(B91:B111) -> 13 | C112: =SUM(C91:C111) -> 0 | D112: =SUM(D91:D111) -> 9 | E112: =SUM(E91:E111) -> 6 | F112: =SUM(F91:F111) -> 9 | G112: =SUM(G91:G111) -> 2 | H112: =SUM(H91:H111) -> 0 | I112: =SUM(I91:I111) -> 0 | ... L112: =SUM(L91:L111) -> 0
A114: Duben - 2014
A116: Datum | B116: Docházka | C116: Učení | D116: Počítač | E116: Hudba | F116: Hry | G116: VV | H116: Tanec | I116: Zpěv | J116: DVD | K116: Out | L116: SP | M116: pochvaly / pokárání
A118: 41730
A119: 41731
A120: 41732
A121: 41733 | B121: 1 | D121: 1 | E121: 1 | F121: 1
A122: 41736 | B122: 1 | D122: 1 | K122: 1
A123: 41737 | B123: 1 | D123: 1 | G123: 1
A124: 41738
A125: 41739
...

Sheet Adrian Kotlár
D2: Adrian
C3: Jméno | I3: Smlouva o poskytování sociální služby: | M3: NE | N3: Uzavřená dne:
D4: Kotlár | I4: Souhlas se zpracováním osobních údajů: | M4: NE | N4: Uzavřený dne:
C5: Příjmení | I5: Individuální plán, přání a cíle klienta: | M5: NE | N5: Uzavřené dne:
C7: Rok nar. | I7: Individuální plán klienta | N7: Uzevřený dne (datum revize)
A16: Statistika klienta za rok 2014 | M16: Celkový přehled
A18: Měsíc | B18: Docházka | C18: Učení | D18: Počítač | E18: Hudba | F18: Hry | G18: VV | H18: Tanec | I18: Zpěv | J18: DVD | K18: Out | L18: SP | N18: Počet dnů v klubu Zvídálek | Q18: =SUM(B32) -> 11
N19: Pomoc při učení | P19: =SUM(C32) -> 0
A20: Leden | B20: =(B59) -> 11 | C20: =(C59) -> 0 | D20: =(D59) -> 8 | E20: =(E59) -> 8 | F20: =(F59) -> 8 | G20: =(G59) -> 3 | H20: =(H59) -> 1 | I20: =(I59) -> 0 | ... L20: =(L59) -> 0 | N20: Aktivita - počítač | P20: =SUM(D32) -> 8
A21: Únor | B21: =(B85) -> 0 | C21: =(C85) -> 0 | D21: =(D85) -> 0 | E21: =(E85) -> 0 | F21: =(F85) -> 0 | G21: =(G85) -> 0 | H21: =(H85) -> 0 | I21: =(I85) -> 0 | ... L21: =(L85) -> 0 | N21: Aktivita - hudba | P21: =SUM(E32) -> 8
A22: Březen | B22: =(B112) -> 0 | C22: =(C112) -> 0 | D22: =(D112) -> 0 | E22: =(E112) -> 0 | F22: =(F112) -> 0 | G22: =(G112) -> 0 | H22: =(H112) -> 0 | I22: =(I112) -> 0 | ... L22: =(L112) -> 0 | N22: Aktivita - hry | P22: =SUM(F32) -> 8
A23: Duben | B23: =(B140) -> 0 | C23: =(C140) -> 0 | D23: =(D140) -> 0 | E23: =(E140) -> 0 | F23: =(F140) -> 0 | G23: =(G140) -> 0 | H23: =(H140) -> 0 | I23: =(I140) -> 0 | ... L23: =(L140) -> 0 | N23: Aktivita - VV | P23: =SUM(G32) -> 3
A24: Květen | B24: =(B168) -> 0 | C24: =(C168) -> 0 | D24: =(D168) -> 0 | E24: =(E168) -> 0 | F24: =(F168) -> 0 | G24: =(G168) -> 0 | H24: =(H168) -> 0 | I24: =(I168) -> 0 | ... L24: =(L168) -> 0 | N24: Aktivita - tanec | P24: =SUM(H32) -> 1
A25: Červen | B25: =(B195) -> 0 | C25: =(C195) -> 0 | D25: =(D195) -> 0 | E25: =(E195) -> 0 | F25: =(F195) -> 0 | G25: =(G195) -> 0 | H25: =(H195) -> 0 | I25: =(I195) -> 0 | ... L25: =(L195) -> 0 | N25: Aktivita - zpěv | P25: =SUM(I32) -> 0
A26: Červenec | B26: =(B224) -> 0 | C26: =(C224) -> 0 | D26: =(D224) -> 0 | E26: =(E224) -> 0 | F26: =(F224) -> 0 | G26: =(G224) -> 0 | H26: =(H224) -> 0 | I26: =(I224) -> 0 | ... L26: =(L224) -> 0 | N26: Aktivita - DVD | P26: =SUM(J32) -> 1
A27: Srpen | B27: =(B251) -> 0 | C27: =(C251) -> 0 | D27: =(D251) -> 0 | E27: =(E251) -> 0 | F27: =(F251) -> 0 | G27: =(G251) -> 0 | H27: =(H251) -> 0 | I27: =(I251) -> 0 | ... L27: =(L251) -> 0 | N27: Aktivita - out | P27: =SUM(K32) -> 0
A28: Září | B28: =(B279) -> 0 | C28: =(C279) -> 0 | D28: =(D279) -> 0 | E28: =(E279) -> 0 | F28: =(F279) -> 0 | G28: =(G279) -> 0 | H28: =(H279) -> 0 | I28: =(I279) -> 0 | ... L28: =(L279) -> 0 | N28: Komunikace se SP | P28: =SUM(L32) -> 0
A29: Říjen | B29: =(B308) -> 0 | C29: =(C308) -> 0 | D29: =(D308) -> 0 | E29: =(E308) -> 0 | F29: =(F308) -> 0 | G29: =(G308) -> 0 | H29: =(H308) -> 0 | I29: =(I308) -> 0 | ... L29: =(L308) -> 0
A30: Listopad | B30: =(B334) -> 0 | C30: =(C334) -> 0 | D30: =(D334) -> 0 | E30: =(E334) -> 0 | F30: =(F334) -> 0 | G30: =(G334) -> 0 | H30: =(H334) -> 0 | I30: =(I334) -> 0 | ... L30: =(L334) -> 0
A31: Prosinec | B31: =(B363) -> 0 | C31: =(C363) -> 0 | D31: =(D363) -> 0 | E31: =(E363) -> 0 | F31: =(F363) -> 0 | G31: =(G363) -> 0 | H31: =(H363) -> 0 | I31: =(I363) -> 0 | ... L31: =(L363) -> 0
A32: Celkem | B32: =SUM(B20:B31) -> 11 | C32: =SUM(C20:C31) -> 0 | D32: =SUM(D20:D31) -> 8 | E32: =SUM(E20:E31) -> 8 | F32: =SUM(F20:F31) -> 8 | G32: =SUM(G20:G31) -> 3 | H32: =SUM(H20:H31) -> 1 | I32: =SUM(I20:I31) -> 0 | ... L32: =SUM(L20:L31) -> 0
A36: Leden - 2014
A38: Datum | B38: Docházka | C38: Učení | D38: Počítač | E38: Hudba | F38: Hry | G38: VV | H38: Tanec | I38: Zpěv | J38: DVD | K38: Out | L38: SP | M38: pochvaly / pokárání
A40: 41645
A41: 41646
A42: 41647
A43: 41648 | B43: 1 | D43: 1 | E43: 1 | F43: 1 | G43: 1
A44: 41649 | B44: 1 | D44: 1 | F44: 1
A45: 41652 | B45: 1 | D45: 1 | F45: 1
A46: 41653 | B46: 1 | D46: 1 | E46: 1 | F46: 1 | G46: 1
A47: 41654
A48: 41655 | B48: 1 | D48: 1 | E48: 1 | F48: 1 | H48: 1
A49: 41656 | B49: 1 | D49: 1 | E49: 1 | F49: 1
A50: 41659
A51: 41660
A52: 41661
A53: 41662 | B53: 1 | E53: 1
A54: 41663
A55: 41666 | B55: 1 | E55: 1
A56: 41667 | B56: 1 | E56: 1
A57: 41668 | B57: 1 | D57: 1 | E57: 1 | F57: 1
A58: 41669 | B58: 1 | D58: 1 | F58: 1 | G58: 1 | J58: 1
A59: Celkem | B59: =SUM(B40:B58) -> 11 | C59: =SUM(C40:C58) -> 0 | D59: =SUM(D40:D58) -> 8 | E59: =SUM(E40:E58) -> 8 | F59: =SUM(F40:F58) -> 8 | G59: =SUM(G40:G58) -> 3 | H59: =SUM(H40:H58) -> 1 | I59: =SUM(I40:I58) -> 0 | ... L59: =SUM(L40:L58) -> 0
A61: Únor - 2014
A63: Datum | B63: Docházka | C63: Učení | D63: Počítač | E63: Hudba | F63: Hry | G63: VV | H63: Tanec | I63: Zpěv | J63: DVD | K63: Out | L63: SP | M63: pochvaly / pokárání
A65: 41673
A66: 41674
A67: 41675
A68: 41676
A69: 41677
A70: 41680
A71: 41681
A72: 41682
A73: 41683
A74: 41684
A75: 41687
A76: 41688
... A84: 41698
A85: Celkem | B85: =SUM(B65:B84) -> 0 | C85: =SUM(C65:C84) -> 0 | D85: =SUM(D65:D84) -> 0 | E85: =SUM(E65:E84) -> 0 | F85: =SUM(F65:F84) -> 0 | G85: =SUM(G65:G84) -> 0 | H85: =SUM(H65:H84) -> 0 | I85: =SUM(I65:I84) -> 0 | ... L85: =SUM(L65:L84) -> 0
A87: Březen - 2014
A89: Datum | B89: Docházka | C89: Učení | D89: Počítač | E89: Hudba | F89: Hry | G89: VV | H89: Tanec | I89: Zpěv | J89: DVD | K89: Out | L89: SP | M89: pochvaly / pokárání
A91: 41701
A92: 41702
A93: 41703
A94: 41704
A95: 41705
A96: 41708
A97: 41709
A98: 41710
A99: 41711
A100: 41712
A101: 41715
A102: 41716
... A111: 41729
A112: Celkem | B112: =SUM(B91:B111) -> 0 | C112: =SUM(C91:C111) -> 0 | D112: =SUM(D91:D111) -> 0 | E112: =SUM(E91:E111) -> 0 | F112: =SUM(F91:F111) -> 0 | G112: =SUM(G91:G111) -> 0 | H112: =SUM(H91:H111) -> 0 | I112: =SUM(I91:I111) -> 0 | ... L112: =SUM(L91:L111) -> 0
A114: Duben - 2014
A116: Datum | B116: Docházka | C116: Učení | D116: Počítač | E116: Hudba | F116: Hry | G116: VV | H116: Tanec | I116: Zpěv | J116: DVD | K116: Out | L116: SP | M116: pochvaly / pokárání
A118: 41730
A119: 41731
A120: 41732
A121: 41733
A122: 41736
A123: 41737
A124: 41738
A125: 41739
A126: 41740
A127: 41743
A128: 41744
A129: 41745
... A139: 41759
A140: Celkem | B140: =SUM(B118:B139) -> 0 | C140: =SUM(C118:C139) -> 0 | D140: =SUM(D118:D139) -> 0 | E140: =SUM(E118:E139) -> 0 | F140: =SUM(F118:F139) -> 0 | G140: =SUM(G118:G139) -> 0 | H140: =SUM(H118:H139) -> 0 | I140: =SUM(I118:I139) -> 0 | ... L140: =SUM(L118:L139) -> 0
A142: Květen - 2014
A144: Datum | B144: Docházka | C144: Učení | D144: Počítač | E144: Hudba | F144: Hry | G144: VV | H144: Tanec | I144: Zpěv | J144: DVD | K144: Out | L144: SP | M144: pochvaly / pokárání
A146: 41760
A147: 41761
A148: 41764
A149: 41765
A150: 41766
A151: 41767
A152: 41768
...

Sheet Alena Balážová
D2: Alena
C3: Jméno | I3: Smlouva o poskytování sociální služby: | M3: NE | N3: Uzavřená dne:
D4: Balážová | I4: Souhlas se zpracováním osobních údajů: | M4: NE | N4: Uzavřený dne:
C5: Příjmení | I5: Individuální plán, přání a cíle klienta: | M5: NE | N5: Uzavřené dne:
C7: Rok nar. | I7: Individuální plán klienta | N7: Uzevřený dne (datum revize)
A16: Statistika klienta za rok 2014 | M16: Celkový přehled
A18: Měsíc | B18: Docházka | C18: Učení | D18: Počítač | E18: Hudba | F18: Hry | G18: VV | H18: Tanec | I18: Zpěv | J18: DVD | K18: Out | L18: SP | N18: Počet dnů v klubu Zvídálek | Q18: =SUM(B32) -> 99
N19: Pomoc při učení | P19: =SUM(C32) -> 0
A20: Leden | B20: =(B59) -> 13 | C20: =(C59) -> 0 | D20: =(D59) -> 12 | E20: =(E59) -> 13 | F20: =(F59) -> 5 | G20: =(G59) -> 3 | H20: =(H59) -> 0 | I20: =(I59) -> 0 | ... L20: =(L59) -> 0 | N20: Aktivita - počítač | P20: =SUM(D32) -> 67
A21: Únor | B21: =(B85) -> 17 | C21: =(C85) -> 0 | D21: =(D85) -> 16 | E21: =(E85) -> 16 | F21: =(F85) -> 2 | G21: =(G85) -> 3 | H21: =(H85) -> 4 | I21: =(I85) -> 0 | ... L21: =(L85) -> 0 | N21: Aktivita - hudba | P21: =SUM(E32) -> 85
A22: Březen | B22: =(B112) -> 15 | C22: =(C112) -> 0 | D22: =(D112) -> 9 | E22: =(E112) -> 14 | F22: =(F112) -> 1 | G22: =(G112) -> 1 | H22: =(H112) -> 1 | I22: =(I112) -> 0 | ... L22: =(L112) -> 0 | N22: Aktivita - hry | P22: =SUM(F32) -> 16
A23: Duben | B23: =(B140) -> 13 | C23: =(C140) -> 0 | D23: =(D140) -> 6 | E23: =(E140) -> 11 | F23: =(F140) -> 3 | G23: =(G140) -> 1 | H23: =(H140) -> 0 | I23: =(I140) -> 0 | ... L23: =(L140) -> 0 | N23: Aktivita - VV | P23: =SUM(G32) -> 10
A24: Květen | B24: =(B168) -> 8 | C24: =(C168) -> 0 | D24: =(D168) -> 8 | E24: =(E168) -> 8 | F24: =(F168) -> 1 | G24: =(G168) -> 0 | H24: =(H168) -> 0 | I24: =(I168) -> 0 | ... L24: =(L168) -> 0 | N24: Aktivita - tanec | P24: =SUM(H32) -> 6
A25: Červen | B25: =(B195) -> 13 | C25: =(C195) -> 0 | D25: =(D195) -> 6 | E25: =(E195) -> 11 | F25: =(F195) -> 3 | G25: =(G195) -> 1 | H25: =(H195) -> 0 | I25: =(I195) -> 0 | ... L25: =(L195) -> 0 | N25: Aktivita - zpěv | P25: =SUM(I32) -> 0
A26: Červenec | B26: =(B224) -> 9 | C26: =(C224) -> 0 | D26: =(D224) -> 4 | E26: =(E224) -> 5 | F26: =(F224) -> 0 | G26: =(G224) -> 0 | H26: =(H224) -> 0 | I26: =(I224) -> 0 | ... L26: =(L224) -> 0 | N26: Aktivita - DVD | P26: =SUM(J32) -> 3
A27: Srpen | B27: =(B251) -> 11 | C27: =(C251) -> 0 | D27: =(D251) -> 6 | E27: =(E251) -> 7 | F27: =(F251) -> 1 | G27: =(G251) -> 1 | H27: =(H251) -> 1 | I27: =(I251) -> 0 | ... L27: =(L251) -> 0 | N27: Aktivita - out | P27: =SUM(K32) -> 4
A28: Září | B28: =(B279) -> 0 | C28: =(C279) -> 0 | D28: =(D279) -> 0 | E28: =(E279) -> 0 | F28: =(F279) -> 0 | G28: =(G279) -> 0 | H28: =(H279) -> 0 | I28: =(I279) -> 0 | ... L28: =(L279) -> 0 | N28: Komunikace se SP | P28: =SUM(L32) -> 0
A29: Říjen | B29: =(B308) -> 0 | C29: =(C308) -> 0 | D29: =(D308) -> 0 | E29: =(E308) -> 0 | F29: =(F308) -> 0 | G29: =(G308) -> 0 | H29: =(H308) -> 0 | I29: =(I308) -> 0 | ... L29: =(L308) -> 0
A30: Listopad | B30: =(B334) -> 0 | C30: =(C334) -> 0 | D30: =(D334) -> 0 | E30: =(E334) -> 0 | F30: =(F334) -> 0 | G30: =(G334) -> 0 | H30: =(H334) -> 0 | I30: =(I334) -> 0 | ... L30: =(L334) -> 0
A31: Prosinec | B31: =(B363) -> 0 | C31: =(C363) -> 0 | D31: =(D363) -> 0 | E31: =(E363) -> 0 | F31: =(F363) -> 0 | G31: =(G363) -> 0 | H31: =(H363) -> 0 | I31: =(I363) -> 0 | ... L31: =(L363) -> 0
A32: Celkem | B32: =SUM(B20:B31) -> 99 | C32: =SUM(C20:C31) -> 0 | D32: =SUM(D20:D31) -> 67 | E32: =SUM(E20:E31) -> 85 | F32: =SUM(F20:F31) -> 16 | G32: =SUM(G20:G31) -> 10 | H32: =SUM(H20:H31) -> 6 | I32: =SUM(I20:I31) -> 0 | ... L32: =SUM(L20:L31) -> 0
A36: Leden - 2014
A38: Datum | B38: Docházka | C38: Učení | D38: Počítač | E38: Hudba | F38: Hry | G38: VV | H38: Tanec | I38: Zpěv | J38: DVD | K38: Out | L38: SP | M38: pochvaly / pokárání
A40: 41645
A41: 41646
A42: 41647
A43: 41648 | B43: 1 | D43: 1 | E43: 1 | F43: 1 | G43: 1
A44: 41649 | B44: 1 | D44: 1 | E44: 1 | F44: 1
A45: 41652 | B45: 1 | E45: 1
A46: 41653 | B46: 1 | D46: 1 | E46: 1 | G46: 1
A47: 41654
A48: 41655 | B48: 1 | D48: 1 | E48: 1
A49: 41656 | B49: 1 | D49: 1 | E49: 1 | G49: 1
A50: 41659 | B50: 1 | D50: 1 | E50: 1 | F50: 1
A51: 41660 | B51: 1 | D51: 1 | E51: 1
A52: 41661
A53: 41662 | B53: 1 | D53: 1 | E53: 1
A54: 41663 | B54: 1 | D54: 1 | E54: 1
A55: 41666 | B55: 1 | D55: 1 | E55: 1
A56: 41667 | B56: 1 | D56: 1 | E56: 1 | F56: 1
A57: 41668 | B57: 1 | D57: 1 | E57: 1 | F57: 1
A58: 41669
A59: Celkem | B59: =SUM(B40:B58) -> 13 | C59: =SUM(C40:C58) -> 0 | D59: =SUM(D40:D58) -> 12 | E59: =SUM(E40:E58) -> 13 | F59: =SUM(F40:F58) -> 5 | G59: =SUM(G40:G58) -> 3 | H59: =SUM(H40:H58) -> 0 | I59: =SUM(I40:I58) -> 0 | ... L59: =SUM(L40:L58) -> 0
A61: Únor - 2014
A63: Datum | B63: Docházka | C63: Učení | D63: Počítač | E63: Hudba | F63: Hry | G63: VV | H63: Tanec | I63: Zpěv | J63: DVD | K63: Out | L63: SP | M63: pochvaly / pokárání
A65: 41673
A66: 41674 | B66: 1 | D66: 1 | F66: 1
A67: 41675 | B67: 1 | D67: 1 | E67: 1 | G67: 1
A68: 41676 | B68: 1 | D68: 1 | E68: 1
A69: 41677 | B69: 1 | D69: 1 | E69: 1
A70: 41680 | B70: 1 | D70: 1 | E70: 1
A71: 41681 | B71: 1 | D71: 1 | E71: 1
A72: 41682 | B72: 1 | D72: 1 | E72: 1 | G72: 1 | H72: 1
A73: 41683 | B73: 1 | D73: 1 | E73: 1 | H73: 1
A74: 41684 | B74: 1 | D74: 1 | E74: 1 | F74: 1
A75: 41687 | B75: 1 | D75: 1 | E75: 1 | H75: 1
A76: 41688 | B76: 1 | D76: 1 | E76: 1 | K76: 1
A77: 41689 | B77: 1 | E77: 1 | G77: 1
A78: 41690 | B78: 1 | D78: 1 | E78: 1
A79: 41691 | B79: 1 | D79: 1 | E79: 1
A80: 41694 | B80: 1 | D80: 1 | E80: 1
A81: 41695 | B81: 1 | D81: 1 | E81: 1 | H81: 1
A82: 41696
A83: 41697 | B83: 1 | D83: 1 | E83: 1
A84: 41698
A85: Celkem | B85: =SUM(B65:B84) -> 17 | C85: =SUM(C65:C84) -> 0 | D85: =SUM(D65:D84) -> 16 | E85: =SUM(E65:E84) -> 16 | F85: =SUM(F65:F84) -> 2 | G85: =SUM(G65:G84) -> 3 | H85: =SUM(H65:H84) -> 4 | I85: =SUM(I65:I84) -> 0 | ... L85: =SUM(L65:L84) -> 0
A87: Březen - 2014
A89: Datum | B89: Docházka | C89: Učení | D89: Počítač | E89: Hudba | F89: Hry | G89: VV | H89: Tanec | I89: Zpěv | J89: DVD | K89: Out | L89: SP | M89: pochvaly / pokárání
A91: 41701 | B91: 1 | D91: 1 | E91: 1
A92: 41702 | B92: 1 | D92: 1
A93: 41703 | B93: 1 | E93: 1
A94: 41704 | B94: 1 | E94: 1
A95: 41705 | B95: 1 | D95: 1 | E95: 1
A96: 41708
A97: 41709 | B97: 1 | E97: 1
A98: 41710
A99: 41711
A100: 41712
A101: 41715 | B101: 1 | D101: 1 | E101: 1
A102: 41716 | B102: 1 | D102: 1 | E102: 1
A103: 41717
A104: 41718 | B104: 1 | E104: 1
A105: 41719 | B105: 1 | D105: 1 | E105: 1
A106: 41722 | B106: 1 | E106: 1
A107: 41723 | B107: 1 | D107: 1 | E107: 1 | G107: 1 | H107: 1
A108: 41724 | B108: 1 | E108: 1
A109: 41725 | B109: 1 | D109: 1 | E109: 1 | F109: 1
A110: 41726 | B110: 1 | D110: 1 | E110: 1
A111: 41729
A112: Celkem | B112: =SUM(B91:B111) -> 15 | C112: =SUM(C91:C111) -> 0 | D112: =SUM(D91:D111) -> 9 | E112: =SUM(E91:E111) -> 14 | F112: =SUM(F91:F111) -> 1 | G112: =SUM(G91:G111) -> 1 | H112: =SUM(H91:H111) -> 1 | I112: =SUM(I91:I111) -> 0 | ... L112: =SUM(L91:L111) -> 0
A114: Duben - 2014
A116: Datum | B116: Docházka | C116: Učení | D116: Počítač | E116: Hudba | F116: Hry | G116: VV | H116: Tanec | I116: Zpěv | J116: DVD | K116: Out | L116: SP | M116: pochvaly / pokárání
A118: 41730 | B118: 1 | E118: 1
A119: 41731 | B119: 1 | F119: 1 | G119: 1
A120: 41732
A121: 41733 | B121: 1 | E121: 1 | F121: 1
A122: 41736 | B122: 1 | E122: 1 | F122: 1
A123: 41737 | B123: 1 | E123: 1
A124: 41738
A125: 41739 | B125: 1 | E125: 1
...

Sheet Alex Žida
D2: Alex
C3: Jméno | I3: Smlouva o poskytování sociální služby: | M3: NE | N3: Uzavřená dne:
D4: Žida | I4: Souhlas se zpracováním osobních údajů: | M4: NE | N4: Uzavřený dne:
C5: Příjmení | I5: Individuální plán, přání a cíle klienta: | M5: NE | N5: Uzavřené dne:
C7: Rok nar. | I7: Individuální plán klienta | N7: Uzevřený dne (datum revize)
A16: Statistika klienta za rok 2014 | M16: Celkový přehled
A18: Měsíc | B18: Docházka | C18: Učení | D18: Počítač | E18: Hudba | F18: Hry | G18: VV | H18: Tanec | I18: Zpěv | J18: DVD | K18: Out | L18: SP | N18: Počet dnů v klubu Zvídálek | Q18: =SUM(B32) -> 126
N19: Pomoc při učení | P19: =SUM(C32) -> 0
A20: Leden | B20: =(B59) -> 19 | C20: =(C59) -> 0 | D20: =(D59) -> 17 | E20: =(E59) -> 17 | F20: =(F59) -> 12 | G20: =(G59) -> 6 | H20: =(H59) -> 5 | I20: =(I59) -> 2 | ... L20: =(L59) -> 0 | N20: Aktivita - počítač | P20: =SUM(D32) -> 88
A21: Únor | B21: =(B85) -> 17 | C21: =(C85) -> 0 | D21: =(D85) -> 15 | E21: =(E85) -> 16 | F21: =(F85) -> 7 | G21: =(G85) -> 3 | H21: =(H85) -> 9 | I21: =(I85) -> 4 | ... L21: =(L85) -> 0 | N21: Aktivita - hudba | P21: =SUM(E32) -> 108
A22: Březen | B22: =(B112) -> 20 | C22: =(C112) -> 0 | D22: =(D112) -> 14 | E22: =(E112) -> 20 | F22: =(F112) -> 12 | G22: =(G112) -> 2 | H22: =(H112) -> 11 | I22: =(I112) -> 1 | ... L22: =(L112) -> 0 | N22: Aktivita - hry | P22: =SUM(F32) -> 57
A23: Duben | B23: =(B140) -> 12 | C23: =(C140) -> 0 | D23: =(D140) -> 8 | E23: =(E140) -> 10 | F23: =(F140) -> 0 | G23: =(G140) -> 0 | H23: =(H140) -> 5 | I23: =(I140) -> 1 | ... L23: =(L140) -> 0 | N23: Aktivita - VV | P23: =SUM(G32) -> 16
A24: Květen | B24: =(B168) -> 16 | C24: =(C168) -> 0 | D24: =(D168) -> 11 | E24: =(E168) -> 12 | F24: =(F168) -> 10 | G24: =(G168) -> 0 | H24: =(H168) -> 5 | I24: =(I168) -> 1 | ... L24: =(L168) -> 0 | N24: Aktivita - tanec | P24: =SUM(H32) -> 44
A25: Červen | B25: =(B195) -> 17 | C25: =(C195) -> 0 | D25: =(D195) -> 7 | E25: =(E195) -> 15 | F25: =(F195) -> 7 | G25: =(G195) -> 1 | H25: =(H195) -> 3 | I25: =(I195) -> 0 | ... L25: =(L195) -> 0 | N25: Aktivita - zpěv | P25: =SUM(I32) -> 10
A26: Červenec | B26: =(B224) -> 16 | C26: =(C224) -> 0 | D26: =(D224) -> 10 | E26: =(E224) -> 12 | F26: =(F224) -> 7 | G26: =(G224) -> 3 | H26: =(H224) -> 4 | I26: =(I224) -> 1 | ... L26: =(L224) -> 0 | N26: Aktivita - DVD | P26: =SUM(J32) -> 10
A27: Srpen | B27: =(B251) -> 9 | C27: =(C251) -> 0 | D27: =(D251) -> 6 | E27: =(E251) -> 6 | F27: =(F251) -> 2 | G27: =(G251) -> 1 | H27: =(H251) -> 2 | I27: =(I251) -> 0 | ... L27: =(L251) -> 0 | N27: Aktivita - out | P27: =SUM(K32) -> 10
A28: Září | B28: =(B279) -> 0 | C28: =(C279) -> 0 | D28: =(D279) -> 0 | E28: =(E279) -> 0 | F28: =(F279) -> 0 | G28: =(G279) -> 0 | H28: =(H279) -> 0 | I28: =(I279) -> 0 | ... L28: =(L279) -> 0 | N28: Komunikace se SP | P28: =SUM(L32) -> 0
A29: Říjen | B29: =(B308) -> 0 | C29: =(C308) -> 0 | D29: =(D308) -> 0 | E29: =(E308) -> 0 | F29: =(F308) -> 0 | G29: =(G308) -> 0 | H29: =(H308) -> 0 | I29: =(I308) -> 0 | ... L29: =(L308) -> 0
A30: Listopad | B30: =(B334) -> 0 | C30: =(C334) -> 0 | D30: =(D334) -> 0 | E30: =(E334) -> 0 | F30: =(F334) -> 0 | G30: =(G334) -> 0 | H30: =(H334) -> 0 | I30: =(I334) -> 0 | ... L30: =(L334) -> 0
A31: Prosinec | B31: =(B363) -> 0 | C31: =(C363) -> 0 | D31: =(D363) -> 0 | E31: =(E363) -> 0 | F31: =(F363) -> 0 | G31: =(G363) -> 0 | H31: =(H363) -> 0 | I31: =(I363) -> 0 | ... L31: =(L363) -> 0
A32: Celkem | B32: =SUM(B20:B31) -> 126 | C32: =SUM(C20:C31) -> 0 | D32: =SUM(D20:D31) -> 88 | E32: =SUM(E20:E31) -> 108 | F32: =SUM(F20:F31) -> 57 | G32: =SUM(G20:G31) -> 16 | H32: =SUM(H20:H31) -> 44 | I32: =SUM(I20:I31) -> 10 | ... L32: =SUM(L20:L31) -> 0
A36: Leden - 2014
A38: Datum | B38: Docházka | C38: Učení | D38: Počítač | E38: Hudba | F38: Hry | G38: VV | H38: Tanec | I38: Zpěv | J38: DVD | K38: Out | L38: SP | M38: pochvaly / pokárání
A40: 41645 | B40: 1 | D40: 1 | H40: 1 | I40: 1
A41: 41646 | B41: 1 | D41: 1 | E41: 1 | F41: 1 | H41: 1
A42: 41647 | B42: 1 | D42: 1 | E42: 1 | F42: 1
A43: 41648 | B43: 1 | D43: 1 | E43: 1 | F43: 1 | G43: 1
A44: 41649 | B44: 1 | E44: 1
A45: 41652 | B45: 1 | E45: 1 | F45: 1
A46: 41653 | B46: 1 | D46: 1 | E46: 1 | F46: 1 | G46: 1
A47: 41654 | B47: 1 | D47: 1 | E47: 1 | H47: 1
A48: 41655 | B48: 1 | D48: 1 | E48: 1 | F48: 1 | G48: 1
A49: 41656 | B49: 1 | D49: 1 | E49: 1 | F49: 1 | G49: 1
A50: 41659 | B50: 1 | D50: 1 | E50: 1 | F50: 1 | H50: 1
A51: 41660 | B51: 1 | D51: 1 | E51: 1
A52: 41661 | B52: 1 | D52: 1 | E52: 1 | F52: 1
A53: 41662 | B53: 1 | D53: 1 | E53: 1
A54: 41663 | B54: 1 | D54: 1 | E54: 1 | F54: 1 | J54: 1
A55: 41666 | B55: 1 | D55: 1 | E55: 1
A56: 41667 | B56: 1 | D56: 1 | E56: 1
A57: 41668 | B57: 1 | D57: 1 | E57: 1 | F57: 1 | G57: 1 | H57: 1 | I57: 1 | J57: 1
A58: 41669 | B58: 1 | D58: 1 | F58: 1 | G58: 1 | J58: 1
A59: Celkem | B59: =SUM(B40:B58) -> 19 | C59: =SUM(C40:C58) -> 0 | D59: =SUM(D40:D58) -> 17 | E59: =SUM(E40:E58) -> 17 | F59: =SUM(F40:F58) -> 12 | G59: =SUM(G40:G58) -> 6 | H59: =SUM(H40:H58) -> 5 | I59: =SUM(I40:I58) -> 2 | ... L59: =SUM(L40:L58) -> 0
A61: Únor - 2014
A63: Datum | B63: Docházka | C63: Učení | D63: Počítač | E63: Hudba | F63: Hry | G63: VV | H63: Tanec | I63: Zpěv | J63: DVD | K63: Out | L63: SP | M63: pochvaly / pokárání
A65: 41673 | B65: 1 | D65: 1 | E65: 1 | F65: 1 | H65: 1 | I65: 1
A66: 41674 | B66: 1 | D66: 1 | F66: 1
A67: 41675 | B67: 1 | D67: 1 | E67: 1 | J67: 1
A68: 41676 | B68: 1 | D68: 1 | E68: 1 | H68: 1 | I68: 1
A69: 41677 | B69: 1 | D69: 1 | E69: 1
A70: 41680 | B70: 1 | D70: 1 | E70: 1 | H70: 1
A71: 41681 | B71: 1 | D71: 1 | E71: 1 | H71: 1 | I71: 1
A72: 41682 | B72: 1 | D72: 1 | E72: 1 | G72: 1 | H72: 1
A73: 41683 | B73: 1 | D73: 1 | E73: 1 | H73: 1 | I73: 1
A74: 41684 | B74: 1 | D74: 1 | E74: 1 | M74: Nevhodné chování, zákaz na 3 dny.
A75: 41687
A76: 41688
A77: 41689 | B77: 1 | E77: 1 | F77: 1 | H77: 1
A78: 41690 | B78: 1 | D78: 1 | E78: 1 | F78: 1 | H78: 1
A79: 41691 | B79: 1 | D79: 1 | E79: 1
A80: 41694 | B80: 1 | D80: 1 | E80: 1 | G80: 1
A81: 41695 | B81: 1 | D81: 1 | E81: 1 | F81: 1 | H81: 1
A82: 41696 | B82: 1 | E82: 1 | F82: 1
A83: 41697 | B83: 1 | D83: 1 | E83: 1 | F83: 1 | G83: 1
A84: 41698
A85: Celkem | B85: =SUM(B65:B84) -> 17 | C85: =SUM(C65:C84) -> 0 | D85: =SUM(D65:D84) -> 15 | E85: =SUM(E65:E84) -> 16 | F85: =SUM(F65:F84) -> 7 | G85: =SUM(G65:G84) -> 3 | H85: =SUM(H65:H84) -> 9 | I85: =SUM(I65:I84) -> 4 | ... L85: =SUM(L65:L84) -> 0
A87: Březen - 2014
A89: Datum | B89: Docházka | C89: Učení | D89: Počítač | E89: Hudba | F89: Hry | G89: VV | H89: Tanec | I89: Zpěv | J89: DVD | K89: Out | L89: SP | M89: pochvaly / pokárání
A91: 41701 | B91: 1 | D91: 1 | E91: 1 | F91: 1
A92: 41702 | B92: 1 | D92: 1 | E92: 1 | F92: 1
A93: 41703 | B93: 1 | E93: 1 | F93: 1 | H93: 1
A94: 41704 | B94: 1 | D94: 1 | E94: 1 | F94: 1 | H94: 1
A95: 41705 | B95: 1 | D95: 1 | E95: 1 | H95: 1
A96: 41708 | B96: 1 | D96: 1 | E96: 1 | F96: 1
A97: 41709 | B97: 1 | D97: 1 | E97: 1 | F97: 1 | G97: 1 | H97: 1
A98: 41710 | B98: 1 | E98: 1 | F98: 1
A99: 41711 | B99: 1 | D99: 1 | E99: 1 | H99: 1
A100: 41712 | B100: 1 | D100: 1 | E100: 1 | H100: 1 | M100: Porušení pravidel klubu, zákaz na jeden den.
A101: 41715
A102: 41716 | B102: 1 | E102: 1 | G102: 1
A103: 41717 | B103: 1 | E103: 1
A104: 41718 | B104: 1 | D104: 1 | E104: 1
A105: 41719 | B105: 1 | D105: 1 | E105: 1 | F105: 1
A106: 41722 | B106: 1 | D106: 1 | E106: 1 | F106: 1 | H106: 1 | J106: 1
A107: 41723 | B107: 1 | D107: 1 | E107: 1
A108: 41724 | B108: 1 | E108: 1 | F108: 1 | H108: 1 | I108: 1
A109: 41725 | B109: 1 | D109: 1 | E109: 1 | F109: 1 | H109: 1
A110: 41726 | B110: 1 | D110: 1 | E110: 1 | F110: 1 | H110: 1
A111: 41729 | B111: 1 | E111: 1 | H111: 1
A112: Celkem | B112: =SUM(B91:B111) -> 20 | C112: =SUM(C91:C111) -> 0 | D112: =SUM(D91:D111) -> 14 | E112: =SUM(E91:E111) -> 20 | F112: =SUM(F91:F111) -> 12 | G112: =SUM(G91:G111) -> 2 | H112: =SUM(H91:H111) -> 11 | I112: =SUM(I91:I111) -> 1 | ... L112: =SUM(L91:L111) -> 0
A114: Duben - 2014
A116: Datum | B116: Docházka | C116: Učení | D116: Počítač | E116: Hudba | F116: Hry | G116: VV | H116: Tanec | I116: Zpěv | J116: DVD | K116: Out | L116: SP | M116: pochvaly / pokárání
A118: 41730 | B118: 1 | D118: 1 | E118: 1
A119: 41731
A120: 41732
A121: 41733 | B121: 1 | E121: 1 | K121: 1
A122: 41736
A123: 41737
A124: 41738
A125: 41739
...

Sheet Barbora Suchá
D2: Barbora
C3: Jméno | I3: Smlouva o poskytování sociální služby: | M3: NE | N3: Uzavřená dne:
D4: Suchá | I4: Souhlas se zpracováním osobních údajů: | M4: NE | N4: Uzavřený dne:
C5: Příjmení | I5: Individuální plán, přání a cíle klienta: | M5: NE | N5: Uzavřené dne:
C7: Rok nar. | I7: Individuální plán klienta | N7: Uzevřený dne (datum revize)
A16: Statistika klienta za rok 2014 | M16: Celkový přehled
A18: Měsíc | B18: Docházka | C18: Učení | D18: Počítač | E18: Hudba | F18: Hry | G18: VV | H18: Tanec | I18: Zpěv | J18: DVD | K18: Out | L18: SP | N18: Počet dnů v klubu Zvídálek | Q18: =SUM(B32) -> 8
N19: Pomoc při učení | P19: =SUM(C32) -> 0
A20: Leden | B20: =(B59) -> 8 | C20: =(C59) -> 0 | D20: =(D59) -> 2 | E20: =(E59) -> 8 | F20: =(F59) -> 2 | G20: =(G59) -> 5 | H20: =(H59) -> 0 | I20: =(I59) -> 0 | ... L20: =(L59) -> 0 | N20: Aktivita - počítač | P20: =SUM(D32) -> 2
A21: Únor | B21: =(B85) -> 0 | C21: =(C85) -> 0 | D21: =(D85) -> 0 | E21: =(E85) -> 0 | F21: =(F85) -> 0 | G21: =(G85) -> 0 | H21: =(H85) -> 0 | I21: =(I85) -> 0 | ... L21: =(L85) -> 0 | N21: Aktivita - hudba | P21: =SUM(E32) -> 8
A22: Březen | B22: =(B112) -> 0 | C22: =(C112) -> 0 | D22: =(D112) -> 0 | E22: =(E112) -> 0 | F22: =(F112) -> 0 | G22: =(G112) -> 0 | H22: =(H112) -> 0 | I22: =(I112) -> 0 | ... L22: =(L112) -> 0 | N22: Aktivita - hry | P22: =SUM(F32) -> 2
A23: Duben | B23: =(B140) -> 0 | C23: =(C140) -> 0 | D23: =(D140) -> 0 | E23: =(E140) -> 0 | F23: =(F140) -> 0 | G23: =(G140) -> 0 | H23: =(H140) -> 0 | I23: =(I140) -> 0 | ... L23: =(L140) -> 0 | N23: Aktivita - VV | P23: =SUM(G32) -> 5
A24: Květen | B24: =(B168) -> 0 | C24: =(C168) -> 0 | D24: =(D168) -> 0 | E24: =(E168) -> 0 | F24: =(F168) -> 0 | G24: =(G168) -> 0 | H24: =(H168) -> 0 | I24: =(I168) -> 0 | ... L24: =(L168) -> 0 | N24: Aktivita - tanec | P24: =SUM(H32) -> 0
A25: Červen | B25: =(B195) -> 0 | C25: =(C195) -> 0 | D25: =(D195) -> 0 | E25: =(E195) -> 0 | F25: =(F195) -> 0 | G25: =(G195) -> 0 | H25: =(H195) -> 0 | I25: =(I195) -> 0 | ... L25: =(L195) -> 0 | N25: Aktivita - zpěv | P25: =SUM(I32) -> 0
A26: Červenec | B26: =(B224) -> 0 | C26: =(C224) -> 0 | D26: =(D224) -> 0 | E26: =(E224) -> 0 | F26: =(F224) -> 0 | G26: =(G224) -> 0 | H26: =(H224) -> 0 | I26: =(I224) -> 0 | ... L26: =(L224) -> 0 | N26: Aktivita - DVD | P26: =SUM(J32) -> 0
A27: Srpen | B27: =(B251) -> 0 | C27: =(C251) -> 0 | D27: =(D251) -> 0 | E27: =(E251) -> 0 | F27: =(F251) -> 0 | G27: =(G251) -> 0 | H27: =(H251) -> 0 | I27: =(I251) -> 0 | ... L27: =(L251) -> 0 | N27: Aktivita - out | P27: =SUM(K32) -> 0
A28: Září | B28: =(B279) -> 0 | C28: =(C279) -> 0 | D28: =(D279) -> 0 | E28: =(E279) -> 0 | F28: =(F279) -> 0 | G28: =(G279) -> 0 | H28: =(H279) -> 0 | I28: =(I279) -> 0 | ... L28: =(L279) -> 0 | N28: Komunikace se SP | P28: =SUM(L32) -> 0
A29: Říjen | B29: =(B308) -> 0 | C29: =(C308) -> 0 | D29: =(D308) -> 0 | E29: =(E308) -> 0 | F29: =(F308) -> 0 | G29: =(G308) -> 0 | H29: =(H308) -> 0 | I29: =(I308) -> 0 | ... L29: =(L308) -> 0
A30: Listopad | B30: =(B334) -> 0 | C30: =(C334) -> 0 | D30: =(D334) -> 0 | E30: =(E334) -> 0 | F30: =(F334) -> 0 | G30: =(G334) -> 0 | H30: =(H334) -> 0 | I30: =(I334) -> 0 | ... L30: =(L334) -> 0
A31: Prosinec | B31: =(B363) -> 0 | C31: =(C363) -> 0 | D31: =(D363) -> 0 | E31: =(E363) -> 0 | F31: =(F363) -> 0 | G31: =(G363) -> 0 | H31: =(H363) -> 0 | I31: =(I363) -> 0 | ... L31: =(L363) -> 0
A32: Celkem | B32: =SUM(B20:B31) -> 8 | C32: =SUM(C20:C31) -> 0 | D32: =SUM(D20:D31) -> 2 | E32: =SUM(E20:E31) -> 8 | F32: =SUM(F20:F31) -> 2 | G32: =SUM(G20:G31) -> 5 | H32: =SUM(H20:H31) -> 0 | I32: =SUM(I20:I31) -> 0 | ... L32: =SUM(L20:L31) -> 0
A36: Leden - 2014
A38: Datum | B38: Docházka | C38: Učení | D38: Počítač | E38: Hudba | F38: Hry | G38: VV | H38: Tanec | I38: Zpěv | J38: DVD | K38: Out | L38: SP | M38: pochvaly / pokárání
A40: 41645
A41: 41646
A42: 41647
A43: 41648 | B43: 1 | D43: 1 | E43: 1 | G43: 1
A44: 41649 | B44: 1 | E44: 1 | G44: 1
A45: 41652 | B45: 1 | E45: 1
A46: 41653
A47: 41654
A48: 41655
A49: 41656
A50: 41659 | B50: 1 | E50: 1 | G50: 1
A51: 41660
A52: 41661
A53: 41662
A54: 41663 | B54: 1 | E54: 1
A55: 41666 | B55: 1 | E55: 1
A56: 41667 | B56: 1 | E56: 1 | F56: 1 | G56: 1
A57: 41668
A58: 41669 | B58: 1 | D58: 1 | E58: 1 | F58: 1 | G58: 1
A59: Celkem | B59: =SUM(B40:B58) -> 8 | C59: =SUM(C40:C58) -> 0 | D59: =SUM(D40:D58) -> 2 | E59: =SUM(E40:E58) -> 8 | F59: =SUM(F40:F58) -> 2 | G59: =SUM(G40:G58) -> 5 | H59: =SUM(H40:H58) -> 0 | I59: =SUM(I40:I58) -> 0 | ... L59: =SUM(L40:L58) -> 0
A61: Únor - 2014
A63: Datum | B63: Docházka | C63: Učení | D63: Počítač | E63: Hudba | F63: Hry | G63: VV | H63: Tanec | I63: Zpěv | J63: DVD | K63: Out | L63: SP | M63: pochvaly / pokárání
A65: 41673
A66: 41674
A67: 41675
A68: 41676
A69: 41677
A70: 41680
A71: 41681
A72: 41682
A73: 41683
A74: 41684
A75: 41687
A76: 41688
... A84: 41698
A85: Celkem | B85: =SUM(B65:B84) -> 0 | C85: =SUM(C65:C84) -> 0 | D85: =SUM(D65:D84) -> 0 | E85: =SUM(E65:E84) -> 0 | F85: =SUM(F65:F84) -> 0 | G85: =SUM(G65:G84) -> 0 | H85: =SUM(H65:H84) -> 0 | I85: =SUM(I65:I84) -> 0 | ... L85: =SUM(L65:L84) -> 0
A87: Březen - 2014
A89: Datum | B89: Docházka | C89: Učení | D89: Počítač | E89: Hudba | F89: Hry | G89: VV | H89: Tanec | I89: Zpěv | J89: DVD | K89: Out | L89: SP | M89: pochvaly / pokárání
A91: 41701
A92: 41702
A93: 41703
A94: 41704
A95: 41705
A96: 41708
A97: 41709
A98: 41710
A99: 41711
A100: 41712
A101: 41715
A102: 41716
... A111: 41729
A112: Celkem | B112: =SUM(B91:B111) -> 0 | C112: =SUM(C91:C111) -> 0 | D112: =SUM(D91:D111) -> 0 | E112: =SUM(E91:E111) -> 0 | F112: =SUM(F91:F111) -> 0 | G112: =SUM(G91:G111) -> 0 | H112: =SUM(H91:H111) -> 0 | I112: =SUM(I91:I111) -> 0 | ... L112: =SUM(L91:L111) -> 0
A114: Duben - 2014
A116: Datum | B116: Docházka | C116: Učení | D116: Počítač | E116: Hudba | F116: Hry | G116: VV | H116: Tanec | I116: Zpěv | J116: DVD | K116: Out | L116: SP | M116: pochvaly / pokárání
A118: 41730
A119: 41731
A120: 41732
A121: 41733
A122: 41736
A123: 41737
A124: 41738
A125: 41739
A126: 41740
A127: 41743
A128: 41744
A129: 41745
... A139: 41759
A140: Celkem | B140: =SUM(B118:B139) -> 0 | C140: =SUM(C118:C139) -> 0 | D140: =SUM(D118:D139) -> 0 | E140: =SUM(E118:E139) -> 0 | F140: =SUM(F118:F139) -> 0 | G140: =SUM(G118:G139) -> 0 | H140: =SUM(H118:H139) -> 0 | I140: =SUM(I118:I139) -> 0 | ... L140: =SUM(L118:L139) -> 0
A142: Květen - 2014
A144: Datum | B144: Docházka | C144: Učení | D144: Počítač | E144: Hudba | F144: Hry | G144: VV | H144: Tanec | I144: Zpěv | J144: DVD | K144: Out | L144: SP | M144: pochvaly / pokárání
A146: 41760
A147: 41761
A148: 41764
A149: 41765
A150: 41766
A151: 41767
A152: 41768
...

Sheet David Pecha
D2: David
C3: Jméno | I3: Smlouva o poskytování sociální služby: | M3: NE | N3: Uzavřená dne:
D4: Pecha | I4: Souhlas se zpracováním osobních údajů: | M4: NE | N4: Uzavřený dne:
C5: Příjmení | I5: Individuální plán, přání a cíle klienta: | M5: NE | N5: Uzavřené dne:
C7: Rok nar. | I7: Individuální plán klienta | N7: Uzevřený dne (datum revize)
A16: Statistika klienta za rok 2014 | M16: Celkový přehled
A18: Měsíc | B18: Docházka | C18: Učení | D18: Počítač | E18: Hudba | F18: Hry | G18: VV | H18: Tanec | I18: Zpěv | J18: DVD | K18: Out | L18: SP | N18: Počet dnů v klubu Zvídálek | Q18: =SUM(B32) -> 20
N19: Pomoc při učení | P19: =SUM(C32) -> 0
A20: Leden | B20: =(B59) -> 4 | C20: =(C59) -> 0 | D20: =(D59) -> 2 | E20: =(E59) -> 3 | F20: =(F59) -> 1 | G20: =(G59) -> 1 | H20: =(H59) -> 0 | I20: =(I59) -> 0 | ... L20: =(L59) -> 0 | N20: Aktivita - počítač | P20: =SUM(D32) -> 9
A21: Únor | B21: =(B85) -> 7 | C21: =(C85) -> 0 | D21: =(D85) -> 3 | E21: =(E85) -> 4 | F21: =(F85) -> 1 | G21: =(G85) -> 2 | H21: =(H85) -> 0 | I21: =(I85) -> 0 | ... L21: =(L85) -> 0 | N21: Aktivita - hudba | P21: =SUM(E32) -> 14
A22: Březen | B22: =(B112) -> 4 | C22: =(C112) -> 0 | D22: =(D112) -> 3 | E22: =(E112) -> 3 | F22: =(F112) -> 0 | G22: =(G112) -> 0 | H22: =(H112) -> 0 | I22: =(I112) -> 0 | ... L22: =(L112) -> 0 | N22: Aktivita - hry | P22: =SUM(F32) -> 4
A23: Duben | B23: =(B140) -> 2 | C23: =(C140) -> 0 | D23: =(D140) -> 1 | E23: =(E140) -> 2 | F23: =(F140) -> 1 | G23: =(G140) -> 0 | H23: =(H140) -> 0 | I23: =(I140) -> 0 | ... L23: =(L140) -> 0 | N23: Aktivita - VV | P23: =SUM(G32) -> 3
A24: Květen | B24: =(B168) -> 2 | C24: =(C168) -> 0 | D24: =(D168) -> 0 | E24: =(E168) -> 2 | F24: =(F168) -> 1 | G24: =(G168) -> 0 | H24: =(H168) -> 0 | I24: =(I168) -> 0 | ... L24: =(L168) -> 0 | N24: Aktivita - tanec | P24: =SUM(H32) -> 0
A25: Červen | B25: =(B195) -> 0 | C25: =(C195) -> 0 | D25: =(D195) -> 0 | E25: =(E195) -> 0 | F25: =(F195) -> 0 | G25: =(G195) -> 0 | H25: =(H195) -> 0 | I25: =(I195) -> 0 | ... L25: =(L195) -> 0 | N25: Aktivita - zpěv | P25: =SUM(I32) -> 0
A26: Červenec | B26: =(B224) -> 0 | C26: =(C224) -> 0 | D26: =(D224) -> 0 | E26: =(E224) -> 0 | F26: =(F224) -> 0 | G26: =(G224) -> 0 | H26: =(H224) -> 0 | I26: =(I224) -> 0 | ... L26: =(L224) -> 0 | N26: Aktivita - DVD | P26: =SUM(J32) -> 0
A27: Srpen | B27: =(B251) -> 1 | C27: =(C251) -> 0 | D27: =(D251) -> 0 | E27: =(E251) -> 0 | F27: =(F251) -> 0 | G27: =(G251) -> 0 | H27: =(H251) -> 0 | I27: =(I251) -> 0 | ... L27: =(L251) -> 0 | N27: Aktivita - out | P27: =SUM(K32) -> 2
A28: Září | B28: =(B279) -> 0 | C28: =(C279) -> 0 | D28: =(D279) -> 0 | E28: =(E279) -> 0 | F28: =(F279) -> 0 | G28: =(G279) -> 0 | H28: =(H279) -> 0 | I28: =(I279) -> 0 | ... L28: =(L279) -> 0 | N28: Komunikace se SP | P28: =SUM(L32) -> 0
A29: Říjen | B29: =(B308) -> 0 | C29: =(C308) -> 0 | D29: =(D308) -> 0 | E29: =(E308) -> 0 | F29: =(F308) -> 0 | G29: =(G308) -> 0 | H29: =(H308) -> 0 | I29: =(I308) -> 0 | ... L29: =(L308) -> 0
A30: Listopad | B30: =(B334) -> 0 | C30: =(C334) -> 0 | D30: =(D334) -> 0 | E30: =(E334) -> 0 | F30: =(F334) -> 0 | G30: =(G334) -> 0 | H30: =(H334) -> 0 | I30: =(I334) -> 0 | ... L30: =(L334) -> 0
A31: Prosinec | B31: =(B363) -> 0 | C31: =(C363) -> 0 | D31: =(D363) -> 0 | E31: =(E363) -> 0 | F31: =(F363) -> 0 | G31: =(G363) -> 0 | H31: =(H363) -> 0 | I31: =(I363) -> 0 | ... L31: =(L363) -> 0
A32: Celkem | B32: =SUM(B20:B31) -> 20 | C32: =SUM(C20:C31) -> 0 | D32: =SUM(D20:D31) -> 9 | E32: =SUM(E20:E31) -> 14 | F32: =SUM(F20:F31) -> 4 | G32: =SUM(G20:G31) -> 3 | H32: =SUM(H20:H31) -> 0 | I32: =SUM(I20:I31) -> 0 | ... L32: =SUM(L20:L31) -> 0
A36: Leden - 2014
A38: Datum | B38: Docházka | C38: Učení | D38: Počítač | E38: Hudba | F38: Hry | G38: VV | H38: Tanec | I38: Zpěv | J38: DVD | K38: Out | L38: SP | M38: pochvaly / pokárání
A40: 41645 | B40: 1 | G40: 1
A41: 41646 | B41: 1 | D41: 1 | E41: 1
A42: 41647 | B42: 1 | D42: 1 | E42: 1 | F42: 1
A43: 41648
A44: 41649 | B44: 1 | E44: 1
A45: 41652
A46: 41653
A47: 41654
A48: 41655
A49: 41656
A50: 41659
A51: 41660
A52: 41661
A53: 41662
A54: 41663
A55: 41666
A56: 41667
... A58: 41669
A59: Celkem | B59: =SUM(B40:B58) -> 4 | C59: =SUM(C40:C58) -> 0 | D59: =SUM(D40:D58) -> 2 | E59: =SUM(E40:E58) -> 3 | F59: =SUM(F40:F58) -> 1 | G59: =SUM(G40:G58) -> 1 | H59: =SUM(H40:H58) -> 0 | I59: =SUM(I40:I58) -> 0 | ... L59: =SUM(L40:L58) -> 0
A61: Únor - 2014
A63: Datum | B63: Docházka | C63: Učení | D63: Počítač | E63: Hudba | F63: Hry | G63: VV | H63: Tanec | I63: Zpěv | J63: DVD | K63: Out | L63: SP | M63: pochvaly / pokárání
A65: 41673 | B65: 1 | D65: 1 | E65: 1 | F65: 1
A66: 41674
A67: 41675
A68: 41676 | B68: 1 | E68: 1 | G68: 1
A69: 41677 | B69: 1 | D69: 1 | G69: 1
A70: 41680 | B70: 1 | D70: 1
A71: 41681
A72: 41682
A73: 41683
A74: 41684 | B74: 1 | E74: 1
A75: 41687
A76: 41688 | B76: 1 | K76: 1
A77: 41689 | B77: 1 | E77: 1
A78: 41690
A79: 41691
A80: 41694
A81: 41695
A82: 41696
A83: 41697
A84: 41698
A85: Celkem | B85: =SUM(B65:B84) -> 7 | C85: =SUM(C65:C84) -> 0 | D85: =SUM(D65:D84) -> 3 | E85: =SUM(E65:E84) -> 4 | F85: =SUM(F65:F84) -> 1 | G85: =SUM(G65:G84) -> 2 | H85: =SUM(H65:H84) -> 0 | I85: =SUM(I65:I84) -> 0 | ... L85: =SUM(L65:L84) -> 0
A87: Březen - 2014
A89: Datum | B89: Docházka | C89: Učení | D89: Počítač | E89: Hudba | F89: Hry | G89: VV | H89: Tanec | I89: Zpěv | J89: DVD | K89: Out | L89: SP | M89: pochvaly / pokárání
A91: 41701
A92: 41702
A93: 41703
A94: 41704 | B94: 1 | E94: 1
A95: 41705 | B95: 1 | D95: 1 | E95: 1
A96: 41708 | B96: 1 | D96: 1
A97: 41709 | B97: 1 | D97: 1 | E97: 1
A98: 41710
A99: 41711
A100: 41712
A101: 41715
A102: 41716
A103: 41717
A104: 41718
A105: 41719
A106: 41722
A107: 41723
A108: 41724
A109: 41725
... A111: 41729
A112: Celkem | B112: =SUM(B91:B111) -> 4 | C112: =SUM(C91:C111) -> 0 | D112: =SUM(D91:D111) -> 3 | E112: =SUM(E91:E111) -> 3 | F112: =SUM(F91:F111) -> 0 | G112: =SUM(G91:G111) -> 0 | H112: =SUM(H91:H111) -> 0 | I112: =SUM(I91:I111) -> 0 | ... L112: =SUM(L91:L111) -> 0
A114: Duben - 2014
A116: Datum | B116: Docházka | C116: Učení | D116: Počítač | E116: Hudba | F116: Hry | G116: VV | H116: Tanec | I116: Zpěv | J116: DVD | K116: Out | L116: SP | M116: pochvaly / pokárání
A118: 41730
A119: 41731
A120: 41732
A121: 41733
A122: 41736
A123: 41737
A124: 41738
A125: 41739 | B125: 1 | D125: 1 | E125: 1 | F125: 1
A126: 41740
A127: 41743
...

Sheet David Červeňák
D2: David
C3: Jméno | I3: Smlouva o poskytování sociální služby: | M3: NE | N3: Uzavřená dne:
D4: Červeňák | I4: Souhlas se zpracováním osobních údajů: | M4: NE | N4: Uzavřený dne:
C5: Příjmení | I5: Individuální plán, přání a cíle klienta: | M5: NE | N5: Uzavřené dne:
C7: Rok nar. | I7: Individuální plán klienta | N7: Uzevřený dne (datum revize)
A16: Statistika klienta za rok 2014 | M16: Celkový přehled
A18: Měsíc | B18: Docházka | C18: Učení | D18: Počítač | E18: Hudba | F18: Hry | G18: VV | H18: Tanec | I18: Zpěv | J18: DVD | K18: Out | L18: SP | N18: Počet dnů v klubu Zvídálek | Q18: =SUM(B32) -> 128
N19: Pomoc při učení | P19: =SUM(C32) -> 0
A20: Leden | B20: =(B59) -> 19 | C20: =(C59) -> 0 | D20: =(D59) -> 14 | E20: =(E59) -> 16 | F20: =(F59) -> 3 | G20: =(G59) -> 3 | H20: =(H59) -> 0 | I20: =(I59) -> 0 | ... L20: =(L59) -> 0 | N20: Aktivita - počítač | P20: =SUM(D32) -> 91
A21: Únor | B21: =(B85) -> 16 | C21: =(C85) -> 0 | D21: =(D85) -> 12 | E21: =(E85) -> 16 | F21: =(F85) -> 6 | G21: =(G85) -> 9 | H21: =(H85) -> 1 | I21: =(I85) -> 1 | ... L21: =(L85) -> 0 | N21: Aktivita - hudba | P21: =SUM(E32) -> 118
A22: Březen | B22: =(B112) -> 19 | C22: =(C112) -> 0 | D22: =(D112) -> 15 | E22: =(E112) -> 18 | F22: =(F112) -> 2 | G22: =(G112) -> 0 | H22: =(H112) -> 0 | I22: =(I112) -> 1 | ... L22: =(L112) -> 0 | N22: Aktivita - hry | P22: =SUM(F32) -> 39
A23: Duben | B23: =(B140) -> 17 | C23: =(C140) -> 0 | D23: =(D140) -> 14 | E23: =(E140) -> 16 | F23: =(F140) -> 10 | G23: =(G140) -> 3 | H23: =(H140) -> 0 | I23: =(I140) -> 0 | ... L23: =(L140) -> 0 | N23: Aktivita - VV | P23: =SUM(G32) -> 27
A24: Květen | B24: =(B168) -> 14 | C24: =(C168) -> 0 | D24: =(D168) -> 7 | E24: =(E168) -> 13 | F24: =(F168) -> 3 | G24: =(G168) -> 2 | H24: =(H168) -> 0 | I24: =(I168) -> 0 | ... L24: =(L168) -> 0 | N24: Aktivita - tanec | P24: =SUM(H32) -> 1
A25: Červen | B25: =(B195) -> 12 | C25: =(C195) -> 0 | D25: =(D195) -> 8 | E25: =(E195) -> 12 | F25: =(F195) -> 3 | G25: =(G195) -> 4 | H25: =(H195) -> 0 | I25: =(I195) -> 0 | ... L25: =(L195) -> 0 | N25: Aktivita - zpěv | P25: =SUM(I32) -> 2
A26: Červenec | B26: =(B224) -> 16 | C26: =(C224) -> 0 | D26: =(D224) -> 9 | E26: =(E224) -> 14 | F26: =(F224) -> 6 | G26: =(G224) -> 3 | H26: =(H224) -> 0 | I26: =(I224) -> 0 | ... L26: =(L224) -> 0 | N26: Aktivita - DVD | P26: =SUM(J32) -> 18
A27: Srpen | B27: =(B251) -> 15 | C27: =(C251) -> 0 | D27: =(D251) -> 12 | E27: =(E251) -> 13 | F27: =(F251) -> 6 | G27: =(G251) -> 3 | H27: =(H251) -> 0 | I27: =(I251) -> 0 | ... L27: =(L251) -> 0 | N27: Aktivita - out | P27: =SUM(K32) -> 9
A28: Září | B28: =(B279) -> 0 | C28: =(C279) -> 0 | D28: =(D279) -> 0 | E28: =(E279) -> 0 | F28: =(F279) -> 0 | G28: =(G279) -> 0 | H28: =(H279) -> 0 | I28: =(I279) -> 0 | ... L28: =(L279) -> 0 | N28: Komunikace se SP | P28: =SUM(L32) -> 0
A29: Říjen | B29: =(B308) -> 0 | C29: =(C308) -> 0 | D29: =(D308) -> 0 | E29: =(E308) -> 0 | F29: =(F308) -> 0 | G29: =(G308) -> 0 | H29: =(H308) -> 0 | I29: =(I308) -> 0 | ... L29: =(L308) -> 0
A30: Listopad | B30: =(B334) -> 0 | C30: =(C334) -> 0 | D30: =(D334) -> 0 | E30: =(E334) -> 0 | F30: =(F334) -> 0 | G30: =(G334) -> 0 | H30: =(H334) -> 0 | I30: =(I334) -> 0 | ... L30: =(L334) -> 0
A31: Prosinec | B31: =(B363) -> 0 | C31: =(C363) -> 0 | D31: =(D363) -> 0 | E31: =(E363) -> 0 | F31: =(F363) -> 0 | G31: =(G363) -> 0 | H31: =(H363) -> 0 | I31: =(I363) -> 0 | ... L31: =(L363) -> 0
A32: Celkem | B32: =SUM(B20:B31) -> 128 | C32: =SUM(C20:C31) -> 0 | D32: =SUM(D20:D31) -> 91 | E32: =SUM(E20:E31) -> 118 | F32: =SUM(F20:F31) -> 39 | G32: =SUM(G20:G31) -> 27 | H32: =SUM(H20:H31) -> 1 | I32: =SUM(I20:I31) -> 2 | ... L32: =SUM(L20:L31) -> 0
A36: Leden - 2014
A38: Datum | B38: Docházka | C38: Učení | D38: Počítač | E38: Hudba | F38: Hry | G38: VV | H38: Tanec | I38: Zpěv | J38: DVD | K38: Out | L38: SP | M38: pochvaly / pokárání
A40: 41645 | B40: 1 | D40: 1
A41: 41646 | B41: 1 | E41: 1
A42: 41647 | B42: 1 | E42: 1
A43: 41648 | B43: 1 | E43: 1
A44: 41649 | B44: 1 | E44: 1
A45: 41652 | B45: 1 | E45: 1 | G45: 1
A46: 41653 | B46: 1 | D46: 1 | E46: 1 | G46: 1
A47: 41654 | B47: 1 | D47: 1 | E47: 1
A48: 41655 | B48: 1 | D48: 1 | E48: 1
A49: 41656 | B49: 1 | D49: 1 | E49: 1 | G49: 1
A50: 41659 | B50: 1 | D50: 1 | E50: 1
A51: 41660 | B51: 1 | D51: 1 | E51: 1
A52: 41661 | B52: 1 | D52: 1 | E52: 1
A53: 41662 | B53: 1 | D53: 1 | E53: 1
A54: 41663 | B54: 1 | D54: 1
A55: 41666 | B55: 1 | D55: 1 | E55: 1 | F55: 1
A56: 41667 | B56: 1 | D56: 1 | E56: 1
A57: 41668 | B57: 1 | D57: 1 | F57: 1
A58: 41669 | B58: 1 | D58: 1 | E58: 1 | F58: 1 | J58: 1
A59: Celkem | B59: =SUM(B40:B58) -> 19 | C59: =SUM(C40:C58) -> 0 | D59: =SUM(D40:D58) -> 14 | E59: =SUM(E40:E58) -> 16 | F59: =SUM(F40:F58) -> 3 | G59: =SUM(G40:G58) -> 3 | H59: =SUM(H40:H58) -> 0 | I59: =SUM(I40:I58) -> 0 | ... L59: =SUM(L40:L58) -> 0
A61: Únor - 2014
A63: Datum | B63: Docházka | C63: Učení | D63: Počítač | E63: Hudba | F63: Hry | G63: VV | H63: Tanec | I63: Zpěv | J63: DVD | K63: Out | L63: SP | M63: pochvaly / pokárání
A65: 41673 | B65: 1 | D65: 1 | E65: 1 | G65: 1
A66: 41674 | B66: 1 | D66: 1 | E66: 1 | F66: 1 | G66: 1
A67: 41675 | B67: 1 | D67: 1 | E67: 1 | G67: 1 | J67: 1
A68: 41676 | B68: 1 | D68: 1 | E68: 1 | G68: 1
A69: 41677 | B69: 1 | D69: 1 | E69: 1 | G69: 1
A70: 41680 | B70: 1 | D70: 1 | E70: 1 | G70: 1
A71: 41681 | B71: 1 | D71: 1 | E71: 1 | F71: 1
A72: 41682 | B72: 1 | D72: 1 | E72: 1 | G72: 1
A73: 41683 | B73: 1 | E73: 1 | F73: 1 | G73: 1
A74: 41684 | B74: 1 | D74: 1 | E74: 1 | F74: 1
A75: 41687
A76: 41688
A77: 41689 | B77: 1 | E77: 1
A78: 41690 | B78: 1 | E78: 1
A79: 41691
A80: 41694 | B80: 1 | D80: 1 | E80: 1 | F80: 1
A81: 41695 | B81: 1 | D81: 1 | E81: 1 | G81: 1
A82: 41696 | B82: 1 | E82: 1 | F82: 1 | H82: 1 | I82: 1
A83: 41697 | B83: 1 | D83: 1 | E83: 1
A84: 41698
A85: Celkem | B85: =SUM(B65:B84) -> 16 | C85: =SUM(C65:C84) -> 0 | D85: =SUM(D65:D84) -> 12 | E85: =SUM(E65:E84) -> 16 | F85: =SUM(F65:F84) -> 6 | G85: =SUM(G65:G84) -> 9 | H85: =SUM(H65:H84) -> 1 | I85: =SUM(I65:I84) -> 1 | ... L85: =SUM(L65:L84) -> 0
A87: Březen - 2014
A89: Datum | B89: Docházka | C89: Učení | D89: Počítač | E89: Hudba | F89: Hry | G89: VV | H89: Tanec | I89: Zpěv | J89: DVD | K89: Out | L89: SP | M89: pochvaly / pokárání
A91: 41701
A92: 41702 | B92: 1 | D92: 1 | E92: 1
A93: 41703 | B93: 1 | E93: 1 | F93: 1
A94: 41704 | B94: 1 | D94: 1 | E94: 1
A95: 41705 | B95: 1 | D95: 1 | E95: 1 | J95: 1
A96: 41708 | B96: 1 | D96: 1 | E96: 1
A97: 41709 | B97: 1 | D97: 1 | E97: 1
A98: 41710
A99: 41711 | B99: 1 | D99: 1 | E99: 1
A100: 41712 | B100: 1 | D100: 1 | E100: 1 | F100: 1
A101: 41715 | B101: 1 | D101: 1 | E101: 1
A102: 41716 | B102: 1 | D102: 1 | E102: 1
A103: 41717 | B103: 1 | E103: 1 | J103: 1
A104: 41718 | B104: 1 | D104: 1 | E104: 1
A105: 41719 | B105: 1 | D105: 1 | E105: 1 | J105: 1
A106: 41722 | B106: 1 | D106: 1 | E106: 1 | J106: 1
A107: 41723 | B107: 1 | D107: 1 | E107: 1
A108: 41724 | B108: 1 | E108: 1 | I108: 1
A109: 41725 | B109: 1 | D109: 1 | E109: 1
A110: 41726 | B110: 1 | D110: 1 | E110: 1
A111: 41729 | B111: 1 | K111: 1
A112: Celkem | B112: =SUM(B91:B111) -> 19 | C112: =SUM(C91:C111) -> 0 | D112: =SUM(D91:D111) -> 15 | E112: =SUM(E91:E111) -> 18 | F112: =SUM(F91:F111) -> 2 | G112: =SUM(G91:G111) -> 0 | H112: =SUM(H91:H111) -> 0 | I112: =SUM(I91:I111) -> 1 | ... L112: =SUM(L91:L111) -> 0
A114: Duben - 2014
A116: Datum | B116: Docházka | C116: Učení | D116: Počítač | E116: Hudba | F116: Hry | G116: VV | H116: Tanec | I116: Zpěv | J116: DVD | K116: Out | L116: SP | M116: pochvaly / pokárání
A118: 41730 | B118: 1 | D118: 1 | E118: 1 | J118: 1
A119: 41731 | B119: 1 | E119: 1 | F119: 1
A120: 41732 | B120: 1 | D120: 1 | E120: 1 | F120: 1
A121: 41733 | B121: 1 | K121: 1
A122: 41736 | B122: 1 | D122: 1 | E122: 1
A123: 41737 | B123: 1 | D123: 1 | E123: 1 | G123: 1
A124: 41738
A125: 41739 | B125: 1 | D125: 1 | E125: 1 | J125: 1
...

Sheet Denisa Kotlárová
D2: Denisa
C3: Jméno | I3: Smlouva o poskytování sociální služby: | M3: NE | N3: Uzavřená dne:
D4: Kotlárová | I4: Souhlas se zpracováním osobních údajů: | M4: NE | N4: Uzavřený dne:
C5: Příjmení | I5: Individuální plán, přání a cíle klienta: | M5: NE | N5: Uzavřené dne:
C7: Rok nar. | I7: Individuální plán klienta | N7: Uzevřený dne (datum revize)
A16: Statistika klienta za rok 2014 | M16: Celkový přehled
A18: Měsíc | B18: Docházka | C18: Učení | D18: Počítač | E18: Hudba | F18: Hry | G18: VV | H18: Tanec | I18: Zpěv | J18: DVD | K18: Out | L18: SP | N18: Počet dnů v klubu Zvídálek | Q18: =SUM(B32) -> 1
N19: Pomoc při učení | P19: =SUM(C32) -> 0
A20: Leden | B20: =(B59) -> 0 | C20: =(C59) -> 0 | D20: =(D59) -> 0 | E20: =(E59) -> 0 | F20: =(F59) -> 0 | G20: =(G59) -> 0 | H20: =(H59) -> 0 | I20: =(I59) -> 0 | ... L20: =(L59) -> 0 | N20: Aktivita - počítač | P20: =SUM(D32) -> 0
A21: Únor | B21: =(B85) -> 0 | C21: =(C85) -> 0 | D21: =(D85) -> 0 | E21: =(E85) -> 0 | F21: =(F85) -> 0 | G21: =(G85) -> 0 | H21: =(H85) -> 0 | I21: =(I85) -> 0 | ... L21: =(L85) -> 0 | N21: Aktivita - hudba | P21: =SUM(E32) -> 0
A22: Březen | B22: =(B112) -> 0 | C22: =(C112) -> 0 | D22: =(D112) -> 0 | E22: =(E112) -> 0 | F22: =(F112) -> 0 | G22: =(G112) -> 0 | H22: =(H112) -> 0 | I22: =(I112) -> 0 | ... L22: =(L112) -> 0 | N22: Aktivita - hry | P22: =SUM(F32) -> 0
A23: Duben | B23: =(B140) -> 0 | C23: =(C140) -> 0 | D23: =(D140) -> 0 | E23: =(E140) -> 0 | F23: =(F140) -> 0 | G23: =(G140) -> 0 | H23: =(H140) -> 0 | I23: =(I140) -> 0 | ... L23: =(L140) -> 0 | N23: Aktivita - VV | P23: =SUM(G32) -> 1
A24: Květen | B24: =(B168) -> 0 | C24: =(C168) -> 0 | D24: =(D168) -> 0 | E24: =(E168) -> 0 | F24: =(F168) -> 0 | G24: =(G168) -> 0 | H24: =(H168) -> 0 | I24: =(I168) -> 0 | ... L24: =(L168) -> 0 | N24: Aktivita - tanec | P24: =SUM(H32) -> 0
A25: Červen | B25: =(B195) -> 1 | C25: =(C195) -> 0 | D25: =(D195) -> 0 | E25: =(E195) -> 0 | F25: =(F195) -> 0 | G25: =(G195) -> 1 | H25: =(H195) -> 0 | I25: =(I195) -> 0 | ... L25: =(L195) -> 0 | N25: Aktivita - zpěv | P25: =SUM(I32) -> 0
A26: Červenec | B26: =(B224) -> 0 | C26: =(C224) -> 0 | D26: =(D224) -> 0 | E26: =(E224) -> 0 | F26: =(F224) -> 0 | G26: =(G224) -> 0 | H26: =(H224) -> 0 | I26: =(I224) -> 0 | ... L26: =(L224) -> 0 | N26: Aktivita - DVD | P26: =SUM(J32) -> 0
A27: Srpen | B27: =(B251) -> 0 | C27: =(C251) -> 0 | D27: =(D251) -> 0 | E27: =(E251) -> 0 | F27: =(F251) -> 0 | G27: =(G251) -> 0 | H27: =(H251) -> 0 | I27: =(I251) -> 0 | ... L27: =(L251) -> 0 | N27: Aktivita - out | P27: =SUM(K32) -> 0
A28: Září | B28: =(B279) -> 0 | C28: =(C279) -> 0 | D28: =(D279) -> 0 | E28: =(E279) -> 0 | F28: =(F279) -> 0 | G28: =(G279) -> 0 | H28: =(H279) -> 0 | I28: =(I279) -> 0 | ... L28: =(L279) -> 0 | N28: Komunikace se SP | P28: =SUM(L32) -> 0
A29: Říjen | B29: =(B308) -> 0 | C29: =(C308) -> 0 | D29: =(D308) -> 0 | E29: =(E308) -> 0 | F29: =(F308) -> 0 | G29: =(G308) -> 0 | H29: =(H308) -> 0 | I29: =(I308) -> 0 | ... L29: =(L308) -> 0
A30: Listopad | B30: =(B334) -> 0 | C30: =(C334) -> 0 | D30: =(D334) -> 0 | E30: =(E334) -> 0 | F30: =(F334) -> 0 | G30: =(G334) -> 0 | H30: =(H334) -> 0 | I30: =(I334) -> 0 | ... L30: =(L334) -> 0
A31: Prosinec | B31: =(B363) -> 0 | C31: =(C363) -> 0 | D31: =(D363) -> 0 | E31: =(E363) -> 0 | F31: =(F363) -> 0 | G31: =(G363) -> 0 | H31: =(H363) -> 0 | I31: =(I363) -> 0 | ... L31: =(L363) -> 0
A32: Celkem | B32: =SUM(B20:B31) -> 1 | C32: =SUM(C20:C31) -> 0 | D32: =SUM(D20:D31) -> 0 | E32: =SUM(E20:E31) -> 0 | F32: =SUM(F20:F31) -> 0 | G32: =SUM(G20:G31) -> 1 | H32: =SUM(H20:H31) -> 0 | I32: =SUM(I20:I31) -> 0 | ... L32: =SUM(L20:L31) -> 0
A36: Leden - 2014
A38: Datum | B38: Docházka | C38: Učení | D38: Počítač | E38: Hudba | F38: Hry | G38: VV | H38: Tanec | I38: Zpěv | J38: DVD | K38: Out | L38: SP | M38: pochvaly / pokárání
A40: 41645
A41: 41646
A42: 41647
A43: 41648
A44: 41649
A45: 41652
A46: 41653
A47: 41654
A48: 41655
A49: 41656
A50: 41659
A51: 41660
... A58: 41669
A59: Celkem | B59: =SUM(B40:B58) -> 0 | C59: =SUM(C40:C58) -> 0 | D59: =SUM(D40:D58) -> 0 | E59: =SUM(E40:E58) -> 0 | F59: =SUM(F40:F58) -> 0 | G59: =SUM(G40:G58) -> 0 | H59: =SUM(H40:H58) -> 0 | I59: =SUM(I40:I58) -> 0 | ... L59: =SUM(L40:L58) -> 0
A61: Únor - 2014
A63: Datum | B63: Docházka | C63: Učení | D63: Počítač | E63: Hudba | F63: Hry | G63: VV | H63: Tanec | I63: Zpěv | J63: DVD | K63: Out | L63: SP | M63: pochvaly / pokárání
A65: 41673
A66: 41674
A67: 41675
A68: 41676
A69: 41677
A70: 41680
A71: 41681
A72: 41682
A73: 41683
A74: 41684
A75: 41687
A76: 41688
... A84: 41698
A85: Celkem | B85: =SUM(B65:B84) -> 0 | C85: =SUM(C65:C84) -> 0 | D85: =SUM(D65:D84) -> 0 | E85: =SUM(E65:E84) -> 0 | F85: =SUM(F65:F84) -> 0 | G85: =SUM(G65:G84) -> 0 | H85: =SUM(H65:H84) -> 0 | I85: =SUM(I65:I84) -> 0 | ... L85: =SUM(L65:L84) -> 0
A87: Březen - 2014
A89: Datum | B89: Docházka | C89: Učení | D89: Počítač | E89: Hudba | F89: Hry | G89: VV | H89: Tanec | I89: Zpěv | J89: DVD | K89: Out | L89: SP | M89: pochvaly / pokárání
A91: 41701
A92: 41702
A93: 41703
A94: 41704
A95: 41705
A96: 41708
A97: 41709
A98: 41710
A99: 41711
A100: 41712
A101: 41715
A102: 41716
... A111: 41729
A112: Celkem | B112: =SUM(B91:B111) -> 0 | C112: =SUM(C91:C111) -> 0 | D112: =SUM(D91:D111) -> 0 | E112: =SUM(E91:E111) -> 0 | F112: =SUM(F91:F111) -> 0 | G112: =SUM(G91:G111) -> 0 | H112: =SUM(H91:H111) -> 0 | I112: =SUM(I91:I111) -> 0 | ... L112: =SUM(L91:L111) -> 0
A114: Duben - 2014
A116: Datum | B116: Docházka | C116: Učení | D116: Počítač | E116: Hudba | F116: Hry | G116: VV | H116: Tanec | I116: Zpěv | J116: DVD | K116: Out | L116: SP | M116: pochvaly / pokárání
A118: 41730
A119: 41731
A120: 41732
A121: 41733
A122: 41736
A123: 41737
A124: 41738
A125: 41739
A126: 41740
A127: 41743
A128: 41744
A129: 41745
... A139: 41759
A140: Celkem | B140: =SUM(B118:B139) -> 0 | C140: =SUM(C118:C139) -> 0 | D140: =SUM(D118:D139) -> 0 | E140: =SUM(E118:E139) -> 0 | F140: =SUM(F118:F139) -> 0 | G140: =SUM(G118:G139) -> 0 | H140: =SUM(H118:H139) -> 0 | I140: =SUM(I118:I139) -> 0 | ... L140: =SUM(L118:L139) -> 0
A142: Květen - 2014
A144: Datum | B144: Docházka | C144: Učení | D144: Počítač | E144: Hudba | F144: Hry | G144: VV | H144: Tanec | I144: Zpěv | J144: DVD | K144: Out | L144: SP | M144: pochvaly / pokárání
A146: 41760
A147: 41761
A148: 41764
A149: 41765
A150: 41766
A151: 41767
A152: 41768
A153: 41771
A154: 41772
A155: 41773
A156: 41774
A157: 41775
... A167: 41789
...

Sheet Dominik Pecha
D2: Dominik
C3: Jméno | I3: Smlouva o poskytování sociální služby: | M3: NE | N3: Uzavřená dne:
D4: Pecha | I4: Souhlas se zpracováním osobních údajů: | M4: NE | N4: Uzavřený dne:
C5: Příjmení | I5: Individuální plán, přání a cíle klienta: | M5: NE | N5: Uzavřené dne:
C7: Rok nar. | I7: Individuální plán klienta | N7: Uzevřený dne (datum revize)
A16: Statistika klienta za rok 2014 | M16: Celkový přehled
A18: Měsíc | B18: Docházka | C18: Učení | D18: Počítač | E18: Hudba | F18: Hry | G18: VV | H18: Tanec | I18: Zpěv | J18: DVD | K18: Out | L18: SP | N18: Počet dnů v klubu Zvídálek | Q18: =SUM(B32) -> 19
N19: Pomoc při učení | P19: =SUM(C32) -> 0
A20: Leden | B20: =(B59) -> 19 | C20: =(C59) -> 0 | D20: =(D59) -> 19 | E20: =(E59) -> 12 | F20: =(F59) -> 15 | G20: =(G59) -> 3 | H20: =(H59) -> 7 | I20: =(I59) -> 2 | ... L20: =(L59) -> 0 | N20: Aktivita - počítač | P20: =SUM(D32) -> 19
A21: Únor | B21: =(B85) -> 0 | C21: =(C85) -> 0 | D21: =(D85) -> 0 | E21: =(E85) -> 0 | F21: =(F85) -> 0 | G21: =(G85) -> 0 | H21: =(H85) -> 0 | I21: =(I85) -> 0 | ... L21: =(L85) -> 0 | N21: Aktivita - hudba | P21: =SUM(E32) -> 12
A22: Březen | B22: =(B112) -> 0 | C22: =(C112) -> 0 | D22: =(D112) -> 0 | E22: =(E112) -> 0 | F22: =(F112) -> 0 | G22: =(G112) -> 0 | H22: =(H112) -> 0 | I22: =(I112) -> 0 | ... L22: =(L112) -> 0 | N22: Aktivita - hry | P22: =SUM(F32) -> 15
A23: Duben | B23: =(B140) -> 0 | C23: =(C140) -> 0 | D23: =(D140) -> 0 | E23: =(E140) -> 0 | F23: =(F140) -> 0 | G23: =(G140) -> 0 | H23: =(H140) -> 0 | I23: =(I140) -> 0 | ... L23: =(L140) -> 0 | N23: Aktivita - VV | P23: =SUM(G32) -> 3
A24: Květen | B24: =(B168) -> 0 | C24: =(C168) -> 0 | D24: =(D168) -> 0 | E24: =(E168) -> 0 | F24: =(F168) -> 0 | G24: =(G168) -> 0 | H24: =(H168) -> 0 | I24: =(I168) -> 0 | ... L24: =(L168) -> 0 | N24: Aktivita - tanec | P24: =SUM(H32) -> 7
A25: Červen | B25: =(B195) -> 0 | C25: =(C195) -> 0 | D25: =(D195) -> 0 | E25: =(E195) -> 0 | F25: =(F195) -> 0 | G25: =(G195) -> 0 | H25: =(H195) -> 0 | I25: =(I195) -> 0 | ... L25: =(L195) -> 0 | N25: Aktivita - zpěv | P25: =SUM(I32) -> 2
A26: Červenec | B26: =(B224) -> 0 | C26: =(C224) -> 0 | D26: =(D224) -> 0 | E26: =(E224) -> 0 | F26: =(F224) -> 0 | G26: =(G224) -> 0 | H26: =(H224) -> 0 | I26: =(I224) -> 0 | ... L26: =(L224) -> 0 | N26: Aktivita - DVD | P26: =SUM(J32) -> 1
A27: Srpen | B27: =(B251) -> 0 | C27: =(C251) -> 0 | D27: =(D251) -> 0 | E27: =(E251) -> 0 | F27: =(F251) -> 0 | G27: =(G251) -> 0 | H27: =(H251) -> 0 | I27: =(I251) -> 0 | ... L27: =(L251) -> 0 | N27: Aktivita - out | P27: =SUM(K32) -> 0
A28: Září | B28: =(B279) -> 0 | C28: =(C279) -> 0 | D28: =(D279) -> 0 | E28: =(E279) -> 0 | F28: =(F279) -> 0 | G28: =(G279) -> 0 | H28: =(H279) -> 0 | I28: =(I279) -> 0 | ... L28: =(L279) -> 0 | N28: Komunikace se SP | P28: =SUM(L32) -> 0
A29: Říjen | B29: =(B308) -> 0 | C29: =(C308) -> 0 | D29: =(D308) -> 0 | E29: =(E308) -> 0 | F29: =(F308) -> 0 | G29: =(G308) -> 0 | H29: =(H308) -> 0 | I29: =(I308) -> 0 | ... L29: =(L308) -> 0
A30: Listopad | B30: =(B334) -> 0 | C30: =(C334) -> 0 | D30: =(D334) -> 0 | E30: =(E334) -> 0 | F30: =(F334) -> 0 | G30: =(G334) -> 0 | H30: =(H334) -> 0 | I30: =(I334) -> 0 | ... L30: =(L334) -> 0
A31: Prosinec | B31: =(B363) -> 0 | C31: =(C363) -> 0 | D31: =(D363) -> 0 | E31: =(E363) -> 0 | F31: =(F363) -> 0 | G31: =(G363) -> 0 | H31: =(H363) -> 0 | I31: =(I363) -> 0 | ... L31: =(L363) -> 0
A32: Celkem | B32: =SUM(B20:B31) -> 19 | C32: =SUM(C20:C31) -> 0 | D32: =SUM(D20:D31) -> 19 | E32: =SUM(E20:E31) -> 12 | F32: =SUM(F20:F31) -> 15 | G32: =SUM(G20:G31) -> 3 | H32: =SUM(H20:H31) -> 7 | I32: =SUM(I20:I31) -> 2 | ... L32: =SUM(L20:L31) -> 0
A36: Leden - 2014
A38: Datum | B38: Docházka | C38: Učení | D38: Počítač | E38: Hudba | F38: Hry | G38: VV | H38: Tanec | I38: Zpěv | J38: DVD | K38: Out | L38: SP | M38: pochvaly / pokárání
A40: 41645 | B40: 1 | D40: 1 | E40: 1 | F40: 1 | H40: 1
A41: 41646 | B41: 1 | D41: 1 | E41: 1 | F41: 1
A42: 41647 | B42: 1 | D42: 1 | E42: 1 | F42: 1
A43: 41648 | B43: 1 | D43: 1
A44: 41649 | B44: 1 | D44: 1 | F44: 1
A45: 41652 | B45: 1 | D45: 1
A46: 41653 | B46: 1 | D46: 1 | F46: 1
A47: 41654 | B47: 1 | D47: 1 | F47: 1 | H47: 1 | I47: 1
A48: 41655 | B48: 1 | D48: 1 | E48: 1 | F48: 1 | H48: 1
A49: 41656 | B49: 1 | D49: 1 | E49: 1 | F49: 1 | H49: 1
A50: 41659 | B50: 1 | D50: 1 | E50: 1 | F50: 1 | G50: 1
A51: 41660 | B51: 1 | D51: 1 | F51: 1
A52: 41661 | B52: 1 | D52: 1 | E52: 1 | H52: 1
A53: 41662 | B53: 1 | D53: 1 | E53: 1 | F53: 1
A54: 41663 | B54: 1 | D54: 1 | E54: 1 | H54: 1 | I54: 1 | J54: 1
A55: 41666 | B55: 1 | D55: 1 | E55: 1 | F55: 1
A56: 41667 | B56: 1 | D56: 1 | E56: 1 | F56: 1
A57: 41668 | B57: 1 | D57: 1 | E57: 1 | F57: 1 | G57: 1
A58: 41669 | B58: 1 | D58: 1 | F58: 1 | G58: 1 | H58: 1
A59: Celkem | B59: =SUM(B40:B58) -> 19 | C59: =SUM(C40:C58) -> 0 | D59: =SUM(D40:D58) -> 19 | E59: =SUM(E40:E58) -> 12 | F59: =SUM(F40:F58) -> 15 | G59: =SUM(G40:G58) -> 3 | H59: =SUM(H40:H58) -> 7 | I59: =SUM(I40:I58) -> 2 | ... L59: =SUM(L40:L58) -> 0
A61: Únor - 2014
A63: Datum | B63: Docházka | C63: Učení | D63: Počítač | E63: Hudba | F63: Hry | G63: VV | H63: Tanec | I63: Zpěv | J63: DVD | K63: Out | L63: SP | M63: pochvaly / pokárání
A65: 41673
A66: 41674
A67: 41675
A68: 41676
A69: 41677
A70: 41680
A71: 41681
A72: 41682
A73: 41683
A74: 41684
A75: 41687
A76: 41688
... A84: 41698
A85: Celkem | B85: =SUM(B65:B84) -> 0 | C85: =SUM(C65:C84) -> 0 | D85: =SUM(D65:D84) -> 0 | E85: =SUM(E65:E84) -> 0 | F85: =SUM(F65:F84) -> 0 | G85: =SUM(G65:G84) -> 0 | H85: =SUM(H65:H84) -> 0 | I85: =SUM(I65:I84) -> 0 | ... L85: =SUM(L65:L84) -> 0
A87: Březen - 2014
A89: Datum | B89: Docházka | C89: Učení | D89: Počítač | E89: Hudba | F89: Hry | G89: VV | H89: Tanec | I89: Zpěv | J89: DVD | K89: Out | L89: SP | M89: pochvaly / pokárání
A91: 41701
A92: 41702
A93: 41703
A94: 41704
A95: 41705
A96: 41708
A97: 41709
A98: 41710
A99: 41711
A100: 41712
A101: 41715
A102: 41716
... A111: 41729
A112: Celkem | B112: =SUM(B91:B111) -> 0 | C112: =SUM(C91:C111) -> 0 | D112: =SUM(D91:D111) -> 0 | E112: =SUM(E91:E111) -> 0 | F112: =SUM(F91:F111) -> 0 | G112: =SUM(G91:G111) -> 0 | H112: =SUM(H91:H111) -> 0 | I112: =SUM(I91:I111) -> 0 | ... L112: =SUM(L91:L111) -> 0
A114: Duben - 2014
A116: Datum | B116: Docházka | C116: Učení | D116: Počítač | E116: Hudba | F116: Hry | G116: VV | H116: Tanec | I116: Zpěv | J116: DVD | K116: Out | L116: SP | M116: pochvaly / pokárání
A118: 41730
A119: 41731
A120: 41732
A121: 41733
A122: 41736
A123: 41737
A124: 41738
A125: 41739
A126: 41740
A127: 41743
A128: 41744
A129: 41745
... A139: 41759
A140: Celkem | B140: =SUM(B118:B139) -> 0 | C140: =SUM(C118:C139) -> 0 | D140: =SUM(D118:D139) -> 0 | E140: =SUM(E118:E139) -> 0 | F140: =SUM(F118:F139) -> 0 | G140: =SUM(G118:G139) -> 0 | H140: =SUM(H118:H139) -> 0 | I140: =SUM(I118:I139) -> 0 | ... L140: =SUM(L118:L139) -> 0
A142: Květen - 2014
A144: Datum | B144: Docházka | C144: Učení | D144: Počítač | E144: Hudba | F144: Hry | G144: VV | H144: Tanec | I144: Zpěv | J144: DVD | K144: Out | L144: SP | M144: pochvaly / pokárání
A146: 41760
A147: 41761
A148: 41764
A149: 41765
A150: 41766
A151: 41767
A152: 41768
...

Sheet Dominik Suchý
D2: Dominik
C3: Jméno | I3: Smlouva o poskytování sociální služby: | M3: NE | N3: Uzavřená dne:
D4: Suchý | I4: Souhlas se zpracováním osobních údajů: | M4: NE | N4: Uzavřený dne:
C5: Příjmení | I5: Individuální plán, přání a cíle klienta: | M5: NE | N5: Uzavřené dne:
C7: Rok nar. | I7: Individuální plán klienta | N7: Uzevřený dne (datum revize)
A16: Statistika klienta za rok 2014 | M16: Celkový přehled
A18: Měsíc | B18: Docházka | C18: Učení | D18: Počítač | E18: Hudba | F18: Hry | G18: VV | H18: Tanec | I18: Zpěv | J18: DVD | K18: Out | L18: SP | N18: Počet dnů v klubu Zvídálek | Q18: =SUM(B32) -> 49
N19: Pomoc při učení | P19: =SUM(C32) -> 0
A20: Leden | B20: =(B59) -> 13 | C20: =(C59) -> 0 | D20: =(D59) -> 10 | E20: =(E59) -> 13 | F20: =(F59) -> 7 | G20: =(G59) -> 4 | H20: =(H59) -> 0 | I20: =(I59) -> 0 | ... L20: =(L59) -> 0 | N20: Aktivita - počítač | P20: =SUM(D32) -> 29
A21: Únor | B21: =(B85) -> 14 | C21: =(C85) -> 0 | D21: =(D85) -> 11 | E21: =(E85) -> 14 | F21: =(F85) -> 2 | G21: =(G85) -> 5 | H21: =(H85) -> 0 | I21: =(I85) -> 0 | ... L21: =(L85) -> 0 | N21: Aktivita - hudba | P21: =SUM(E32) -> 47
A22: Březen | B22: =(B112) -> 8 | C22: =(C112) -> 0 | D22: =(D112) -> 3 | E22: =(E112) -> 8 | F22: =(F112) -> 5 | G22: =(G112) -> 1 | H22: =(H112) -> 0 | I22: =(I112) -> 0 | ... L22: =(L112) -> 0 | N22: Aktivita - hry | P22: =SUM(F32) -> 22
A23: Duben | B23: =(B140) -> 7 | C23: =(C140) -> 0 | D23: =(D140) -> 3 | E23: =(E140) -> 6 | F23: =(F140) -> 4 | G23: =(G140) -> 1 | H23: =(H140) -> 0 | I23: =(I140) -> 0 | ... L23: =(L140) -> 0 | N23: Aktivita - VV | P23: =SUM(G32) -> 11
A24: Květen | B24: =(B168) -> 4 | C24: =(C168) -> 0 | D24: =(D168) -> 2 | E24: =(E168) -> 4 | F24: =(F168) -> 2 | G24: =(G168) -> 0 | H24: =(H168) -> 0 | I24: =(I168) -> 0 | ... L24: =(L168) -> 0 | N24: Aktivita - tanec | P24: =SUM(H32) -> 0
A25: Červen | B25: =(B195) -> 2 | C25: =(C195) -> 0 | D25: =(D195) -> 0 | E25: =(E195) -> 1 | F25: =(F195) -> 2 | G25: =(G195) -> 0 | H25: =(H195) -> 0 | I25: =(I195) -> 0 | ... L25: =(L195) -> 0 | N25: Aktivita - zpěv | P25: =SUM(I32) -> 0
A26: Červenec | B26: =(B224) -> 1 | C26: =(C224) -> 0 | D26: =(D224) -> 0 | E26: =(E224) -> 1 | F26: =(F224) -> 0 | G26: =(G224) -> 0 | H26: =(H224) -> 0 | I26: =(I224) -> 0 | ... L26: =(L224) -> 0 | N26: Aktivita - DVD | P26: =SUM(J32) -> 5
A27: Srpen | B27: =(B251) -> 0 | C27: =(C251) -> 0 | D27: =(D251) -> 0 | E27: =(E251) -> 0 | F27: =(F251) -> 0 | G27: =(G251) -> 0 | H27: =(H251) -> 0 | I27: =(I251) -> 0 | ... L27: =(L251) -> 0 | N27: Aktivita - out | P27: =SUM(K32) -> 0
A28: Září | B28: =(B279) -> 0 | C28: =(C279) -> 0 | D28: =(D279) -> 0 | E28: =(E279) -> 0 | F28: =(F279) -> 0 | G28: =(G279) -> 0 | H28: =(H279) -> 0 | I28: =(I279) -> 0 | ... L28: =(L279) -> 0 | N28: Komunikace se SP | P28: =SUM(L32) -> 0
A29: Říjen | B29: =(B308) -> 0 | C29: =(C308) -> 0 | D29: =(D308) -> 0 | E29: =(E308) -> 0 | F29: =(F308) -> 0 | G29: =(G308) -> 0 | H29: =(H308) -> 0 | I29: =(I308) -> 0 | ... L29: =(L308) -> 0
A30: Listopad | B30: =(B334) -> 0 | C30: =(C334) -> 0 | D30: =(D334) -> 0 | E30: =(E334) -> 0 | F30: =(F334) -> 0 | G30: =(G334) -> 0 | H30: =(H334) -> 0 | I30: =(I334) -> 0 | ... L30: =(L334) -> 0
A31: Prosinec | B31: =(B363) -> 0 | C31: =(C363) -> 0 | D31: =(D363) -> 0 | E31: =(E363) -> 0 | F31: =(F363) -> 0 | G31: =(G363) -> 0 | H31: =(H363) -> 0 | I31: =(I363) -> 0 | ... L31: =(L363) -> 0
A32: Celkem | B32: =SUM(B20:B31) -> 49 | C32: =SUM(C20:C31) -> 0 | D32: =SUM(D20:D31) -> 29 | E32: =SUM(E20:E31) -> 47 | F32: =SUM(F20:F31) -> 22 | G32: =SUM(G20:G31) -> 11 | H32: =SUM(H20:H31) -> 0 | I32: =SUM(I20:I31) -> 0 | ... L32: =SUM(L20:L31) -> 0
A36: Leden - 2014
A38: Datum | B38: Docházka | C38: Učení | D38: Počítač | E38: Hudba | F38: Hry | G38: VV | H38: Tanec | I38: Zpěv | J38: DVD | K38: Out | L38: SP | M38: pochvaly / pokárání
A40: 41645 | B40: 1 | E40: 1 | G40: 1
A41: 41646 | B41: 1 | D41: 1 | E41: 1 | F41: 1 | G41: 1
A42: 41647 | B42: 1 | D42: 1 | E42: 1 | F42: 1 | G42: 1 | J42: 1
A43: 41648
A44: 41649 | B44: 1 | E44: 1
A45: 41652 | B45: 1 | D45: 1 | E45: 1
A46: 41653 | B46: 1 | D46: 1 | E46: 1 | F46: 1
A47: 41654
A48: 41655 | B48: 1 | D48: 1 | E48: 1 | F48: 1
A49: 41656 | B49: 1 | D49: 1 | E49: 1 | F49: 1
A50: 41659 | B50: 1 | D50: 1 | E50: 1 | F50: 1 | G50: 1
A51: 41660
A52: 41661 | B52: 1 | D52: 1 | E52: 1
A53: 41662 | B53: 1 | D53: 1 | E53: 1
A54: 41663
A55: 41666 | B55: 1 | E55: 1 | F55: 1
A56: 41667 | B56: 1 | D56: 1 | E56: 1
A57: 41668
A58: 41669
A59: Celkem | B59: =SUM(B40:B58) -> 13 | C59: =SUM(C40:C58) -> 0 | D59: =SUM(D40:D58) -> 10 | E59: =SUM(E40:E58) -> 13 | F59: =SUM(F40:F58) -> 7 | G59: =SUM(G40:G58) -> 4 | H59: =SUM(H40:H58) -> 0 | I59: =SUM(I40:I58) -> 0 | ... L59: =SUM(L40:L58) -> 0
A61: Únor - 2014
A63: Datum | B63: Docházka | C63: Učení | D63: Počítač | E63: Hudba | F63: Hry | G63: VV | H63: Tanec | I63: Zpěv | J63: DVD | K63: Out | L63: SP | M63: pochvaly / pokárání
A65: 41673
A66: 41674
A67: 41675 | B67: 1 | D67: 1 | E67: 1 | G67: 1
A68: 41676 | B68: 1 | D68: 1 | E68: 1
A69: 41677 | B69: 1 | D69: 1 | E69: 1
A70: 41680 | B70: 1 | D70: 1 | E70: 1
A71: 41681 | B71: 1 | D71: 1 | E71: 1 | G71: 1
A72: 41682 | B72: 1 | D72: 1 | E72: 1
A73: 41683 | B73: 1 | D73: 1 | E73: 1
A74: 41684 | B74: 1 | D74: 1 | E74: 1 | G74: 1
A75: 41687 | B75: 1 | D75: 1 | E75: 1
A76: 41688 | B76: 1 | E76: 1
A77: 41689 | B77: 1 | E77: 1 | F77: 1 | G77: 1
A78: 41690 | B78: 1 | D78: 1 | E78: 1 | G78: 1 | M78: Zákaz do Zvídálku na 6 dní, nevhodné chování.
A79: 41691
A80: 41694
A81: 41695
A82: 41696 | B82: 1 | E82: 1 | F82: 1
A83: 41697 | B83: 1 | D83: 1 | E83: 1
A84: 41698
A85: Celkem | B85: =SUM(B65:B84) -> 14 | C85: =SUM(C65:C84) -> 0 | D85: =SUM(D65:D84) -> 11 | E85: =SUM(E65:E84) -> 14 | F85: =SUM(F65:F84) -> 2 | G85: =SUM(G65:G84) -> 5 | H85: =SUM(H65:H84) -> 0 | I85: =SUM(I65:I84) -> 0 | ... L85: =SUM(L65:L84) -> 0
A87: Březen - 2014
A89: Datum | B89: Docházka | C89: Učení | D89: Počítač | E89: Hudba | F89: Hry | G89: VV | H89: Tanec | I89: Zpěv | J89: DVD | K89: Out | L89: SP | M89: pochvaly / pokárání
A91: 41701
A92: 41702
A93: 41703
A94: 41704 | B94: 1 | D94: 1 | E94: 1 | F94: 1
A95: 41705 | B95: 1 | D95: 1 | E95: 1 | G95: 1 | J95: 1
A96: 41708
A97: 41709
A98: 41710
A99: 41711
A100: 41712
A101: 41715 | B101: 1 | E101: 1 | F101: 1
A102: 41716
A103: 41717 | B103: 1 | E103: 1 | J103: 1
A104: 41718 | B104: 1 | E104: 1
A105: 41719
A106: 41722
A107: 41723 | B107: 1 | E107: 1 | F107: 1 | J107: 1
A108: 41724 | B108: 1 | E108: 1 | F108: 1
A109: 41725 | B109: 1 | D109: 1 | E109: 1 | F109: 1
A110: 41726
A111: 41729
A112: Celkem | B112: =SUM(B91:B111) -> 8 | C112: =SUM(C91:C111) -> 0 | D112: =SUM(D91:D111) -> 3 | E112: =SUM(E91:E111) -> 8 | F112: =SUM(F91:F111) -> 5 | G112: =SUM(G91:G111) -> 1 | H112: =SUM(H91:H111) -> 0 | I112: =SUM(I91:I111) -> 0 | ... L112: =SUM(L91:L111) -> 0
A114: Duben - 2014
A116: Datum | B116: Docházka | C116: Učení | D116: Počítač | E116: Hudba | F116: Hry | G116: VV | H116: Tanec | I116: Zpěv | J116: DVD | K116: Out | L116: SP | M116: pochvaly / pokárání
A118: 41730
A119: 41731
A120: 41732 | B120: 1 | D120: 1 | E120: 1 | F120: 1
A121: 41733
A122: 41736
A123: 41737 | B123: 1 | D123: 1 | E123: 1
A124: 41738
A125: 41739 | B125: 1 | D125: 1 | E125: 1
...

Sheet Erik Baláž
D2: Erik
C3: Jméno | I3: Smlouva o poskytování sociální služby: | M3: NE | N3: Uzavřená dne:
D4: Baláž | I4: Souhlas se zpracováním osobních údajů: | M4: NE | N4: Uzavřený dne:
C5: Příjmení | I5: Individuální plán, přání a cíle klienta: | M5: NE | N5: Uzavřené dne:
C7: Rok nar. | I7: Individuální plán klienta | N7: Uzevřený dne (datum revize)
A16: Statistika klienta za rok 2014 | M16: Celkový přehled
A18: Měsíc | B18: Docházka | C18: Učení | D18: Počítač | E18: Hudba | F18: Hry | G18: VV | H18: Tanec | I18: Zpěv | J18: DVD | K18: Out | L18: SP | N18: Počet dnů v klubu Zvídálek | Q18: =SUM(B32) -> 18
N19: Pomoc při učení | P19: =SUM(C32) -> 0
A20: Leden | B20: =(B59) -> 18 | C20: =(C59) -> 0 | D20: =(D59) -> 15 | E20: =(E59) -> 18 | F20: =(F59) -> 10 | G20: =(G59) -> 5 | H20: =(H59) -> 8 | I20: =(I59) -> 3 | ... L20: =(L59) -> 0 | N20: Aktivita - počítač | P20: =SUM(D32) -> 15
A21: Únor | B21: =(B85) -> 0 | C21: =(C85) -> 0 | D21: =(D85) -> 0 | E21: =(E85) -> 0 | F21: =(F85) -> 0 | G21: =(G85) -> 0 | H21: =(H85) -> 0 | I21: =(I85) -> 0 | ... L21: =(L85) -> 0 | N21: Aktivita - hudba | P21: =SUM(E32) -> 18
A22: Březen | B22: =(B112) -> 0 | C22: =(C112) -> 0 | D22: =(D112) -> 0 | E22: =(E112) -> 0 | F22: =(F112) -> 0 | G22: =(G112) -> 0 | H22: =(H112) -> 0 | I22: =(I112) -> 0 | ... L22: =(L112) -> 0 | N22: Aktivita - hry | P22: =SUM(F32) -> 10
A23: Duben | B23: =(B140) -> 0 | C23: =(C140) -> 0 | D23: =(D140) -> 0 | E23: =(E140) -> 0 | F23: =(F140) -> 0 | G23: =(G140) -> 0 | H23: =(H140) -> 0 | I23: =(I140) -> 0 | ... L23: =(L140) -> 0 | N23: Aktivita - VV | P23: =SUM(G32) -> 5
A24: Květen | B24: =(B168) -> 0 | C24: =(C168) -> 0 | D24: =(D168) -> 0 | E24: =(E168) -> 0 | F24: =(F168) -> 0 | G24: =(G168) -> 0 | H24: =(H168) -> 0 | I24: =(I168) -> 0 | ... L24: =(L168) -> 0 | N24: Aktivita - tanec | P24: =SUM(H32) -> 8
A25: Červen | B25: =(B195) -> 0 | C25: =(C195) -> 0 | D25: =(D195) -> 0 | E25: =(E195) -> 0 | F25: =(F195) -> 0 | G25: =(G195) -> 0 | H25: =(H195) -> 0 | I25: =(I195) -> 0 | ... L25: =(L195) -> 0 | N25: Aktivita - zpěv | P25: =SUM(I32) -> 3
A26: Červenec | B26: =(B224) -> 0 | C26: =(C224) -> 0 | D26: =(D224) -> 0 | E26: =(E224) -> 0 | F26: =(F224) -> 0 | G26: =(G224) -> 0 | H26: =(H224) -> 0 | I26: =(I224) -> 0 | ... L26: =(L224) -> 0 | N26: Aktivita - DVD | P26: =SUM(J32) -> 2
A27: Srpen | B27: =(B251) -> 0 | C27: =(C251) -> 0 | D27: =(D251) -> 0 | E27: =(E251) -> 0 | F27: =(F251) -> 0 | G27: =(G251) -> 0 | H27: =(H251) -> 0 | I27: =(I251) -> 0 | ... L27: =(L251) -> 0 | N27: Aktivita - out | P27: =SUM(K32) -> 0
A28: Září | B28: =(B279) -> 0 | C28: =(C279) -> 0 | D28: =(D279) -> 0 | E28: =(E279) -> 0 | F28: =(F279) -> 0 | G28: =(G279) -> 0 | H28: =(H279) -> 0 | I28: =(I279) -> 0 | ... L28: =(L279) -> 0 | N28: Komunikace se SP | P28: =SUM(L32) -> 0
A29: Říjen | B29: =(B308) -> 0 | C29: =(C308) -> 0 | D29: =(D308) -> 0 | E29: =(E308) -> 0 | F29: =(F308) -> 0 | G29: =(G308) -> 0 | H29: =(H308) -> 0 | I29: =(I308) -> 0 | ... L29: =(L308) -> 0
A30: Listopad | B30: =(B334) -> 0 | C30: =(C334) -> 0 | D30: =(D334) -> 0 | E30: =(E334) -> 0 | F30: =(F334) -> 0 | G30: =(G334) -> 0 | H30: =(H334) -> 0 | I30: =(I334) -> 0 | ... L30: =(L334) -> 0
A31: Prosinec | B31: =(B363) -> 0 | C31: =(C363) -> 0 | D31: =(D363) -> 0 | E31: =(E363) -> 0 | F31: =(F363) -> 0 | G31: =(G363) -> 0 | H31: =(H363) -> 0 | I31: =(I363) -> 0 | ... L31: =(L363) -> 0
A32: Celkem | B32: =SUM(B20:B31) -> 18 | C32: =SUM(C20:C31) -> 0 | D32: =SUM(D20:D31) -> 15 | E32: =SUM(E20:E31) -> 18 | F32: =SUM(F20:F31) -> 10 | G32: =SUM(G20:G31) -> 5 | H32: =SUM(H20:H31) -> 8 | I32: =SUM(I20:I31) -> 3 | ... L32: =SUM(L20:L31) -> 0
A36: Leden - 2014
A38: Datum | B38: Docházka | C38: Učení | D38: Počítač | E38: Hudba | F38: Hry | G38: VV | H38: Tanec | I38: Zpěv | J38: DVD | K38: Out | L38: SP | M38: pochvaly / pokárání
A40: 41645 | B40: 1 | E40: 1
A41: 41646 | B41: 1 | D41: 1 | E41: 1 | F41: 1 | G41: 1
A42: 41647 | B42: 1 | D42: 1 | E42: 1 | H42: 1
A43: 41648 | B43: 1 | D43: 1 | E43: 1 | F43: 1
A44: 41649 | B44: 1 | E44: 1
A45: 41652 | B45: 1 | D45: 1 | E45: 1 | G45: 1
A46: 41653 | B46: 1 | D46: 1 | E46: 1 | F46: 1 | H46: 1
A47: 41654 | B47: 1 | D47: 1 | E47: 1 | F47: 1 | G47: 1 | H47: 1
A48: 41655 | B48: 1 | D48: 1 | E48: 1 | F48: 1 | G48: 1 | H48: 1
A49: 41656
A50: 41659 | B50: 1 | D50: 1 | E50: 1 | F50: 1 | H50: 1 | I50: 1
A51: 41660 | B51: 1 | E51: 1 | G51: 1
A52: 41661 | B52: 1 | D52: 1 | E52: 1 | F52: 1 | H52: 1 | I52: 1
A53: 41662 | B53: 1 | D53: 1 | E53: 1 | H53: 1 | J53: 1
A54: 41663 | B54: 1 | D54: 1 | E54: 1 | F54: 1
A55: 41666 | B55: 1 | D55: 1 | E55: 1
A56: 41667 | B56: 1 | D56: 1 | E56: 1
A57: 41668 | B57: 1 | D57: 1 | E57: 1 | F57: 1
A58: 41669 | B58: 1 | D58: 1 | E58: 1 | F58: 1 | H58: 1 | I58: 1 | J58: 1
A59: Celkem | B59: =SUM(B40:B58) -> 18 | C59: =SUM(C40:C58) -> 0 | D59: =SUM(D40:D58) -> 15 | E59: =SUM(E40:E58) -> 18 | F59: =SUM(F40:F58) -> 10 | G59: =SUM(G40:G58) -> 5 | H59: =SUM(H40:H58) -> 8 | I59: =SUM(I40:I58) -> 3 | ... L59: =SUM(L40:L58) -> 0
A61: Únor - 2014
A63: Datum | B63: Docházka | C63: Učení | D63: Počítač | E63: Hudba | F63: Hry | G63: VV | H63: Tanec | I63: Zpěv | J63: DVD | K63: Out | L63: SP | M63: pochvaly / pokárání
A65: 41673
A66: 41674
A67: 41675
A68: 41676
A69: 41677
A70: 41680
A71: 41681
A72: 41682
A73: 41683
A74: 41684
A75: 41687
A76: 41688
... A84: 41698
A85: Celkem | B85: =SUM(B65:B84) -> 0 | C85: =SUM(C65:C84) -> 0 | D85: =SUM(D65:D84) -> 0 | E85: =SUM(E65:E84) -> 0 | F85: =SUM(F65:F84) -> 0 | G85: =SUM(G65:G84) -> 0 | H85: =SUM(H65:H84) -> 0 | I85: =SUM(I65:I84) -> 0 | ... L85: =SUM(L65:L84) -> 0
A87: Březen - 2014
A89: Datum | B89: Docházka | C89: Učení | D89: Počítač | E89: Hudba | F89: Hry | G89: VV | H89: Tanec | I89: Zpěv | J89: DVD | K89: Out | L89: SP | M89: pochvaly / pokárání
A91: 41701
A92: 41702
A93: 41703
A94: 41704
A95: 41705
A96: 41708
A97: 41709
A98: 41710
A99: 41711
A100: 41712
A101: 41715
A102: 41716
... A111: 41729
A112: Celkem | B112: =SUM(B91:B111) -> 0 | C112: =SUM(C91:C111) -> 0 | D112: =SUM(D91:D111) -> 0 | E112: =SUM(E91:E111) -> 0 | F112: =SUM(F91:F111) -> 0 | G112: =SUM(G91:G111) -> 0 | H112: =SUM(H91:H111) -> 0 | I112: =SUM(I91:I111) -> 0 | ... L112: =SUM(L91:L111) -> 0
A114: Duben - 2014
A116: Datum | B116: Docházka | C116: Učení | D116: Počítač | E116: Hudba | F116: Hry | G116: VV | H116: Tanec | I116: Zpěv | J116: DVD | K116: Out | L116: SP | M116: pochvaly / pokárání
A118: 41730
A119: 41731
A120: 41732
A121: 41733
A122: 41736
A123: 41737
A124: 41738
A125: 41739
A126: 41740
A127: 41743
A128: 41744
A129: 41745
... A139: 41759
A140: Celkem | B140: =SUM(B118:B139) -> 0 | C140: =SUM(C118:C139) -> 0 | D140: =SUM(D118:D139) -> 0 | E140: =SUM(E118:E139) -> 0 | F140: =SUM(F118:F139) -> 0 | G140: =SUM(G118:G139) -> 0 | H140: =SUM(H118:H139) -> 0 | I140: =SUM(I118:I139) -> 0 | ... L140: =SUM(L118:L139) -> 0
A142: Květen - 2014
A144: Datum | B144: Docházka | C144: Učení | D144: Počítač | E144: Hudba | F144: Hry | G144: VV | H144: Tanec | I144: Zpěv | J144: DVD | K144: Out | L144: SP | M144: pochvaly / pokárání
A146: 41760
A147: 41761
A148: 41764
A149: 41765
A150: 41766
A151: 41767
A152: 41768
...

Sheet Erik Kumai
D2: Erik
C3: Jméno | I3: Smlouva o poskytování sociální služby: | M3: NE | N3: Uzavřená dne:
D4: Kumai | I4: Souhlas se zpracováním osobních údajů: | M4: NE | N4: Uzavřený dne:
C5: Příjmení | I5: Individuální plán, přání a cíle klienta: | M5: NE | N5: Uzavřené dne:
C7: Rok nar. | I7: Individuální plán klienta | N7: Uzevřený dne (datum revize)
A16: Statistika klienta za rok 2014 | M16: Celkový přehled
A18: Měsíc | B18: Docházka | C18: Učení | D18: Počítač | E18: Hudba | F18: Hry | G18: VV | H18: Tanec | I18: Zpěv | J18: DVD | K18: Out | L18: SP | N18: Počet dnů v klubu Zvídálek | Q18: =SUM(B32) -> 77
N19: Pomoc při učení | P19: =SUM(C32) -> 0
A20: Leden | B20: =(B59) -> 15 | C20: =(C59) -> 0 | D20: =(D59) -> 13 | E20: =(E59) -> 14 | F20: =(F59) -> 8 | G20: =(G59) -> 1 | H20: =(H59) -> 1 | I20: =(I59) -> 1 | ... L20: =(L59) -> 0 | N20: Aktivita - počítač | P20: =SUM(D32) -> 60
A21: Únor | B21: =(B85) -> 18 | C21: =(C85) -> 0 | D21: =(D85) -> 17 | E21: =(E85) -> 16 | F21: =(F85) -> 3 | G21: =(G85) -> 1 | H21: =(H85) -> 1 | I21: =(I85) -> 0 | ... L21: =(L85) -> 0 | N21: Aktivita - hudba | P21: =SUM(E32) -> 68
A22: Březen | B22: =(B112) -> 18 | C22: =(C112) -> 0 | D22: =(D112) -> 15 | E22: =(E112) -> 17 | F22: =(F112) -> 4 | G22: =(G112) -> 0 | H22: =(H112) -> 0 | I22: =(I112) -> 0 | ... L22: =(L112) -> 0 | N22: Aktivita - hry | P22: =SUM(F32) -> 20
A23: Duben | B23: =(B140) -> 12 | C23: =(C140) -> 0 | D23: =(D140) -> 8 | E23: =(E140) -> 10 | F23: =(F140) -> 2 | G23: =(G140) -> 0 | H23: =(H140) -> 0 | I23: =(I140) -> 0 | ... L23: =(L140) -> 0 | N23: Aktivita - VV | P23: =SUM(G32) -> 3
A24: Květen | B24: =(B168) -> 5 | C24: =(C168) -> 0 | D24: =(D168) -> 2 | E24: =(E168) -> 4 | F24: =(F168) -> 0 | G24: =(G168) -> 0 | H24: =(H168) -> 0 | I24: =(I168) -> 0 | ... L24: =(L168) -> 0 | N24: Aktivita - tanec | P24: =SUM(H32) -> 2
A25: Červen | B25: =(B195) -> 0 | C25: =(C195) -> 0 | D25: =(D195) -> 0 | E25: =(E195) -> 0 | F25: =(F195) -> 0 | G25: =(G195) -> 0 | H25: =(H195) -> 0 | I25: =(I195) -> 0 | ... L25: =(L195) -> 0 | N25: Aktivita - zpěv | P25: =SUM(I32) -> 1
A26: Červenec | B26: =(B224) -> 5 | C26: =(C224) -> 0 | D26: =(D224) -> 2 | E26: =(E224) -> 4 | F26: =(F224) -> 2 | G26: =(G224) -> 1 | H26: =(H224) -> 0 | I26: =(I224) -> 0 | ... L26: =(L224) -> 0 | N26: Aktivita - DVD | P26: =SUM(J32) -> 5
A27: Srpen | B27: =(B251) -> 4 | C27: =(C251) -> 0 | D27: =(D251) -> 3 | E27: =(E251) -> 3 | F27: =(F251) -> 1 | G27: =(G251) -> 0 | H27: =(H251) -> 0 | I27: =(I251) -> 0 | ... L27: =(L251) -> 0 | N27: Aktivita - out | P27: =SUM(K32) -> 1
A28: Září | B28: =(B279) -> 0 | C28: =(C279) -> 0 | D28: =(D279) -> 0 | E28: =(E279) -> 0 | F28: =(F279) -> 0 | G28: =(G279) -> 0 | H28: =(H279) -> 0 | I28: =(I279) -> 0 | ... L28: =(L279) -> 0 | N28: Komunikace se SP | P28: =SUM(L32) -> 0
A29: Říjen | B29: =(B308) -> 0 | C29: =(C308) -> 0 | D29: =(D308) -> 0 | E29: =(E308) -> 0 | F29: =(F308) -> 0 | G29: =(G308) -> 0 | H29: =(H308) -> 0 | I29: =(I308) -> 0 | ... L29: =(L308) -> 0
A30: Listopad | B30: =(B334) -> 0 | C30: =(C334) -> 0 | D30: =(D334) -> 0 | E30: =(E334) -> 0 | F30: =(F334) -> 0 | G30: =(G334) -> 0 | H30: =(H334) -> 0 | I30: =(I334) -> 0 | ... L30: =(L334) -> 0
A31: Prosinec | B31: =(B363) -> 0 | C31: =(C363) -> 0 | D31: =(D363) -> 0 | E31: =(E363) -> 0 | F31: =(F363) -> 0 | G31: =(G363) -> 0 | H31: =(H363) -> 0 | I31: =(I363) -> 0 | ... L31: =(L363) -> 0
A32: Celkem | B32: =SUM(B20:B31) -> 77 | C32: =SUM(C20:C31) -> 0 | D32: =SUM(D20:D31) -> 60 | E32: =SUM(E20:E31) -> 68 | F32: =SUM(F20:F31) -> 20 | G32: =SUM(G20:G31) -> 3 | H32: =SUM(H20:H31) -> 2 | I32: =SUM(I20:I31) -> 1 | ... L32: =SUM(L20:L31) -> 0
A36: Leden - 2014
A38: Datum | B38: Docházka | C38: Učení | D38: Počítač | E38: Hudba | F38: Hry | G38: VV | H38: Tanec | I38: Zpěv | J38: DVD | K38: Out | L38: SP | M38: pochvaly / pokárání
A40: 41645 | B40: 1 | E40: 1
A41: 41646 | B41: 1 | D41: 1 | E41: 1 | F41: 1
A42: 41647 | I42: 1
A43: 41648 | B43: 1 | D43: 1 | E43: 1 | F43: 1 | H43: 1
A44: 41649 | B44: 1 | D44: 1 | F44: 1
A45: 41652
A46: 41653 | B46: 1 | D46: 1 | E46: 1 | F46: 1
A47: 41654 | B47: 1 | D47: 1 | E47: 1 | F47: 1
A48: 41655 | B48: 1 | D48: 1 | E48: 1 | F48: 1
A49: 41656 | B49: 1 | D49: 1 | E49: 1 | F49: 1 | G49: 1
A50: 41659 | B50: 1 | D50: 1 | E50: 1 | F50: 1
A51: 41660 | B51: 1 | D51: 1 | E51: 1
A52: 41661 | B52: 1 | D52: 1 | E52: 1
A53: 41662 | B53: 1 | D53: 1 | E53: 1 | J53: 1
A54: 41663
A55: 41666 | B55: 1 | D55: 1 | E55: 1
A56: 41667 | B56: 1 | D56: 1 | E56: 1
A57: 41668 | B57: 1 | E57: 1
A58: 41669
A59: Celkem | B59: =SUM(B40:B58) -> 15 | C59: =SUM(C40:C58) -> 0 | D59: =SUM(D40:D58) -> 13 | E59: =SUM(E40:E58) -> 14 | F59: =SUM(F40:F58) -> 8 | G59: =SUM(G40:G58) -> 1 | H59: =SUM(H40:H58) -> 1 | I59: =SUM(I40:I58) -> 1 | ... L59: =SUM(L40:L58) -> 0
A61: Únor - 2014
A63: Datum | B63: Docházka | C63: Učení | D63: Počítač | E63: Hudba | F63: Hry | G63: VV | H63: Tanec | I63: Zpěv | J63: DVD | K63: Out | L63: SP | M63: pochvaly / pokárání
A65: 41673 | B65: 1 | D65: 1 | E65: 1 | F65: 1 | G65: 1
A66: 41674 | B66: 1 | D66: 1
A67: 41675 | B67: 1 | D67: 1 | J67: 1
A68: 41676 | B68: 1 | D68: 1 | E68: 1 | F68: 1
A69: 41677 | B69: 1 | D69: 1 | E69: 1
A70: 41680 | B70: 1 | D70: 1 | E70: 1
A71: 41681 | B71: 1 | D71: 1 | E71: 1 | F71: 1 | H71: 1
A72: 41682 | B72: 1 | D72: 1 | E72: 1
A73: 41683 | B73: 1 | D73: 1 | E73: 1
A74: 41684 | B74: 1 | D74: 1 | E74: 1
A75: 41687 | B75: 1 | D75: 1 | E75: 1
A76: 41688 | B76: 1 | D76: 1 | E76: 1
A77: 41689
A78: 41690 | B78: 1 | D78: 1 | E78: 1
A79: 41691 | B79: 1 | D79: 1 | E79: 1
A80: 41694 | B80: 1 | D80: 1 | E80: 1
A81: 41695 | B81: 1 | D81: 1 | E81: 1
A82: 41696 | B82: 1 | E82: 1
A83: 41697 | B83: 1 | D83: 1 | E83: 1
A84: 41698
A85: Celkem | B85: =SUM(B65:B84) -> 18 | C85: =SUM(C65:C84) -> 0 | D85: =SUM(D65:D84) -> 17 | E85: =SUM(E65:E84) -> 16 | F85: =SUM(F65:F84) -> 3 | G85: =SUM(G65:G84) -> 1 | H85: =SUM(H65:H84) -> 1 | I85: =SUM(I65:I84) -> 0 | ... L85: =SUM(L65:L84) -> 0
A87: Březen - 2014
A89: Datum | B89: Docházka | C89: Učení | D89: Počítač | E89: Hudba | F89: Hry | G89: VV | H89: Tanec | I89: Zpěv | J89: DVD | K89: Out | L89: SP | M89: pochvaly / pokárání
A91: 41701 | B91: 1 | D91: 1 | E91: 1
A92: 41702 | B92: 1 | D92: 1 | E92: 1
A93: 41703 | B93: 1 | E93: 1
A94: 41704 | B94: 1 | D94: 1 | E94: 1 | F94: 1
A95: 41705 | B95: 1 | D95: 1 | E95: 1 | J95: 1
A96: 41708 | B96: 1 | D96: 1 | E96: 1
A97: 41709 | B97: 1 | D97: 1 | E97: 1
A98: 41710 | B98: 1 | E98: 1
A99: 41711 | B99: 1 | D99: 1 | E99: 1
A100: 41712 | B100: 1 | D100: 1 | E100: 1
A101: 41715 | B101: 1 | D101: 1 | E101: 1
A102: 41716 | B102: 1 | D102: 1 | E102: 1 | F102: 1
A103: 41717 | B103: 1 | E103: 1 | J103: 1
A104: 41718
A105: 41719 | B105: 1 | D105: 1 | E105: 1
A106: 41722 | B106: 1 | D106: 1 | E106: 1 | F106: 1
A107: 41723 | B107: 1 | D107: 1 | E107: 1
A108: 41724
A109: 41725 | B109: 1 | D109: 1 | E109: 1 | F109: 1
A110: 41726 | B110: 1 | D110: 1
A111: 41729
A112: Celkem | B112: =SUM(B91:B111) -> 18 | C112: =SUM(C91:C111) -> 0 | D112: =SUM(D91:D111) -> 15 | E112: =SUM(E91:E111) -> 17 | F112: =SUM(F91:F111) -> 4 | G112: =SUM(G91:G111) -> 0 | H112: =SUM(H91:H111) -> 0 | I112: =SUM(I91:I111) -> 0 | ... L112: =SUM(L91:L111) -> 0
A114: Duben - 2014
A116: Datum | B116: Docházka | C116: Učení | D116: Počítač | E116: Hudba | F116: Hry | G116: VV | H116: Tanec | I116: Zpěv | J116: DVD | K116: Out | L116: SP | M116: pochvaly / pokárání
A118: 41730 | B118: 1 | D118: 1 | E118: 1 | J118: 1
A119: 41731 | B119: 1 | E119: 1
A120: 41732 | B120: 1 | E120: 1 | F120: 1
A121: 41733 | B121: 1 | E121: 1
A122: 41736
A123: 41737 | B123: 1 | E123: 1
A124: 41738
A125: 41739 | B125: 1 | D125: 1 | E125: 1
...

Sheet Erik Suhý
D2: Erik
C3: Jméno | I3: Smlouva o poskytování sociální služby: | M3: NE | N3: Uzavřená dne:
D4: Suchý | I4: Souhlas se zpracováním osobních údajů: | M4: NE | N4: Uzavřený dne:
C5: Příjmení | I5: Individuální plán, přání a cíle klienta: | M5: NE | N5: Uzavřené dne:
C7: Rok nar. | I7: Individuální plán klienta | N7: Uzevřený dne (datum revize)
A16: Statistika klienta za rok 2014 | M16: Celkový přehled
A18: Měsíc | B18: Docházka | C18: Učení | D18: Počítač | E18: Hudba | F18: Hry | G18: VV | H18: Tanec | I18: Zpěv | J18: DVD | K18: Out | L18: SP | N18: Počet dnů v klubu Zvídálek | Q18: =SUM(B32) -> 3
N19: Pomoc při učení | P19: =SUM(C32) -> 0
A20: Leden | B20: =(B59) -> 0 | C20: =(C59) -> 0 | D20: =(D59) -> 0 | E20: =(E59) -> 0 | F20: =(F59) -> 0 | G20: =(G59) -> 0 | H20: =(H59) -> 0 | I20: =(I59) -> 0 | ... L20: =(L59) -> 0 | N20: Aktivita - počítač | P20: =SUM(D32) -> 2
A21: Únor | B21: =(B85) -> 3 | C21: =(C85) -> 0 | D21: =(D85) -> 2 | E21: =(E85) -> 3 | F21: =(F85) -> 0 | G21: =(G85) -> 0 | H21: =(H85) -> 0 | I21: =(I85) -> 0 | ... L21: =(L85) -> 0 | N21: Aktivita - hudba | P21: =SUM(E32) -> 3
A22: Březen | B22: =(B112) -> 0 | C22: =(C112) -> 0 | D22: =(D112) -> 0 | E22: =(E112) -> 0 | F22: =(F112) -> 0 | G22: =(G112) -> 0 | H22: =(H112) -> 0 | I22: =(I112) -> 0 | ... L22: =(L112) -> 0 | N22: Aktivita - hry | P22: =SUM(F32) -> 0
A23: Duben | B23: =(B140) -> 0 | C23: =(C140) -> 0 | D23: =(D140) -> 0 | E23: =(E140) -> 0 | F23: =(F140) -> 0 | G23: =(G140) -> 0 | H23: =(H140) -> 0 | I23: =(I140) -> 0 | ... L23: =(L140) -> 0 | N23: Aktivita - VV | P23: =SUM(G32) -> 0
A24: Květen | B24: =(B168) -> 0 | C24: =(C168) -> 0 | D24: =(D168) -> 0 | E24: =(E168) -> 0 | F24: =(F168) -> 0 | G24: =(G168) -> 0 | H24: =(H168) -> 0 | I24: =(I168) -> 0 | ... L24: =(L168) -> 0 | N24: Aktivita - tanec | P24: =SUM(H32) -> 0
A25: Červen | B25: =(B195) -> 0 | C25: =(C195) -> 0 | D25: =(D195) -> 0 | E25: =(E195) -> 0 | F25: =(F195) -> 0 | G25: =(G195) -> 0 | H25: =(H195) -> 0 | I25: =(I195) -> 0 | ... L25: =(L195) -> 0 | N25: Aktivita - zpěv | P25: =SUM(I32) -> 0
A26: Červenec | B26: =(B224) -> 0 | C26: =(C224) -> 0 | D26: =(D224) -> 0 | E26: =(E224) -> 0 | F26: =(F224) -> 0 | G26: =(G224) -> 0 | H26: =(H224) -> 0 | I26: =(I224) -> 0 | ... L26: =(L224) -> 0 | N26: Aktivita - DVD | P26: =SUM(J32) -> 0
A27: Srpen | B27: =(B251) -> 0 | C27: =(C251) -> 0 | D27: =(D251) -> 0 | E27: =(E251) -> 0 | F27: =(F251) -> 0 | G27: =(G251) -> 0 | H27: =(H251) -> 0 | I27: =(I251) -> 0 | ... L27: =(L251) -> 0 | N27: Aktivita - out | P27: =SUM(K32) -> 0
A28: Září | B28: =(B279) -> 0 | C28: =(C279) -> 0 | D28: =(D279) -> 0 | E28: =(E279) -> 0 | F28: =(F279) -> 0 | G28: =(G279) -> 0 | H28: =(H279) -> 0 | I28: =(I279) -> 0 | ... L28: =(L279) -> 0 | N28: Komunikace se SP | P28: =SUM(L32) -> 0
A29: Říjen | B29: =(B308) -> 0 | C29: =(C308) -> 0 | D29: =(D308) -> 0 | E29: =(E308) -> 0 | F29: =(F308) -> 0 | G29: =(G308) -> 0 | H29: =(H308) -> 0 | I29: =(I308) -> 0 | ... L29: =(L308) -> 0
A30: Listopad | B30: =(B334) -> 0 | C30: =(C334) -> 0 | D30: =(D334) -> 0 | E30: =(E334) -> 0 | F30: =(F334) -> 0 | G30: =(G334) -> 0 | H30: =(H334) -> 0 | I30: =(I334) -> 0 | ... L30: =(L334) -> 0
A31: Prosinec | B31: =(B363) -> 0 | C31: =(C363) -> 0 | D31: =(D363) -> 0 | E31: =(E363) -> 0 | F31: =(F363) -> 0 | G31: =(G363) -> 0 | H31: =(H363) -> 0 | I31: =(I363) -> 0 | ... L31: =(L363) -> 0
A32: Celkem | B32: =SUM(B20:B31) -> 3 | C32: =SUM(C20:C31) -> 0 | D32: =SUM(D20:D31) -> 2 | E32: =SUM(E20:E31) -> 3 | F32: =SUM(F20:F31) -> 0 | G32: =SUM(G20:G31) -> 0 | H32: =SUM(H20:H31) -> 0 | I32: =SUM(I20:I31) -> 0 | ... L32: =SUM(L20:L31) -> 0
A36: Leden - 2014
A38: Datum | B38: Docházka | C38: Učení | D38: Počítač | E38: Hudba | F38: Hry | G38: VV | H38: Tanec | I38: Zpěv | J38: DVD | K38: Out | L38: SP | M38: pochvaly / pokárání
A40: 41645
A41: 41646
A42: 41647
A43: 41648
A44: 41649
A45: 41652
A46: 41653
A47: 41654
A48: 41655
A49: 41656
A50: 41659
A51: 41660
... A58: 41669
A59: Celkem | B59: =SUM(B40:B58) -> 0 | C59: =SUM(C40:C58) -> 0 | D59: =SUM(D40:D58) -> 0 | E59: =SUM(E40:E58) -> 0 | F59: =SUM(F40:F58) -> 0 | G59: =SUM(G40:G58) -> 0 | H59: =SUM(H40:H58) -> 0 | I59: =SUM(I40:I58) -> 0 | ... L59: =SUM(L40:L58) -> 0
A61: Únor - 2014
A63: Datum | B63: Docházka | C63: Učení | D63: Počítač | E63: Hudba | F63: Hry | G63: VV | H63: Tanec | I63: Zpěv | J63: DVD | K63: Out | L63: SP | M63: pochvaly / pokárání
A65: 41673
A66: 41674
A67: 41675
A68: 41676
A69: 41677 | B69: 1 | D69: 1 | E69: 1
A70: 41680
A71: 41681
A72: 41682
A73: 41683 | B73: 1 | D73: 1 | E73: 1
A74: 41684
A75: 41687
A76: 41688
A77: 41689 | B77: 1 | E77: 1
A78: 41690
A79: 41691
A80: 41694
A81: 41695
A82: 41696
A83: 41697
A84: 41698
A85: Celkem | B85: =SUM(B65:B84) -> 3 | C85: =SUM(C65:C84) -> 0 | D85: =SUM(D65:D84) -> 2 | E85: =SUM(E65:E84) -> 3 | F85: =SUM(F65:F84) -> 0 | G85: =SUM(G65:G84) -> 0 | H85: =SUM(H65:H84) -> 0 | I85: =SUM(I65:I84) -> 0 | ... L85: =SUM(L65:L84) -> 0
A87: Březen - 2014
A89: Datum | B89: Docházka | C89: Učení | D89: Počítač | E89: Hudba | F89: Hry | G89: VV | H89: Tanec | I89: Zpěv | J89: DVD | K89: Out | L89: SP | M89: pochvaly / pokárání
A91: 41701
A92: 41702
A93: 41703
A94: 41704
A95: 41705
A96: 41708
A97: 41709
A98: 41710
A99: 41711
A100: 41712
A101: 41715
A102: 41716
... A111: 41729
A112: Celkem | B112: =SUM(B91:B111) -> 0 | C112: =SUM(C91:C111) -> 0 | D112: =SUM(D91:D111) -> 0 | E112: =SUM(E91:E111) -> 0 | F112: =SUM(F91:F111) -> 0 | G112: =SUM(G91:G111) -> 0 | H112: =SUM(H91:H111) -> 0 | I112: =SUM(I91:I111) -> 0 | ... L112: =SUM(L91:L111) -> 0
A114: Duben - 2014
A116: Datum | B116: Docházka | C116: Učení | D116: Počítač | E116: Hudba | F116: Hry | G116: VV | H116: Tanec | I116: Zpěv | J116: DVD | K116: Out | L116: SP | M116: pochvaly / pokárání
A118: 41730
A119: 41731
A120: 41732
A121: 41733
A122: 41736
A123: 41737
A124: 41738
A125: 41739
A126: 41740
A127: 41743
A128: 41744
A129: 41745
... A139: 41759
A140: Celkem | B140: =SUM(B118:B139) -> 0 | C140: =SUM(C118:C139) -> 0 | D140: =SUM(D118:D139) -> 0 | E140: =SUM(E118:E139) -> 0 | F140: =SUM(F118:F139) -> 0 | G140: =SUM(G118:G139) -> 0 | H140: =SUM(H118:H139) -> 0 | I140: =SUM(I118:I139) -> 0 | ... L140: =SUM(L118:L139) -> 0
A142: Květen - 2014
A144: Datum | B144: Docházka | C144: Učení | D144: Počítač | E144: Hudba | F144: Hry | G144: VV | H144: Tanec | I144: Zpěv | J144: DVD | K144: Out | L144: SP | M144: pochvaly / pokárání
A146: 41760
A147: 41761
A148: 41764
A149: 41765
A150: 41766
A151: 41767
...

Sheet Erika Suchá
D2: Erika
C3: Jméno | I3: Smlouva o poskytování sociální služby: | M3: NE | N3: Uzavřená dne:
D4: Suchá | I4: Souhlas se zpracováním osobních údajů: | M4: NE | N4: Uzavřený dne:
C5: Příjmení | I5: Individuální plán, přání a cíle klienta: | M5: NE | N5: Uzavřené dne:
C7: Rok nar. | I7: Individuální plán klienta | N7: Uzevřený dne (datum revize)
A16: Statistika klienta za rok 2014 | M16: Celkový přehled
A18: Měsíc | B18: Docházka | C18: Učení | D18: Počítač | E18: Hudba | F18: Hry | G18: VV | H18: Tanec | I18: Zpěv | J18: DVD | K18: Out | L18: SP | N18: Počet dnů v klubu Zvídálek | Q18: =SUM(B32) -> 17
N19: Pomoc při učení | P19: =SUM(C32) -> 0
A20: Leden | B20: =(B59) -> 17 | C20: =(C59) -> 0 | D20: =(D59) -> 7 | E20: =(E59) -> 16 | F20: =(F59) -> 6 | G20: =(G59) -> 4 | H20: =(H59) -> 0 | I20: =(I59) -> 0 | ... L20: =(L59) -> 0 | N20: Aktivita - počítač | P20: =SUM(D32) -> 7
A21: Únor | B21: =(B85) -> 0 | C21: =(C85) -> 0 | D21: =(D85) -> 0 | E21: =(E85) -> 0 | F21: =(F85) -> 0 | G21: =(G85) -> 0 | H21: =(H85) -> 0 | I21: =(I85) -> 0 | ... L21: =(L85) -> 0 | N21: Aktivita - hudba | P21: =SUM(E32) -> 16
A22: Březen | B22: =(B112) -> 0 | C22: =(C112) -> 0 | D22: =(D112) -> 0 | E22: =(E112) -> 0 | F22: =(F112) -> 0 | G22: =(G112) -> 0 | H22: =(H112) -> 0 | I22: =(I112) -> 0 | ... L22: =(L112) -> 0 | N22: Aktivita - hry | P22: =SUM(F32) -> 6
A23: Duben | B23: =(B140) -> 0 | C23: =(C140) -> 0 | D23: =(D140) -> 0 | E23: =(E140) -> 0 | F23: =(F140) -> 0 | G23: =(G140) -> 0 | H23: =(H140) -> 0 | I23: =(I140) -> 0 | ... L23: =(L140) -> 0 | N23: Aktivita - VV | P23: =SUM(G32) -> 4
A24: Květen | B24: =(B168) -> 0 | C24: =(C168) -> 0 | D24: =(D168) -> 0 | E24: =(E168) -> 0 | F24: =(F168) -> 0 | G24: =(G168) -> 0 | H24: =(H168) -> 0 | I24: =(I168) -> 0 | ... L24: =(L168) -> 0 | N24: Aktivita - tanec | P24: =SUM(H32) -> 0
A25: Červen | B25: =(B195) -> 0 | C25: =(C195) -> 0 | D25: =(D195) -> 0 | E25: =(E195) -> 0 | F25: =(F195) -> 0 | G25: =(G195) -> 0 | H25: =(H195) -> 0 | I25: =(I195) -> 0 | ... L25: =(L195) -> 0 | N25: Aktivita - zpěv | P25: =SUM(I32) -> 0
A26: Červenec | B26: =(B224) -> 0 | C26: =(C224) -> 0 | D26: =(D224) -> 0 | E26: =(E224) -> 0 | F26: =(F224) -> 0 | G26: =(G224) -> 0 | H26: =(H224) -> 0 | I26: =(I224) -> 0 | ... L26: =(L224) -> 0 | N26: Aktivita - DVD | P26: =SUM(J32) -> 1
A27: Srpen | B27: =(B251) -> 0 | C27: =(C251) -> 0 | D27: =(D251) -> 0 | E27: =(E251) -> 0 | F27: =(F251) -> 0 | G27: =(G251) -> 0 | H27: =(H251) -> 0 | I27: =(I251) -> 0 | ... L27: =(L251) -> 0 | N27: Aktivita - out | P27: =SUM(K32) -> 0
A28: Září | B28: =(B279) -> 0 | C28: =(C279) -> 0 | D28: =(D279) -> 0 | E28: =(E279) -> 0 | F28: =(F279) -> 0 | G28: =(G279) -> 0 | H28: =(H279) -> 0 | I28: =(I279) -> 0 | ... L28: =(L279) -> 0 | N28: Komunikace se SP | P28: =SUM(L32) -> 0
A29: Říjen | B29: =(B308) -> 0 | C29: =(C308) -> 0 | D29: =(D308) -> 0 | E29: =(E308) -> 0 | F29: =(F308) -> 0 | G29: =(G308) -> 0 | H29: =(H308) -> 0 | I29: =(I308) -> 0 | ... L29: =(L308) -> 0
A30: Listopad | B30: =(B334) -> 0 | C30: =(C334) -> 0 | D30: =(D334) -> 0 | E30: =(E334) -> 0 | F30: =(F334) -> 0 | G30: =(G334) -> 0 | H30: =(H334) -> 0 | I30: =(I334) -> 0 | ... L30: =(L334) -> 0
A31: Prosinec | B31: =(B363) -> 0 | C31: =(C363) -> 0 | D31: =(D363) -> 0 | E31: =(E363) -> 0 | F31: =(F363) -> 0 | G31: =(G363) -> 0 | H31: =(H363) -> 0 | I31: =(I363) -> 0 | ... L31: =(L363) -> 0
A32: Celkem | B32: =SUM(B20:B31) -> 17 | C32: =SUM(C20:C31) -> 0 | D32: =SUM(D20:D31) -> 7 | E32: =SUM(E20:E31) -> 16 | F32: =SUM(F20:F31) -> 6 | G32: =SUM(G20:G31) -> 4 | H32: =SUM(H20:H31) -> 0 | I32: =SUM(I20:I31) -> 0 | ... L32: =SUM(L20:L31) -> 0
A36: Leden - 2014
A38: Datum | B38: Docházka | C38: Učení | D38: Počítač | E38: Hudba | F38: Hry | G38: VV | H38: Tanec | I38: Zpěv | J38: DVD | K38: Out | L38: SP | M38: pochvaly / pokárání
A40: 41645 | B40: 1 | E40: 1
A41: 41646 | B41: 1 | E41: 1 | F41: 1
A42: 41647 | B42: 1 | D42: 1 | E42: 1 | F42: 1 | J42: 1
A43: 41648 | B43: 1 | D43: 1 | E43: 1 | F43: 1
A44: 41649 | B44: 1 | E44: 1
A45: 41652 | B45: 1 | E45: 1
A46: 41653 | B46: 1 | E46: 1 | F46: 1 | G46: 1
A47: 41654 | B47: 1 | D47: 1 | E47: 1
A48: 41655 | B48: 1 | D48: 1 | E48: 1
A49: 41656 | B49: 1 | D49: 1 | E49: 1 | G49: 1
A50: 41659 | B50: 1 | D50: 1 | E50: 1 | F50: 1 | G50: 1
A51: 41660
A52: 41661 | B52: 1 | E52: 1
A53: 41662 | B53: 1 | E53: 1
A54: 41663 | B54: 1 | E54: 1
A55: 41666 | B55: 1
A56: 41667 | B56: 1 | E56: 1
A57: 41668
A58: 41669 | B58: 1 | D58: 1 | E58: 1 | F58: 1 | G58: 1
A59: Celkem | B59: =SUM(B40:B58) -> 17 | C59: =SUM(C40:C58) -> 0 | D59: =SUM(D40:D58) -> 7 | E59: =SUM(E40:E58) -> 16 | F59: =SUM(F40:F58) -> 6 | G59: =SUM(G40:G58) -> 4 | H59: =SUM(H40:H58) -> 0 | I59: =SUM(I40:I58) -> 0 | ... L59: =SUM(L40:L58) -> 0
A61: Únor - 2014
A63: Datum | B63: Docházka | C63: Učení | D63: Počítač | E63: Hudba | F63: Hry | G63: VV | H63: Tanec | I63: Zpěv | J63: DVD | K63: Out | L63: SP | M63: pochvaly / pokárání
A65: 41673
A66: 41674
A67: 41675
A68: 41676
A69: 41677
A70: 41680
A71: 41681
A72: 41682
A73: 41683
A74: 41684
A75: 41687
A76: 41688
... A84: 41698
A85: Celkem | B85: =SUM(B65:B84) -> 0 | C85: =SUM(C65:C84) -> 0 | D85: =SUM(D65:D84) -> 0 | E85: =SUM(E65:E84) -> 0 | F85: =SUM(F65:F84) -> 0 | G85: =SUM(G65:G84) -> 0 | H85: =SUM(H65:H84) -> 0 | I85: =SUM(I65:I84) -> 0 | ... L85: =SUM(L65:L84) -> 0
A87: Březen - 2014
A89: Datum | B89: Docházka | C89: Učení | D89: Počítač | E89: Hudba | F89: Hry | G89: VV | H89: Tanec | I89: Zpěv | J89: DVD | K89: Out | L89: SP | M89: pochvaly / pokárání
A91: 41701
A92: 41702
A93: 41703
A94: 41704
A95: 41705
A96: 41708
A97: 41709
A98: 41710
A99: 41711
A100: 41712
A101: 41715
A102: 41716
... A111: 41729
A112: Celkem | B112: =SUM(B91:B111) -> 0 | C112: =SUM(C91:C111) -> 0 | D112: =SUM(D91:D111) -> 0 | E112: =SUM(E91:E111) -> 0 | F112: =SUM(F91:F111) -> 0 | G112: =SUM(G91:G111) -> 0 | H112: =SUM(H91:H111) -> 0 | I112: =SUM(I91:I111) -> 0 | ... L112: =SUM(L91:L111) -> 0
A114: Duben - 2014
A116: Datum | B116: Docházka | C116: Učení | D116: Počítač | E116: Hudba | F116: Hry | G116: VV | H116: Tanec | I116: Zpěv | J116: DVD | K116: Out | L116: SP | M116: pochvaly / pokárání
A118: 41730
A119: 41731
A120: 41732
A121: 41733
A122: 41736
A123: 41737
A124: 41738
A125: 41739
A126: 41740
A127: 41743
A128: 41744
A129: 41745
... A139: 41759
A140: Celkem | B140: =SUM(B118:B139) -> 0 | C140: =SUM(C118:C139) -> 0 | D140: =SUM(D118:D139) -> 0 | E140: =SUM(E118:E139) -> 0 | F140: =SUM(F118:F139) -> 0 | G140: =SUM(G118:G139) -> 0 | H140: =SUM(H118:H139) -> 0 | I140: =SUM(I118:I139) -> 0 | ... L140: =SUM(L118:L139) -> 0
A142: Květen - 2014
A144: Datum | B144: Docházka | C144: Učení | D144: Počítač | E144: Hudba | F144: Hry | G144: VV | H144: Tanec | I144: Zpěv | J144: DVD | K144: Out | L144: SP | M144: pochvaly / pokárání
A146: 41760
A147: 41761
A148: 41764
A149: 41765
A150: 41766
A151: 41767
A152: 41768
...

Sheet Gizela Balážová
D2: Gizela
C3: Jméno | I3: Smlouva o poskytování sociální služby: | M3: NE | N3: Uzavřená dne:
D4: Balážová | I4: Souhlas se zpracováním osobních údajů: | M4: NE | N4: Uzavřený dne:
C5: Příjmení | I5: Individuální plán, přání a cíle klienta: | M5: NE | N5: Uzavřené dne:
C7: Rok nar. | I7: Individuální plán klienta | N7: Uzevřený dne (datum revize)
A16: Statistika klienta za rok 2014 | M16: Celkový přehled
A18: Měsíc | B18: Docházka | C18: Učení | D18: Počítač | E18: Hudba | F18: Hry | G18: VV | H18: Tanec | I18: Zpěv | J18: DVD | K18: Out | L18: SP | N18: Počet dnů v klubu Zvídálek | Q18: =SUM(B32) -> 14
N19: Pomoc při učení | P19: =SUM(C32) -> 0
A20: Leden | B20: =(B59) -> 14 | C20: =(C59) -> 0 | D20: =(D59) -> 7 | E20: =(E59) -> 12 | F20: =(F59) -> 10 | G20: =(G59) -> 7 | H20: =(H59) -> 2 | I20: =(I59) -> 1 | ... L20: =(L59) -> 0 | N20: Aktivita - počítač | P20: =SUM(D32) -> 7
A21: Únor | B21: =(B85) -> 0 | C21: =(C85) -> 0 | D21: =(D85) -> 0 | E21: =(E85) -> 0 | F21: =(F85) -> 0 | G21: =(G85) -> 0 | H21: =(H85) -> 0 | I21: =(I85) -> 0 | ... L21: =(L85) -> 0 | N21: Aktivita - hudba | P21: =SUM(E32) -> 12
A22: Březen | B22: =(B112) -> 0 | C22: =(C112) -> 0 | D22: =(D112) -> 0 | E22: =(E112) -> 0 | F22: =(F112) -> 0 | G22: =(G112) -> 0 | H22: =(H112) -> 0 | I22: =(I112) -> 0 | ... L22: =(L112) -> 0 | N22: Aktivita - hry | P22: =SUM(F32) -> 10
A23: Duben | B23: =(B140) -> 0 | C23: =(C140) -> 0 | D23: =(D140) -> 0 | E23: =(E140) -> 0 | F23: =(F140) -> 0 | G23: =(G140) -> 0 | H23: =(H140) -> 0 | I23: =(I140) -> 0 | ... L23: =(L140) -> 0 | N23: Aktivita - VV | P23: =SUM(G32) -> 7
A24: Květen | B24: =(B168) -> 0 | C24: =(C168) -> 0 | D24: =(D168) -> 0 | E24: =(E168) -> 0 | F24: =(F168) -> 0 | G24: =(G168) -> 0 | H24: =(H168) -> 0 | I24: =(I168) -> 0 | ... L24: =(L168) -> 0 | N24: Aktivita - tanec | P24: =SUM(H32) -> 2
A25: Červen | B25: =(B195) -> 0 | C25: =(C195) -> 0 | D25: =(D195) -> 0 | E25: =(E195) -> 0 | F25: =(F195) -> 0 | G25: =(G195) -> 0 | H25: =(H195) -> 0 | I25: =(I195) -> 0 | ... L25: =(L195) -> 0 | N25: Aktivita - zpěv | P25: =SUM(I32) -> 1
A26: Červenec | B26: =(B224) -> 0 | C26: =(C224) -> 0 | D26: =(D224) -> 0 | E26: =(E224) -> 0 | F26: =(F224) -> 0 | G26: =(G224) -> 0 | H26: =(H224) -> 0 | I26: =(I224) -> 0 | ... L26: =(L224) -> 0 | N26: Aktivita - DVD | P26: =SUM(J32) -> 0
A27: Srpen | B27: =(B251) -> 0 | C27: =(C251) -> 0 | D27: =(D251) -> 0 | E27: =(E251) -> 0 | F27: =(F251) -> 0 | G27: =(G251) -> 0 | H27: =(H251) -> 0 | I27: =(I251) -> 0 | ... L27: =(L251) -> 0 | N27: Aktivita - out | P27: =SUM(K32) -> 0
A28: Září | B28: =(B279) -> 0 | C28: =(C279) -> 0 | D28: =(D279) -> 0 | E28: =(E279) -> 0 | F28: =(F279) -> 0 | G28: =(G279) -> 0 | H28: =(H279) -> 0 | I28: =(I279) -> 0 | ... L28: =(L279) -> 0 | N28: Komunikace se SP | P28: =SUM(L32) -> 0
A29: Říjen | B29: =(B308) -> 0 | C29: =(C308) -> 0 | D29: =(D308) -> 0 | E29: =(E308) -> 0 | F29: =(F308) -> 0 | G29: =(G308) -> 0 | H29: =(H308) -> 0 | I29: =(I308) -> 0 | ... L29: =(L308) -> 0
A30: Listopad | B30: =(B334) -> 0 | C30: =(C334) -> 0 | D30: =(D334) -> 0 | E30: =(E334) -> 0 | F30: =(F334) -> 0 | G30: =(G334) -> 0 | H30: =(H334) -> 0 | I30: =(I334) -> 0 | ... L30: =(L334) -> 0
A31: Prosinec | B31: =(B363) -> 0 | C31: =(C363) -> 0 | D31: =(D363) -> 0 | E31: =(E363) -> 0 | F31: =(F363) -> 0 | G31: =(G363) -> 0 | H31: =(H363) -> 0 | I31: =(I363) -> 0 | ... L31: =(L363) -> 0
A32: Celkem | B32: =SUM(B20:B31) -> 14 | C32: =SUM(C20:C31) -> 0 | D32: =SUM(D20:D31) -> 7 | E32: =SUM(E20:E31) -> 12 | F32: =SUM(F20:F31) -> 10 | G32: =SUM(G20:G31) -> 7 | H32: =SUM(H20:H31) -> 2 | I32: =SUM(I20:I31) -> 1 | ... L32: =SUM(L20:L31) -> 0
A36: Leden - 2014
A38: Datum | B38: Docházka | C38: Učení | D38: Počítač | E38: Hudba | F38: Hry | G38: VV | H38: Tanec | I38: Zpěv | J38: DVD | K38: Out | L38: SP | M38: pochvaly / pokárání
A40: 41645 | B40: 1 | F40: 1
A41: 41646 | B41: 1 | D41: 1 | E41: 1 | F41: 1 | G41: 1
A42: 41647 | B42: 1 | D42: 1 | E42: 1 | F42: 1 | G42: 1
A43: 41648 | B43: 1 | E43: 1
A44: 41649 | B44: 1 | D44: 1 | E44: 1 | F44: 1
A45: 41652 | B45: 1 | E45: 1 | F45: 1 | G45: 1 | H45: 1
A46: 41653 | B46: 1 | E46: 1 | F46: 1
A47: 41654 | B47: 1 | G47: 1
A48: 41655 | B48: 1 | D48: 1 | E48: 1 | F48: 1 | G48: 1
A49: 41656 | B49: 1 | D49: 1 | E49: 1 | F49: 1 | G49: 1
A50: 41659 | B50: 1 | D50: 1 | E50: 1 | F50: 1 | G50: 1
A51: 41660 | B51: 1 | D51: 1 | E51: 1 | F51: 1 | H51: 1 | I51: 1
A52: 41661
A53: 41662 | B53: 1 | E53: 1
A54: 41663 | B54: 1 | E54: 1
A55: 41666
A56: 41667
A57: 41668
A58: 41669
A59: Celkem | B59: =SUM(B40:B58) -> 14 | C59: =SUM(C40:C58) -> 0 | D59: =SUM(D40:D58) -> 7 | E59: =SUM(E40:E58) -> 12 | F59: =SUM(F40:F58) -> 10 | G59: =SUM(G40:G58) -> 7 | H59: =SUM(H40:H58) -> 2 | I59: =SUM(I40:I58) -> 1 | ... L59: =SUM(L40:L58) -> 0
A61: Únor - 2014
A63: Datum | B63: Docházka | C63: Učení | D63: Počítač | E63: Hudba | F63: Hry | G63: VV | H63: Tanec | I63: Zpěv | J63: DVD | K63: Out | L63: SP | M63: pochvaly / pokárání
A65: 41673
A66: 41674
A67: 41675
A68: 41676
A69: 41677
A70: 41680
A71: 41681
A72: 41682
A73: 41683
A74: 41684
A75: 41687
A76: 41688
... A84: 41698
A85: Celkem | B85: =SUM(B65:B84) -> 0 | C85: =SUM(C65:C84) -> 0 | D85: =SUM(D65:D84) -> 0 | E85: =SUM(E65:E84) -> 0 | F85: =SUM(F65:F84) -> 0 | G85: =SUM(G65:G84) -> 0 | H85: =SUM(H65:H84) -> 0 | I85: =SUM(I65:I84) -> 0 | ... L85: =SUM(L65:L84) -> 0
A87: Březen - 2014
A89: Datum | B89: Docházka | C89: Učení | D89: Počítač | E89: Hudba | F89: Hry | G89: VV | H89: Tanec | I89: Zpěv | J89: DVD | K89: Out | L89: SP | M89: pochvaly / pokárání
A91: 41701
A92: 41702
A93: 41703
A94: 41704
A95: 41705
A96: 41708
A97: 41709
A98: 41710
A99: 41711
A100: 41712
A101: 41715
A102: 41716
... A111: 41729
A112: Celkem | B112: =SUM(B91:B111) -> 0 | C112: =SUM(C91:C111) -> 0 | D112: =SUM(D91:D111) -> 0 | E112: =SUM(E91:E111) -> 0 | F112: =SUM(F91:F111) -> 0 | G112: =SUM(G91:G111) -> 0 | H112: =SUM(H91:H111) -> 0 | I112: =SUM(I91:I111) -> 0 | ... L112: =SUM(L91:L111) -> 0
A114: Duben - 2014
A116: Datum | B116: Docházka | C116: Učení | D116: Počítač | E116: Hudba | F116: Hry | G116: VV | H116: Tanec | I116: Zpěv | J116: DVD | K116: Out | L116: SP | M116: pochvaly / pokárání
A118: 41730
A119: 41731
A120: 41732
A121: 41733
A122: 41736
A123: 41737
A124: 41738
A125: 41739
A126: 41740
A127: 41743
A128: 41744
A129: 41745
... A139: 41759
A140: Celkem | B140: =SUM(B118:B139) -> 0 | C140: =SUM(C118:C139) -> 0 | D140: =SUM(D118:D139) -> 0 | E140: =SUM(E118:E139) -> 0 | F140: =SUM(F118:F139) -> 0 | G140: =SUM(G118:G139) -> 0 | H140: =SUM(H118:H139) -> 0 | I140: =SUM(I118:I139) -> 0 | ... L140: =SUM(L118:L139) -> 0
A142: Květen - 2014
A144: Datum | B144: Docházka | C144: Učení | D144: Počítač | E144: Hudba | F144: Hry | G144: VV | H144: Tanec | I144: Zpěv | J144: DVD | K144: Out | L144: SP | M144: pochvaly / pokárání
A146: 41760
A147: 41761
A148: 41764
A149: 41765
A150: 41766
A151: 41767
A152: 41768
...

Sheet Gustav Cína
D2: Gustav
C3: Jméno | I3: Smlouva o poskytování sociální služby: | M3: NE | N3: Uzavřená dne:
D4: Cína | I4: Souhlas se zpracováním osobních údajů: | M4: NE | N4: Uzavřený dne:
C5: Příjmení | I5: Individuální plán, přání a cíle klienta: | M5: NE | N5: Uzavřené dne:
C7: Rok nar. | I7: Individuální plán klienta | N7: Uzevřený dne (datum revize)
A16: Statistika klienta za rok 2014 | M16: Celkový přehled
A18: Měsíc | B18: Docházka | C18: Učení | D18: Počítač | E18: Hudba | F18: Hry | G18: VV | H18: Tanec | I18: Zpěv | J18: DVD | K18: Out | L18: SP | N18: Počet dnů v klubu Zvídálek | Q18: =SUM(B32) -> 70
N19: Pomoc při učení | P19: =SUM(C32) -> 0
A20: Leden | B20: =(B59) -> 19 | C20: =(C59) -> 0 | D20: =(D59) -> 17 | E20: =(E59) -> 17 | F20: =(F59) -> 18 | G20: =(G59) -> 12 | H20: =(H59) -> 9 | I20: =(I59) -> 4 | ... L20: =(L59) -> 0 | N20: Aktivita - počítač | P20: =SUM(D32) -> 54
A21: Únor | B21: =(B85) -> 8 | C21: =(C85) -> 0 | D21: =(D85) -> 7 | E21: =(E85) -> 6 | F21: =(F85) -> 8 | G21: =(G85) -> 7 | H21: =(H85) -> 4 | I21: =(I85) -> 2 | ... L21: =(L85) -> 0 | N21: Aktivita - hudba | P21: =SUM(E32) -> 46
A22: Březen | B22: =(B112) -> 9 | C22: =(C112) -> 0 | D22: =(D112) -> 5 | E22: =(E112) -> 7 | F22: =(F112) -> 7 | G22: =(G112) -> 7 | H22: =(H112) -> 5 | I22: =(I112) -> 3 | ... L22: =(L112) -> 0 | N22: Aktivita - hry | P22: =SUM(F32) -> 57
A23: Duben | B23: =(B140) -> 7 | C23: =(C140) -> 0 | D23: =(D140) -> 5 | E23: =(E140) -> 4 | F23: =(F140) -> 4 | G23: =(G140) -> 5 | H23: =(H140) -> 2 | I23: =(I140) -> 0 | ... L23: =(L140) -> 0 | N23: Aktivita - VV | P23: =SUM(G32) -> 43
A24: Květen | B24: =(B168) -> 5 | C24: =(C168) -> 0 | D24: =(D168) -> 3 | E24: =(E168) -> 4 | F24: =(F168) -> 3 | G24: =(G168) -> 1 | H24: =(H168) -> 1 | I24: =(I168) -> 0 | ... L24: =(L168) -> 0 | N24: Aktivita - tanec | P24: =SUM(H32) -> 26
A25: Červen | B25: =(B195) -> 10 | C25: =(C195) -> 0 | D25: =(D195) -> 8 | E25: =(E195) -> 2 | F25: =(F195) -> 8 | G25: =(G195) -> 5 | H25: =(H195) -> 2 | I25: =(I195) -> 0 | ... L25: =(L195) -> 0 | N25: Aktivita - zpěv | P25: =SUM(I32) -> 9
A26: Červenec | B26: =(B224) -> 7 | C26: =(C224) -> 0 | D26: =(D224) -> 5 | E26: =(E224) -> 4 | F26: =(F224) -> 6 | G26: =(G224) -> 4 | H26: =(H224) -> 1 | I26: =(I224) -> 0 | ... L26: =(L224) -> 0 | N26: Aktivita - DVD | P26: =SUM(J32) -> 14
A27: Srpen | B27: =(B251) -> 5 | C27: =(C251) -> 0 | D27: =(D251) -> 4 | E27: =(E251) -> 2 | F27: =(F251) -> 3 | G27: =(G251) -> 2 | H27: =(H251) -> 2 | I27: =(I251) -> 0 | ... L27: =(L251) -> 0 | N27: Aktivita - out | P27: =SUM(K32) -> 9
A28: Září | B28: =(B279) -> 0 | C28: =(C279) -> 0 | D28: =(D279) -> 0 | E28: =(E279) -> 0 | F28: =(F279) -> 0 | G28: =(G279) -> 0 | H28: =(H279) -> 0 | I28: =(I279) -> 0 | ... L28: =(L279) -> 0 | N28: Komunikace se SP | P28: =SUM(L32) -> 0
A29: Říjen | B29: =(B308) -> 0 | C29: =(C308) -> 0 | D29: =(D308) -> 0 | E29: =(E308) -> 0 | F29: =(F308) -> 0 | G29: =(G308) -> 0 | H29: =(H308) -> 0 | I29: =(I308) -> 0 | ... L29: =(L308) -> 0
A30: Listopad | B30: =(B334) -> 0 | C30: =(C334) -> 0 | D30: =(D334) -> 0 | E30: =(E334) -> 0 | F30: =(F334) -> 0 | G30: =(G334) -> 0 | H30: =(H334) -> 0 | I30: =(I334) -> 0 | ... L30: =(L334) -> 0
A31: Prosinec | B31: =(B363) -> 0 | C31: =(C363) -> 0 | D31: =(D363) -> 0 | E31: =(E363) -> 0 | F31: =(F363) -> 0 | G31: =(G363) -> 0 | H31: =(H363) -> 0 | I31: =(I363) -> 0 | ... L31: =(L363) -> 0
A32: Celkem | B32: =SUM(B20:B31) -> 70 | C32: =SUM(C20:C31) -> 0 | D32: =SUM(D20:D31) -> 54 | E32: =SUM(E20:E31) -> 46 | F32: =SUM(F20:F31) -> 57 | G32: =SUM(G20:G31) -> 43 | H32: =SUM(H20:H31) -> 26 | I32: =SUM(I20:I31) -> 9 | ... L32: =SUM(L20:L31) -> 0
A36: Leden - 2014
A38: Datum | B38: Docházka | C38: Učení | D38: Počítač | E38: Hudba | F38: Hry | G38: VV | H38: Tanec | I38: Zpěv | J38: DVD | K38: Out | L38: SP | M38: pochvaly / pokárání
A40: 41645 | B40: 1 | D40: 1 | E40: 1 | F40: 1 | G40: 1 | H40: 1 | I40: 1
A41: 41646 | B41: 1 | D41: 1 | F41: 1 | G41: 1 | H41: 1
A42: 41647 | B42: 1 | D42: 1 | E42: 1 | F42: 1 | G42: 1
A43: 41648 | B43: 1 | D43: 1 | E43: 1 | F43: 1 | H43: 1 | I43: 1
A44: 41649 | B44: 1 | D44: 1 | E44: 1 | F44: 1 | G44: 1 | H44: 1
A45: 41652 | B45: 1 | D45: 1 | E45: 1 | F45: 1 | G45: 1
A46: 41653 | B46: 1 | D46: 1 | E46: 1 | F46: 1 | G46: 1
A47: 41654 | B47: 1 | D47: 1 | E47: 1 | F47: 1 | G47: 1 | H47: 1
A48: 41655 | B48: 1 | D48: 1 | E48: 1 | F48: 1 | G48: 1 | H48: 1 | I48: 1
A49: 41656 | B49: 1 | D49: 1 | E49: 1 | F49: 1 | H49: 1
A50: 41659 | B50: 1 | D50: 1 | E50: 1 | F50: 1 | G50: 1
A51: 41660 | B51: 1 | F51: 1
A52: 41661 | B52: 1 | E52: 1
A53: 41662 | B53: 1 | D53: 1 | E53: 1 | F53: 1 | G53: 1
A54: 41663 | B54: 1 | D54: 1 | E54: 1 | F54: 1 | H54: 1 | I54: 1 | J54: 1
A55: 41666 | B55: 1 | D55: 1 | E55: 1 | F55: 1 | G55: 1
A56: 41667 | B56: 1 | D56: 1 | E56: 1 | F56: 1
A57: 41668 | B57: 1 | D57: 1 | E57: 1 | F57: 1 | G57: 1 | H57: 1
A58: 41669 | B58: 1 | D58: 1 | E58: 1 | F58: 1
A59: Celkem | B59: =SUM(B40:B58) -> 19 | C59: =SUM(C40:C58) -> 0 | D59: =SUM(D40:D58) -> 17 | E59: =SUM(E40:E58) -> 17 | F59: =SUM(F40:F58) -> 18 | G59: =SUM(G40:G58) -> 12 | H59: =SUM(H40:H58) -> 9 | I59: =SUM(I40:I58) -> 4 | ... L59: =SUM(L40:L58) -> 0
A61: Únor - 2014
A63: Datum | B63: Docházka | C63: Učení | D63: Počítač | E63: Hudba | F63: Hry | G63: VV | H63: Tanec | I63: Zpěv | J63: DVD | K63: Out | L63: SP | M63: pochvaly / pokárání
A65: 41673
A66: 41674
A67: 41675 | B67: 1 | D67: 1 | E67: 1 | F67: 1 | G67: 1 | H67: 1 | I67: 1 | J67: 1
A68: 41676
A69: 41677
A70: 41680 | B70: 1 | D70: 1 | E70: 1 | F70: 1 | G70: 1 | J70: 1
A71: 41681 | B71: 1 | D71: 1 | F71: 1 | G71: 1 | J71: 1
A72: 41682 | B72: 1 | D72: 1 | E72: 1 | F72: 1 | G72: 1 | H72: 1 | I72: 1
A73: 41683
A74: 41684 | B74: 1 | D74: 1 | F74: 1 | G74: 1
A75: 41687 | B75: 1 | D75: 1 | E75: 1 | F75: 1 | G75: 1 | H75: 1
A76: 41688 | B76: 1 | D76: 1 | E76: 1 | F76: 1 | K76: 1
A77: 41689 | B77: 1 | E77: 1 | F77: 1 | G77: 1 | H77: 1 | J77: 1
A78: 41690
A79: 41691
A80: 41694
A81: 41695
A82: 41696
A83: 41697
A84: 41698
A85: Celkem | B85: =SUM(B65:B84) -> 8 | C85: =SUM(C65:C84) -> 0 | D85: =SUM(D65:D84) -> 7 | E85: =SUM(E65:E84) -> 6 | F85: =SUM(F65:F84) -> 8 | G85: =SUM(G65:G84) -> 7 | H85: =SUM(H65:H84) -> 4 | I85: =SUM(I65:I84) -> 2 | ... L85: =SUM(L65:L84) -> 0
A87: Březen - 2014
A89: Datum | B89: Docházka | C89: Učení | D89: Počítač | E89: Hudba | F89: Hry | G89: VV | H89: Tanec | I89: Zpěv | J89: DVD | K89: Out | L89: SP | M89: pochvaly / pokárání
A91: 41701 | B91: 1 | D91: 1 | E91: 1 | F91: 1 | G91: 1 | H91: 1 | I91: 1 | J91: 1
A92: 41702 | B92: 1 | D92: 1 | E92: 1 | G92: 1 | H92: 1 | I92: 1
A93: 41703 | B93: 1 | E93: 1 | F93: 1 | G93: 1 | H93: 1
A94: 41704 | B94: 1 | D94: 1 | F94: 1 | G94: 1
A95: 41705
A96: 41708
A97: 41709
A98: 41710
A99: 41711 | B99: 1 | D99: 1 | F99: 1
A100: 41712
A101: 41715
A102: 41716 | B102: 1 | D102: 1 | E102: 1 | F102: 1 | G102: 1
A103: 41717 | B103: 1 | E103: 1 | F103: 1 | G103: 1 | H103: 1 | J103: 1
A104: 41718
A105: 41719 | B105: 1 | E105: 1
A106: 41722
A107: 41723
A108: 41724 | B108: 1 | E108: 1 | F108: 1 | G108: 1 | H108: 1 | I108: 1
A109: 41725
A110: 41726
A111: 41729
A112: Celkem | B112: =SUM(B91:B111) -> 9 | C112: =SUM(C91:C111) -> 0 | D112: =SUM(D91:D111) -> 5 | E112: =SUM(E91:E111) -> 7 | F112: =SUM(F91:F111) -> 7 | G112: =SUM(G91:G111) -> 7 | H112: =SUM(H91:H111) -> 5 | I112: =SUM(I91:I111) -> 3 | ... L112: =SUM(L91:L111) -> 0
A114: Duben - 2014
A116: Datum | B116: Docházka | C116: Učení | D116: Počítač | E116: Hudba | F116: Hry | G116: VV | H116: Tanec | I116: Zpěv | J116: DVD | K116: Out | L116: SP | M116: pochvaly / pokárání
A118: 41730 | B118: 1 | D118: 1 | E118: 1 | G118: 1 | J118: 1
A119: 41731
A120: 41732
A121: 41733 | B121: 1 | E121: 1
A122: 41736
A123: 41737
A124: 41738
A125: 41739 | B125: 1 | D125: 1 | F125: 1 | G125: 1
...

Sheet Ivana Šandorová
D2: Ivana
C3: Jméno | I3: Smlouva o poskytování sociální služby: | M3: NE | N3: Uzavřená dne:
D4: Šandorová | I4: Souhlas se zpracováním osobních údajů: | M4: NE | N4: Uzavřený dne:
C5: Příjmení | I5: Individuální plán, přání a cíle klienta: | M5: NE | N5: Uzavřené dne:
C7: Rok nar. | I7: Individuální plán klienta | N7: Uzevřený dne (datum revize)
A16: Statistika klienta za rok 2014 | M16: Celkový přehled
A18: Měsíc | B18: Docházka | C18: Učení | D18: Počítač | E18: Hudba | F18: Hry | G18: VV | H18: Tanec | I18: Zpěv | J18: DVD | K18: Out | L18: SP | N18: Počet dnů v klubu Zvídálek | Q18: =SUM(B32) -> 15
N19: Pomoc při učení | P19: =SUM(C32) -> 0
A20: Leden | B20: =(B59) -> 15 | C20: =(C59) -> 0 | D20: =(D59) -> 2 | E20: =(E59) -> 13 | F20: =(F59) -> 6 | G20: =(G59) -> 5 | H20: =(H59) -> 2 | I20: =(I59) -> 0 | ... L20: =(L59) -> 0 | N20: Aktivita - počítač | P20: =SUM(D32) -> 2
A21: Únor | B21: =(B85) -> 0 | C21: =(C85) -> 0 | D21: =(D85) -> 0 | E21: =(E85) -> 0 | F21: =(F85) -> 0 | G21: =(G85) -> 0 | H21: =(H85) -> 0 | I21: =(I85) -> 0 | ... L21: =(L85) -> 0 | N21: Aktivita - hudba | P21: =SUM(E32) -> 13
A22: Březen | B22: =(B112) -> 0 | C22: =(C112) -> 0 | D22: =(D112) -> 0 | E22: =(E112) -> 0 | F22: =(F112) -> 0 | G22: =(G112) -> 0 | H22: =(H112) -> 0 | I22: =(I112) -> 0 | ... L22: =(L112) -> 0 | N22: Aktivita - hry | P22: =SUM(F32) -> 6
A23: Duben | B23: =(B140) -> 0 | C23: =(C140) -> 0 | D23: =(D140) -> 0 | E23: =(E140) -> 0 | F23: =(F140) -> 0 | G23: =(G140) -> 0 | H23: =(H140) -> 0 | I23: =(I140) -> 0 | ... L23: =(L140) -> 0 | N23: Aktivita - VV | P23: =SUM(G32) -> 5
A24: Květen | B24: =(B168) -> 0 | C24: =(C168) -> 0 | D24: =(D168) -> 0 | E24: =(E168) -> 0 | F24: =(F168) -> 0 | G24: =(G168) -> 0 | H24: =(H168) -> 0 | I24: =(I168) -> 0 | ... L24: =(L168) -> 0 | N24: Aktivita - tanec | P24: =SUM(H32) -> 2
A25: Červen | B25: =(B195) -> 0 | C25: =(C195) -> 0 | D25: =(D195) -> 0 | E25: =(E195) -> 0 | F25: =(F195) -> 0 | G25: =(G195) -> 0 | H25: =(H195) -> 0 | I25: =(I195) -> 0 | ... L25: =(L195) -> 0 | N25: Aktivita - zpěv | P25: =SUM(I32) -> 0
A26: Červenec | B26: =(B224) -> 0 | C26: =(C224) -> 0 | D26: =(D224) -> 0 | E26: =(E224) -> 0 | F26: =(F224) -> 0 | G26: =(G224) -> 0 | H26: =(H224) -> 0 | I26: =(I224) -> 0 | ... L26: =(L224) -> 0 | N26: Aktivita - DVD | P26: =SUM(J32) -> 3
A27: Srpen | B27: =(B251) -> 0 | C27: =(C251) -> 0 | D27: =(D251) -> 0 | E27: =(E251) -> 0 | F27: =(F251) -> 0 | G27: =(G251) -> 0 | H27: =(H251) -> 0 | I27: =(I251) -> 0 | ... L27: =(L251) -> 0 | N27: Aktivita - out | P27: =SUM(K32) -> 0
A28: Září | B28: =(B279) -> 0 | C28: =(C279) -> 0 | D28: =(D279) -> 0 | E28: =(E279) -> 0 | F28: =(F279) -> 0 | G28: =(G279) -> 0 | H28: =(H279) -> 0 | I28: =(I279) -> 0 | ... L28: =(L279) -> 0 | N28: Komunikace se SP | P28: =SUM(L32) -> 0
A29: Říjen | B29: =(B308) -> 0 | C29: =(C308) -> 0 | D29: =(D308) -> 0 | E29: =(E308) -> 0 | F29: =(F308) -> 0 | G29: =(G308) -> 0 | H29: =(H308) -> 0 | I29: =(I308) -> 0 | ... L29: =(L308) -> 0
A30: Listopad | B30: =(B334) -> 0 | C30: =(C334) -> 0 | D30: =(D334) -> 0 | E30: =(E334) -> 0 | F30: =(F334) -> 0 | G30: =(G334) -> 0 | H30: =(H334) -> 0 | I30: =(I334) -> 0 | ... L30: =(L334) -> 0
A31: Prosinec | B31: =(B363) -> 0 | C31: =(C363) -> 0 | D31: =(D363) -> 0 | E31: =(E363) -> 0 | F31: =(F363) -> 0 | G31: =(G363) -> 0 | H31: =(H363) -> 0 | I31: =(I363) -> 0 | ... L31: =(L363) -> 0
A32: Celkem | B32: =SUM(B20:B31) -> 15 | C32: =SUM(C20:C31) -> 0 | D32: =SUM(D20:D31) -> 2 | E32: =SUM(E20:E31) -> 13 | F32: =SUM(F20:F31) -> 6 | G32: =SUM(G20:G31) -> 5 | H32: =SUM(H20:H31) -> 2 | I32: =SUM(I20:I31) -> 0 | ... L32: =SUM(L20:L31) -> 0
A36: Leden - 2014
A38: Datum | B38: Docházka | C38: Učení | D38: Počítač | E38: Hudba | F38: Hry | G38: VV | H38: Tanec | I38: Zpěv | J38: DVD | K38: Out | L38: SP | M38: pochvaly / pokárání
A40: 41645 | B40: 1 | E40: 1
A41: 41646 | B41: 1 | E41: 1 | F41: 1 | G41: 1 | H41: 1
A42: 41647 | B42: 1 | E42: 1 | F42: 1 | G42: 1
A43: 41648 | B43: 1 | E43: 1
A44: 41649 | B44: 1 | G44: 1
A45: 41652
A46: 41653 | B46: 1 | E46: 1 | F46: 1 | G46: 1
A47: 41654
A48: 41655
A49: 41656
A50: 41659 | B50: 1 | E50: 1 | H50: 1
A51: 41660 | B51: 1 | J51: 1
A52: 41661 | B52: 1 | E52: 1
A53: 41662 | B53: 1 | E53: 1
A54: 41663 | B54: 1 | D54: 1 | E54: 1 | F54: 1 | J54: 1
A55: 41666 | B55: 1 | E55: 1
A56: 41667 | B56: 1 | D56: 1 | E56: 1 | F56: 1 | J56: 1
A57: 41668 | B57: 1 | E57: 1
A58: 41669 | B58: 1 | E58: 1 | F58: 1 | G58: 1
A59: Celkem | B59: =SUM(B40:B58) -> 15 | C59: =SUM(C40:C58) -> 0 | D59: =SUM(D40:D58) -> 2 | E59: =SUM(E40:E58) -> 13 | F59: =SUM(F40:F58) -> 6 | G59: =SUM(G40:G58) -> 5 | H59: =SUM(H40:H58) -> 2 | I59: =SUM(I40:I58) -> 0 | ... L59: =SUM(L40:L58) -> 0
A61: Únor - 2014
A63: Datum | B63: Docházka | C63: Učení | D63: Počítač | E63: Hudba | F63: Hry | G63: VV | H63: Tanec | I63: Zpěv | J63: DVD | K63: Out | L63: SP | M63: pochvaly / pokárání
A65: 41673
A66: 41674
A67: 41675
A68: 41676
A69: 41677
A70: 41680
A71: 41681
A72: 41682
A73: 41683
A74: 41684
A75: 41687
A76: 41688
... A84: 41698
A85: Celkem | B85: =SUM(B65:B84) -> 0 | C85: =SUM(C65:C84) -> 0 | D85: =SUM(D65:D84) -> 0 | E85: =SUM(E65:E84) -> 0 | F85: =SUM(F65:F84) -> 0 | G85: =SUM(G65:G84) -> 0 | H85: =SUM(H65:H84) -> 0 | I85: =SUM(I65:I84) -> 0 | ... L85: =SUM(L65:L84) -> 0
A87: Březen - 2014
A89: Datum | B89: Docházka | C89: Učení | D89: Počítač | E89: Hudba | F89: Hry | G89: VV | H89: Tanec | I89: Zpěv | J89: DVD | K89: Out | L89: SP | M89: pochvaly / pokárání
A91: 41701
A92: 41702
A93: 41703
A94: 41704
A95: 41705
A96: 41708
A97: 41709
A98: 41710
A99: 41711
A100: 41712
A101: 41715
A102: 41716
... A111: 41729
A112: Celkem | B112: =SUM(B91:B111) -> 0 | C112: =SUM(C91:C111) -> 0 | D112: =SUM(D91:D111) -> 0 | E112: =SUM(E91:E111) -> 0 | F112: =SUM(F91:F111) -> 0 | G112: =SUM(G91:G111) -> 0 | H112: =SUM(H91:H111) -> 0 | I112: =SUM(I91:I111) -> 0 | ... L112: =SUM(L91:L111) -> 0
A114: Duben - 2014
A116: Datum | B116: Docházka | C116: Učení | D116: Počítač | E116: Hudba | F116: Hry | G116: VV | H116: Tanec | I116: Zpěv | J116: DVD | K116: Out | L116: SP | M116: pochvaly / pokárání
A118: 41730
A119: 41731
A120: 41732
A121: 41733
A122: 41736
A123: 41737
A124: 41738
A125: 41739
A126: 41740
A127: 41743
A128: 41744
A129: 41745
... A139: 41759
A140: Celkem | B140: =SUM(B118:B139) -> 0 | C140: =SUM(C118:C139) -> 0 | D140: =SUM(D118:D139) -> 0 | E140: =SUM(E118:E139) -> 0 | F140: =SUM(F118:F139) -> 0 | G140: =SUM(G118:G139) -> 0 | H140: =SUM(H118:H139) -> 0 | I140: =SUM(I118:I139) -> 0 | ... L140: =SUM(L118:L139) -> 0
A142: Květen - 2014
A144: Datum | B144: Docházka | C144: Učení | D144: Počítač | E144: Hudba | F144: Hry | G144: VV | H144: Tanec | I144: Zpěv | J144: DVD | K144: Out | L144: SP | M144: pochvaly / pokárání
A146: 41760
A147: 41761
A148: 41764
A149: 41765
A150: 41766
A151: 41767
A152: 41768
...

Sheet Izabela Kumaiová
D2: Izabela
C3: Jméno | I3: Smlouva o poskytování sociální služby: | M3: NE | N3: Uzavřená dne:
D4: Kumaiová | I4: Souhlas se zpracováním osobních údajů: | M4: NE | N4: Uzavřený dne:
C5: Příjmení | I5: Individuální plán, přání a cíle klienta: | M5: NE | N5: Uzavřené dne:
C7: Rok nar. | I7: Individuální plán klienta | N7: Uzevřený dne (datum revize)
A16: Statistika klienta za rok 2014 | M16: Celkový přehled
A18: Měsíc | B18: Docházka | C18: Učení | D18: Počítač | E18: Hudba | F18: Hry | G18: VV | H18: Tanec | I18: Zpěv | J18: DVD | K18: Out | L18: SP | N18: Počet dnů v klubu Zvídálek | Q18: =SUM(B32) -> 16
N19: Pomoc při učení | P19: =SUM(C32) -> 0
A20: Leden | B20: =(B59) -> 16 | C20: =(C59) -> 0 | D20: =(D59) -> 6 | E20: =(E59) -> 16 | F20: =(F59) -> 8 | G20: =(G59) -> 5 | H20: =(H59) -> 6 | I20: =(I59) -> 3 | ... L20: =(L59) -> 0 | N20: Aktivita - počítač | P20: =SUM(D32) -> 6
A21: Únor | B21: =(B85) -> 0 | C21: =(C85) -> 0 | D21: =(D85) -> 0 | E21: =(E85) -> 0 | F21: =(F85) -> 0 | G21: =(G85) -> 0 | H21: =(H85) -> 0 | I21: =(I85) -> 0 | ... L21: =(L85) -> 0 | N21: Aktivita - hudba | P21: =SUM(E32) -> 16
A22: Březen | B22: =(B112) -> 0 | C22: =(C112) -> 0 | D22: =(D112) -> 0 | E22: =(E112) -> 0 | F22: =(F112) -> 0 | G22: =(G112) -> 0 | H22: =(H112) -> 0 | I22: =(I112) -> 0 | ... L22: =(L112) -> 0 | N22: Aktivita - hry | P22: =SUM(F32) -> 8
A23: Duben | B23: =(B140) -> 0 | C23: =(C140) -> 0 | D23: =(D140) -> 0 | E23: =(E140) -> 0 | F23: =(F140) -> 0 | G23: =(G140) -> 0 | H23: =(H140) -> 0 | I23: =(I140) -> 0 | ... L23: =(L140) -> 0 | N23: Aktivita - VV | P23: =SUM(G32) -> 5
A24: Květen | B24: =(B168) -> 0 | C24: =(C168) -> 0 | D24: =(D168) -> 0 | E24: =(E168) -> 0 | F24: =(F168) -> 0 | G24: =(G168) -> 0 | H24: =(H168) -> 0 | I24: =(I168) -> 0 | ... L24: =(L168) -> 0 | N24: Aktivita - tanec | P24: =SUM(H32) -> 6
A25: Červen | B25: =(B195) -> 0 | C25: =(C195) -> 0 | D25: =(D195) -> 0 | E25: =(E195) -> 0 | F25: =(F195) -> 0 | G25: =(G195) -> 0 | H25: =(H195) -> 0 | I25: =(I195) -> 0 | ... L25: =(L195) -> 0 | N25: Aktivita - zpěv | P25: =SUM(I32) -> 3
A26: Červenec | B26: =(B224) -> 0 | C26: =(C224) -> 0 | D26: =(D224) -> 0 | E26: =(E224) -> 0 | F26: =(F224) -> 0 | G26: =(G224) -> 0 | H26: =(H224) -> 0 | I26: =(I224) -> 0 | ... L26: =(L224) -> 0 | N26: Aktivita - DVD | P26: =SUM(J32) -> 2
A27: Srpen | B27: =(B251) -> 0 | C27: =(C251) -> 0 | D27: =(D251) -> 0 | E27: =(E251) -> 0 | F27: =(F251) -> 0 | G27: =(G251) -> 0 | H27: =(H251) -> 0 | I27: =(I251) -> 0 | ... L27: =(L251) -> 0 | N27: Aktivita - out | P27: =SUM(K32) -> 0
A28: Září | B28: =(B279) -> 0 | C28: =(C279) -> 0 | D28: =(D279) -> 0 | E28: =(E279) -> 0 | F28: =(F279) -> 0 | G28: =(G279) -> 0 | H28: =(H279) -> 0 | I28: =(I279) -> 0 | ... L28: =(L279) -> 0 | N28: Komunikace se SP | P28: =SUM(L32) -> 0
A29: Říjen | B29: =(B308) -> 0 | C29: =(C308) -> 0 | D29: =(D308) -> 0 | E29: =(E308) -> 0 | F29: =(F308) -> 0 | G29: =(G308) -> 0 | H29: =(H308) -> 0 | I29: =(I308) -> 0 | ... L29: =(L308) -> 0
A30: Listopad | B30: =(B334) -> 0 | C30: =(C334) -> 0 | D30: =(D334) -> 0 | E30: =(E334) -> 0 | F30: =(F334) -> 0 | G30: =(G334) -> 0 | H30: =(H334) -> 0 | I30: =(I334) -> 0 | ... L30: =(L334) -> 0
A31: Prosinec | B31: =(B363) -> 0 | C31: =(C363) -> 0 | D31: =(D363) -> 0 | E31: =(E363) -> 0 | F31: =(F363) -> 0 | G31: =(G363) -> 0 | H31: =(H363) -> 0 | I31: =(I363) -> 0 | ... L31: =(L363) -> 0
A32: Celkem | B32: =SUM(B20:B31) -> 16 | C32: =SUM(C20:C31) -> 0 | D32: =SUM(D20:D31) -> 6 | E32: =SUM(E20:E31) -> 16 | F32: =SUM(F20:F31) -> 8 | G32: =SUM(G20:G31) -> 5 | H32: =SUM(H20:H31) -> 6 | I32: =SUM(I20:I31) -> 3 | ... L32: =SUM(L20:L31) -> 0
A36: Leden - 2014
A38: Datum | B38: Docházka | C38: Učení | D38: Počítač | E38: Hudba | F38: Hry | G38: VV | H38: Tanec | I38: Zpěv | J38: DVD | K38: Out | L38: SP | M38: pochvaly / pokárání
A40: 41645 | B40: 1 | E40: 1
A41: 41646
A42: 41647
A43: 41648 | B43: 1 | E43: 1
A44: 41649 | B44: 1 | D44: 1 | E44: 1 | H44: 1 | I44: 1
A45: 41652 | B45: 1 | E45: 1 | F45: 1 | G45: 1
A46: 41653 | B46: 1 | E46: 1 | F46: 1 | H46: 1 | I46: 1
A47: 41654 | B47: 1 | E47: 1 | F47: 1 | H47: 1
A48: 41655 | B48: 1 | E48: 1 | F48: 1 | G48: 1 | H48: 1
A49: 41656 | B49: 1 | D49: 1 | E49: 1 | F49: 1 | G49: 1 | H49: 1
A50: 41659 | B50: 1 | D50: 1 | E50: 1 | F50: 1 | G50: 1 | J50: 1
A51: 41660 | B51: 1 | E51: 1
A52: 41661 | B52: 1 | D52: 1 | E52: 1 | G52: 1 | H52: 1 | I52: 1
A53: 41662 | B53: 1 | E53: 1
A54: 41663 | B54: 1 | E54: 1 | J54: 1
A55: 41666 | B55: 1 | E55: 1
A56: 41667 | B56: 1 | D56: 1 | E56: 1 | F56: 1
A57: 41668
A58: 41669 | B58: 1 | D58: 1 | E58: 1 | F58: 1
A59: Celkem | B59: =SUM(B40:B58) -> 16 | C59: =SUM(C40:C58) -> 0 | D59: =SUM(D40:D58) -> 6 | E59: =SUM(E40:E58) -> 16 | F59: =SUM(F40:F58) -> 8 | G59: =SUM(G40:G58) -> 5 | H59: =SUM(H40:H58) -> 6 | I59: =SUM(I40:I58) -> 3 | ... L59: =SUM(L40:L58) -> 0
A61: Únor - 2014
A63: Datum | B63: Docházka | C63: Učení | D63: Počítač | E63: Hudba | F63: Hry | G63: VV | H63: Tanec | I63: Zpěv | J63: DVD | K63: Out | L63: SP | M63: pochvaly / pokárání
A65: 41673
A66: 41674
A67: 41675
A68: 41676
A69: 41677
A70: 41680
A71: 41681
A72: 41682
A73: 41683
A74: 41684
A75: 41687
A76: 41688
... A84: 41698
A85: Celkem | B85: =SUM(B65:B84) -> 0 | C85: =SUM(C65:C84) -> 0 | D85: =SUM(D65:D84) -> 0 | E85: =SUM(E65:E84) -> 0 | F85: =SUM(F65:F84) -> 0 | G85: =SUM(G65:G84) -> 0 | H85: =SUM(H65:H84) -> 0 | I85: =SUM(I65:I84) -> 0 | ... L85: =SUM(L65:L84) -> 0
A87: Březen - 2014
A89: Datum | B89: Docházka | C89: Učení | D89: Počítač | E89: Hudba | F89: Hry | G89: VV | H89: Tanec | I89: Zpěv | J89: DVD | K89: Out | L89: SP | M89: pochvaly / pokárání
A91: 41701
A92: 41702
A93: 41703
A94: 41704
A95: 41705
A96: 41708
A97: 41709
A98: 41710
A99: 41711
A100: 41712
A101: 41715
A102: 41716
... A111: 41729
A112: Celkem | B112: =SUM(B91:B111) -> 0 | C112: =SUM(C91:C111) -> 0 | D112: =SUM(D91:D111) -> 0 | E112: =SUM(E91:E111) -> 0 | F112: =SUM(F91:F111) -> 0 | G112: =SUM(G91:G111) -> 0 | H112: =SUM(H91:H111) -> 0 | I112: =SUM(I91:I111) -> 0 | ... L112: =SUM(L91:L111) -> 0
A114: Duben - 2014
A116: Datum | B116: Docházka | C116: Učení | D116: Počítač | E116: Hudba | F116: Hry | G116: VV | H116: Tanec | I116: Zpěv | J116: DVD | K116: Out | L116: SP | M116: pochvaly / pokárání
A118: 41730
A119: 41731
A120: 41732
A121: 41733
A122: 41736
A123: 41737
A124: 41738
A125: 41739
A126: 41740
A127: 41743
A128: 41744
A129: 41745
... A139: 41759
A140: Celkem | B140: =SUM(B118:B139) -> 0 | C140: =SUM(C118:C139) -> 0 | D140: =SUM(D118:D139) -> 0 | E140: =SUM(E118:E139) -> 0 | F140: =SUM(F118:F139) -> 0 | G140: =SUM(G118:G139) -> 0 | H140: =SUM(H118:H139) -> 0 | I140: =SUM(I118:I139) -> 0 | ... L140: =SUM(L118:L139) -> 0
A142: Květen - 2014
A144: Datum | B144: Docházka | C144: Učení | D144: Počítač | E144: Hudba | F144: Hry | G144: VV | H144: Tanec | I144: Zpěv | J144: DVD | K144: Out | L144: SP | M144: pochvaly / pokárání
A146: 41760
A147: 41761
A148: 41764
A149: 41765
A150: 41766
A151: 41767
A152: 41768
...

Sheet Jakub Baláž
D2: Jakub
C3: Jméno | I3: Smlouva o poskytování sociální služby: | M3: NE | N3: Uzavřená dne:
D4: Baláž | I4: Souhlas se zpracováním osobních údajů: | M4: NE | N4: Uzavřený dne:
C5: Příjmení | I5: Individuální plán, přání a cíle klienta: | M5: NE | N5: Uzavřené dne:
C7: Rok nar. | I7: Individuální plán klienta | N7: Uzevřený dne (datum revize)
A16: Statistika klienta za rok 2014 | M16: Celkový přehled
A18: Měsíc | B18: Docházka | C18: Učení | D18: Počítač | E18: Hudba | F18: Hry | G18: VV | H18: Tanec | I18: Zpěv | J18: DVD | K18: Out | L18: SP | N18: Počet dnů v klubu Zvídálek | Q18: =SUM(B32) -> 12
N19: Pomoc při učení | P19: =SUM(C32) -> 0
A20: Leden | B20: =(B59) -> 12 | C20: =(C59) -> 0 | D20: =(D59) -> 11 | E20: =(E59) -> 12 | F20: =(F59) -> 11 | G20: =(G59) -> 1 | H20: =(H59) -> 3 | I20: =(I59) -> 3 | ... L20: =(L59) -> 0 | N20: Aktivita - počítač | P20: =SUM(D32) -> 11
A21: Únor | B21: =(B85) -> 0 | C21: =(C85) -> 0 | D21: =(D85) -> 0 | E21: =(E85) -> 0 | F21: =(F85) -> 0 | G21: =(G85) -> 0 | H21: =(H85) -> 0 | I21: =(I85) -> 0 | ... L21: =(L85) -> 0 | N21: Aktivita - hudba | P21: =SUM(E32) -> 12
A22: Březen | B22: =(B112) -> 0 | C22: =(C112) -> 0 | D22: =(D112) -> 0 | E22: =(E112) -> 0 | F22: =(F112) -> 0 | G22: =(G112) -> 0 | H22: =(H112) -> 0 | I22: =(I112) -> 0 | ... L22: =(L112) -> 0 | N22: Aktivita - hry | P22: =SUM(F32) -> 11
A23: Duben | B23: =(B140) -> 0 | C23: =(C140) -> 0 | D23: =(D140) -> 0 | E23: =(E140) -> 0 | F23: =(F140) -> 0 | G23: =(G140) -> 0 | H23: =(H140) -> 0 | I23: =(I140) -> 0 | ... L23: =(L140) -> 0 | N23: Aktivita - VV | P23: =SUM(G32) -> 1
A24: Květen | B24: =(B168) -> 0 | C24: =(C168) -> 0 | D24: =(D168) -> 0 | E24: =(E168) -> 0 | F24: =(F168) -> 0 | G24: =(G168) -> 0 | H24: =(H168) -> 0 | I24: =(I168) -> 0 | ... L24: =(L168) -> 0 | N24: Aktivita - tanec | P24: =SUM(H32) -> 3
A25: Červen | B25: =(B195) -> 0 | C25: =(C195) -> 0 | D25: =(D195) -> 0 | E25: =(E195) -> 0 | F25: =(F195) -> 0 | G25: =(G195) -> 0 | H25: =(H195) -> 0 | I25: =(I195) -> 0 | ... L25: =(L195) -> 0 | N25: Aktivita - zpěv | P25: =SUM(I32) -> 3
A26: Červenec | B26: =(B224) -> 0 | C26: =(C224) -> 0 | D26: =(D224) -> 0 | E26: =(E224) -> 0 | F26: =(F224) -> 0 | G26: =(G224) -> 0 | H26: =(H224) -> 0 | I26: =(I224) -> 0 | ... L26: =(L224) -> 0 | N26: Aktivita - DVD | P26: =SUM(J32) -> 2
A27: Srpen | B27: =(B251) -> 0 | C27: =(C251) -> 0 | D27: =(D251) -> 0 | E27: =(E251) -> 0 | F27: =(F251) -> 0 | G27: =(G251) -> 0 | H27: =(H251) -> 0 | I27: =(I251) -> 0 | ... L27: =(L251) -> 0 | N27: Aktivita - out | P27: =SUM(K32) -> 0
A28: Září | B28: =(B279) -> 0 | C28: =(C279) -> 0 | D28: =(D279) -> 0 | E28: =(E279) -> 0 | F28: =(F279) -> 0 | G28: =(G279) -> 0 | H28: =(H279) -> 0 | I28: =(I279) -> 0 | ... L28: =(L279) -> 0 | N28: Komunikace se SP | P28: =SUM(L32) -> 0
A29: Říjen | B29: =(B308) -> 0 | C29: =(C308) -> 0 | D29: =(D308) -> 0 | E29: =(E308) -> 0 | F29: =(F308) -> 0 | G29: =(G308) -> 0 | H29: =(H308) -> 0 | I29: =(I308) -> 0 | ... L29: =(L308) -> 0
A30: Listopad | B30: =(B334) -> 0 | C30: =(C334) -> 0 | D30: =(D334) -> 0 | E30: =(E334) -> 0 | F30: =(F334) -> 0 | G30: =(G334) -> 0 | H30: =(H334) -> 0 | I30: =(I334) -> 0 | ... L30: =(L334) -> 0
A31: Prosinec | B31: =(B363) -> 0 | C31: =(C363) -> 0 | D31: =(D363) -> 0 | E31: =(E363) -> 0 | F31: =(F363) -> 0 | G31: =(G363) -> 0 | H31: =(H363) -> 0 | I31: =(I363) -> 0 | ... L31: =(L363) -> 0
A32: Celkem | B32: =SUM(B20:B31) -> 12 | C32: =SUM(C20:C31) -> 0 | D32: =SUM(D20:D31) -> 11 | E32: =SUM(E20:E31) -> 12 | F32: =SUM(F20:F31) -> 11 | G32: =SUM(G20:G31) -> 1 | H32: =SUM(H20:H31) -> 3 | I32: =SUM(I20:I31) -> 3 | ... L32: =SUM(L20:L31) -> 0
A36: Leden - 2014
A38: Datum | B38: Docházka | C38: Učení | D38: Počítač | E38: Hudba | F38: Hry | G38: VV | H38: Tanec | I38: Zpěv | J38: DVD | K38: Out | L38: SP | M38: pochvaly / pokárání
A40: 41645
A41: 41646
A42: 41647
A43: 41648 | B43: 1 | D43: 1 | E43: 1 | F43: 1 | H43: 1 | I43: 1
A44: 41649 | B44: 1 | D44: 1 | E44: 1 | F44: 1
A45: 41652
A46: 41653 | B46: 1 | D46: 1 | E46: 1 | F46: 1
A47: 41654
A48: 41655 | B48: 1 | D48: 1 | E48: 1 | F48: 1 | H48: 1 | I48: 1
A49: 41656 | B49: 1 | D49: 1 | E49: 1 | F49: 1
A50: 41659 | B50: 1 | D50: 1 | E50: 1 | F50: 1 | G50: 1 | H50: 1 | I50: 1
A51: 41660 | B51: 1 | D51: 1 | E51: 1 | F51: 1
A52: 41661
A53: 41662 | B53: 1 | E53: 1 | J53: 1
A54: 41663 | B54: 1 | D54: 1 | E54: 1 | F54: 1 | J54: 1
A55: 41666 | B55: 1 | D55: 1 | E55: 1 | F55: 1
A56: 41667 | B56: 1 | D56: 1 | E56: 1 | F56: 1
A57: 41668
A58: 41669 | B58: 1 | D58: 1 | E58: 1 | F58: 1
A59: Celkem | B59: =SUM(B40:B58) -> 12 | C59: =SUM(C40:C58) -> 0 | D59: =SUM(D40:D58) -> 11 | E59: =SUM(E40:E58) -> 12 | F59: =SUM(F40:F58) -> 11 | G59: =SUM(G40:G58) -> 1 | H59: =SUM(H40:H58) -> 3 | I59: =SUM(I40:I58) -> 3 | ... L59: =SUM(L40:L58) -> 0
A61: Únor - 2014
A63: Datum | B63: Docházka | C63: Učení | D63: Počítač | E63: Hudba | F63: Hry | G63: VV | H63: Tanec | I63: Zpěv | J63: DVD | K63: Out | L63: SP | M63: pochvaly / pokárání
A65: 41673
A66: 41674
A67: 41675
A68: 41676
A69: 41677
A70: 41680
A71: 41681
A72: 41682
A73: 41683
A74: 41684
A75: 41687
A76: 41688
... A84: 41698
A85: Celkem | B85: =SUM(B65:B84) -> 0 | C85: =SUM(C65:C84) -> 0 | D85: =SUM(D65:D84) -> 0 | E85: =SUM(E65:E84) -> 0 | F85: =SUM(F65:F84) -> 0 | G85: =SUM(G65:G84) -> 0 | H85: =SUM(H65:H84) -> 0 | I85: =SUM(I65:I84) -> 0 | ... L85: =SUM(L65:L84) -> 0
A87: Březen - 2014
A89: Datum | B89: Docházka | C89: Učení | D89: Počítač | E89: Hudba | F89: Hry | G89: VV | H89: Tanec | I89: Zpěv | J89: DVD | K89: Out | L89: SP | M89: pochvaly / pokárání
A91: 41701
A92: 41702
A93: 41703
A94: 41704
A95: 41705
A96: 41708
A97: 41709
A98: 41710
A99: 41711
A100: 41712
A101: 41715
A102: 41716
... A111: 41729
A112: Celkem | B112: =SUM(B91:B111) -> 0 | C112: =SUM(C91:C111) -> 0 | D112: =SUM(D91:D111) -> 0 | E112: =SUM(E91:E111) -> 0 | F112: =SUM(F91:F111) -> 0 | G112: =SUM(G91:G111) -> 0 | H112: =SUM(H91:H111) -> 0 | I112: =SUM(I91:I111) -> 0 | ... L112: =SUM(L91:L111) -> 0
A114: Duben - 2014
A116: Datum | B116: Docházka | C116: Učení | D116: Počítač | E116: Hudba | F116: Hry | G116: VV | H116: Tanec | I116: Zpěv | J116: DVD | K116: Out | L116: SP | M116: pochvaly / pokárání
A118: 41730
A119: 41731
A120: 41732
A121: 41733
A122: 41736
A123: 41737
A124: 41738
A125: 41739
A126: 41740
A127: 41743
A128: 41744
A129: 41745
... A139: 41759
A140: Celkem | B140: =SUM(B118:B139) -> 0 | C140: =SUM(C118:C139) -> 0 | D140: =SUM(D118:D139) -> 0 | E140: =SUM(E118:E139) -> 0 | F140: =SUM(F118:F139) -> 0 | G140: =SUM(G118:G139) -> 0 | H140: =SUM(H118:H139) -> 0 | I140: =SUM(I118:I139) -> 0 | ... L140: =SUM(L118:L139) -> 0
A142: Květen - 2014
A144: Datum | B144: Docházka | C144: Učení | D144: Počítač | E144: Hudba | F144: Hry | G144: VV | H144: Tanec | I144: Zpěv | J144: DVD | K144: Out | L144: SP | M144: pochvaly / pokárání
A146: 41760
A147: 41761
A148: 41764
A149: 41765
A150: 41766
A151: 41767
A152: 41768
...

Sheet Jan Žida
D2: Jan
C3: Jméno | I3: Smlouva o poskytování sociální služby: | M3: NE | N3: Uzavřená dne:
D4: Žida | I4: Souhlas se zpracováním osobních údajů: | M4: NE | N4: Uzavřený dne:
C5: Příjmení | I5: Individuální plán, přání a cíle klienta: | M5: NE | N5: Uzavřené dne:
C7: Rok nar. | I7: Individuální plán klienta | N7: Uzevřený dne (datum revize)
A16: Statistika klienta za rok 2014 | M16: Celkový přehled
A18: Měsíc | B18: Docházka | C18: Učení | D18: Počítač | E18: Hudba | F18: Hry | G18: VV | H18: Tanec | I18: Zpěv | J18: DVD | K18: Out | L18: SP | N18: Počet dnů v klubu Zvídálek | Q18: =SUM(B32) -> 51
N19: Pomoc při učení | P19: =SUM(C32) -> 0
A20: Leden | B20: =(B59) -> 12 | C20: =(C59) -> 0 | D20: =(D59) -> 12 | E20: =(E59) -> 12 | F20: =(F59) -> 4 | G20: =(G59) -> 0 | H20: =(H59) -> 1 | I20: =(I59) -> 1 | ... L20: =(L59) -> 0 | N20: Aktivita - počítač | P20: =SUM(D32) -> 44
A21: Únor | B21: =(B85) -> 8 | C21: =(C85) -> 0 | D21: =(D85) -> 7 | E21: =(E85) -> 7 | F21: =(F85) -> 3 | G21: =(G85) -> 0 | H21: =(H85) -> 0 | I21: =(I85) -> 0 | ... L21: =(L85) -> 0 | N21: Aktivita - hudba | P21: =SUM(E32) -> 41
A22: Březen | B22: =(B112) -> 8 | C22: =(C112) -> 0 | D22: =(D112) -> 6 | E22: =(E112) -> 7 | F22: =(F112) -> 5 | G22: =(G112) -> 0 | H22: =(H112) -> 0 | I22: =(I112) -> 0 | ... L22: =(L112) -> 0 | N22: Aktivita - hry | P22: =SUM(F32) -> 26
A23: Duben | B23: =(B140) -> 9 | C23: =(C140) -> 0 | D23: =(D140) -> 7 | E23: =(E140) -> 5 | F23: =(F140) -> 7 | G23: =(G140) -> 0 | H23: =(H140) -> 0 | I23: =(I140) -> 0 | ... L23: =(L140) -> 0 | N23: Aktivita - VV | P23: =SUM(G32) -> 2
A24: Květen | B24: =(B168) -> 3 | C24: =(C168) -> 0 | D24: =(D168) -> 3 | E24: =(E168) -> 2 | F24: =(F168) -> 3 | G24: =(G168) -> 0 | H24: =(H168) -> 0 | I24: =(I168) -> 0 | ... L24: =(L168) -> 0 | N24: Aktivita - tanec | P24: =SUM(H32) -> 1
A25: Červen | B25: =(B195) -> 9 | C25: =(C195) -> 0 | D25: =(D195) -> 8 | E25: =(E195) -> 6 | F25: =(F195) -> 3 | G25: =(G195) -> 2 | H25: =(H195) -> 0 | I25: =(I195) -> 0 | ... L25: =(L195) -> 0 | N25: Aktivita - zpěv | P25: =SUM(I32) -> 1
A26: Červenec | B26: =(B224) -> 1 | C26: =(C224) -> 0 | D26: =(D224) -> 0 | E26: =(E224) -> 1 | F26: =(F224) -> 0 | G26: =(G224) -> 0 | H26: =(H224) -> 0 | I26: =(I224) -> 0 | ... L26: =(L224) -> 0 | N26: Aktivita - DVD | P26: =SUM(J32) -> 11
A27: Srpen | B27: =(B251) -> 1 | C27: =(C251) -> 0 | D27: =(D251) -> 1 | E27: =(E251) -> 1 | F27: =(F251) -> 1 | G27: =(G251) -> 0 | H27: =(H251) -> 0 | I27: =(I251) -> 0 | ... L27: =(L251) -> 0 | N27: Aktivita - out | P27: =SUM(K32) -> 1
A28: Září | B28: =(B279) -> 0 | C28: =(C279) -> 0 | D28: =(D279) -> 0 | E28: =(E279) -> 0 | F28: =(F279) -> 0 | G28: =(G279) -> 0 | H28: =(H279) -> 0 | I28: =(I279) -> 0 | ... L28: =(L279) -> 0 | N28: Komunikace se SP | P28: =SUM(L32) -> 0
A29: Říjen | B29: =(B308) -> 0 | C29: =(C308) -> 0 | D29: =(D308) -> 0 | E29: =(E308) -> 0 | F29: =(F308) -> 0 | G29: =(G308) -> 0 | H29: =(H308) -> 0 | I29: =(I308) -> 0 | ... L29: =(L308) -> 0
A30: Listopad | B30: =(B334) -> 0 | C30: =(C334) -> 0 | D30: =(D334) -> 0 | E30: =(E334) -> 0 | F30: =(F334) -> 0 | G30: =(G334) -> 0 | H30: =(H334) -> 0 | I30: =(I334) -> 0 | ... L30: =(L334) -> 0
A31: Prosinec | B31: =(B363) -> 0 | C31: =(C363) -> 0 | D31: =(D363) -> 0 | E31: =(E363) -> 0 | F31: =(F363) -> 0 | G31: =(G363) -> 0 | H31: =(H363) -> 0 | I31: =(I363) -> 0 | ... L31: =(L363) -> 0
A32: Celkem | B32: =SUM(B20:B31) -> 51 | C32: =SUM(C20:C31) -> 0 | D32: =SUM(D20:D31) -> 44 | E32: =SUM(E20:E31) -> 41 | F32: =SUM(F20:F31) -> 26 | G32: =SUM(G20:G31) -> 2 | H32: =SUM(H20:H31) -> 1 | I32: =SUM(I20:I31) -> 1 | ... L32: =SUM(L20:L31) -> 0
A36: Leden - 2014
A38: Datum | B38: Docházka | C38: Učení | D38: Počítač | E38: Hudba | F38: Hry | G38: VV | H38: Tanec | I38: Zpěv | J38: DVD | K38: Out | L38: SP | M38: pochvaly / pokárání
A40: 41645
A41: 41646 | B41: 1 | D41: 1 | E41: 1 | F41: 1
A42: 41647
A43: 41648 | B43: 1 | D43: 1 | E43: 1 | F43: 1
A44: 41649
A45: 41652
A46: 41653
A47: 41654 | B47: 1 | D47: 1 | E47: 1 | J47: 1
A48: 41655 | B48: 1 | D48: 1 | E48: 1 | F48: 1
A49: 41656
A50: 41659
A51: 41660 | B51: 1 | D51: 1 | E51: 1
A52: 41661 | B52: 1 | D52: 1 | E52: 1
A53: 41662 | B53: 1 | D53: 1 | E53: 1
A54: 41663 | B54: 1 | D54: 1 | E54: 1 | F54: 1 | J54: 1
A55: 41666 | B55: 1 | D55: 1 | E55: 1
A56: 41667 | B56: 1 | D56: 1 | E56: 1 | J56: 1
A57: 41668 | B57: 1 | D57: 1 | E57: 1 | H57: 1 | I57: 1 | J57: 1
A58: 41669 | B58: 1 | D58: 1 | E58: 1
A59: Celkem | B59: =SUM(B40:B58) -> 12 | C59: =SUM(C40:C58) -> 0 | D59: =SUM(D40:D58) -> 12 | E59: =SUM(E40:E58) -> 12 | F59: =SUM(F40:F58) -> 4 | G59: =SUM(G40:G58) -> 0 | H59: =SUM(H40:H58) -> 1 | I59: =SUM(I40:I58) -> 1 | ... L59: =SUM(L40:L58) -> 0
A61: Únor - 2014
A63: Datum | B63: Docházka | C63: Učení | D63: Počítač | E63: Hudba | F63: Hry | G63: VV | H63: Tanec | I63: Zpěv | J63: DVD | K63: Out | L63: SP | M63: pochvaly / pokárání
A65: 41673
A66: 41674 | B66: 1 | D66: 1 | E66: 1 | F66: 1
A67: 41675
A68: 41676
A69: 41677
A70: 41680 | B70: 1 | D70: 1
A71: 41681
A72: 41682
A73: 41683 | B73: 1 | D73: 1 | E73: 1
A74: 41684 | B74: 1 | D74: 1 | E74: 1
A75: 41687
A76: 41688
A77: 41689
A78: 41690 | B78: 1 | E78: 1 | F78: 1
A79: 41691 | B79: 1 | D79: 1 | E79: 1
A80: 41694
A81: 41695 | B81: 1 | D81: 1 | E81: 1
A82: 41696
A83: 41697 | B83: 1 | D83: 1 | E83: 1 | F83: 1
A84: 41698
A85: Celkem | B85: =SUM(B65:B84) -> 8 | C85: =SUM(C65:C84) -> 0 | D85: =SUM(D65:D84) -> 7 | E85: =SUM(E65:E84) -> 7 | F85: =SUM(F65:F84) -> 3 | G85: =SUM(G65:G84) -> 0 | H85: =SUM(H65:H84) -> 0 | I85: =SUM(I65:I84) -> 0 | ... L85: =SUM(L65:L84) -> 0
A87: Březen - 2014
A89: Datum | B89: Docházka | C89: Učení | D89: Počítač | E89: Hudba | F89: Hry | G89: VV | H89: Tanec | I89: Zpěv | J89: DVD | K89: Out | L89: SP | M89: pochvaly / pokárání
A91: 41701
A92: 41702 | B92: 1 | D92: 1 | E92: 1 | F92: 1
A93: 41703
A94: 41704 | B94: 1 | E94: 1 | F94: 1
A95: 41705
A96: 41708
A97: 41709
A98: 41710
A99: 41711
A100: 41712
A101: 41715
A102: 41716 | B102: 1 | D102: 1 | E102: 1
A103: 41717 | B103: 1 | E103: 1 | F103: 1
A104: 41718
A105: 41719 | B105: 1 | D105: 1 | J105: 1
A106: 41722 | B106: 1 | D106: 1 | E106: 1 | F106: 1
A107: 41723 | B107: 1 | D107: 1 | E107: 1 | J107: 1
A108: 41724
A109: 41725
A110: 41726 | B110: 1 | D110: 1 | E110: 1 | F110: 1
A111: 41729
A112: Celkem | B112: =SUM(B91:B111) -> 8 | C112: =SUM(C91:C111) -> 0 | D112: =SUM(D91:D111) -> 6 | E112: =SUM(E91:E111) -> 7 | F112: =SUM(F91:F111) -> 5 | G112: =SUM(G91:G111) -> 0 | H112: =SUM(H91:H111) -> 0 | I112: =SUM(I91:I111) -> 0 | ... L112: =SUM(L91:L111) -> 0
A114: Duben - 2014
A116: Datum | B116: Docházka | C116: Učení | D116: Počítač | E116: Hudba | F116: Hry | G116: VV | H116: Tanec | I116: Zpěv | J116: DVD | K116: Out | L116: SP | M116: pochvaly / pokárání
A118: 41730
A119: 41731 | B119: 1 | F119: 1
A120: 41732 | B120: 1 | D120: 1 | F120: 1
A121: 41733
A122: 41736 | B122: 1 | D122: 1
A123: 41737
A124: 41738
A125: 41739 | B125: 1 | D125: 1 | E125: 1 | F125: 1
...

Sheet Janis Slepčík
D2: Janis
C3: Jméno | I3: Smlouva o poskytování sociální služby: | M3: NE | N3: Uzavřená dne:
D4: Slepčík | I4: Souhlas se zpracováním osobních údajů: | M4: NE | N4: Uzavřený dne:
C5: Příjmení | I5: Individuální plán, přání a cíle klienta: | M5: NE | N5: Uzavřené dne:
C7: Rok nar. | I7: Individuální plán klienta | N7: Uzevřený dne (datum revize)
A16: Statistika klienta za rok 2014 | M16: Celkový přehled
A18: Měsíc | B18: Docházka | C18: Učení | D18: Počítač | E18: Hudba | F18: Hry | G18: VV | H18: Tanec | I18: Zpěv | J18: DVD | K18: Out | L18: SP | N18: Počet dnů v klubu Zvídálek | Q18: =SUM(B32) -> 65
N19: Pomoc při učení | P19: =SUM(C32) -> 0
A20: Leden | B20: =(B59) -> 1 | C20: =(C59) -> 0 | D20: =(D59) -> 1 | E20: =(E59) -> 0 | F20: =(F59) -> 0 | G20: =(G59) -> 1 | H20: =(H59) -> 0 | I20: =(I59) -> 0 | ... L20: =(L59) -> 0 | N20: Aktivita - počítač | P20: =SUM(D32) -> 45
A21: Únor | B21: =(B85) -> 10 | C21: =(C85) -> 0 | D21: =(D85) -> 6 | E21: =(E85) -> 5 | F21: =(F85) -> 9 | G21: =(G85) -> 4 | H21: =(H85) -> 0 | I21: =(I85) -> 0 | ... L21: =(L85) -> 0 | N21: Aktivita - hudba | P21: =SUM(E32) -> 20
A22: Březen | B22: =(B112) -> 13 | C22: =(C112) -> 0 | D22: =(D112) -> 9 | E22: =(E112) -> 4 | F22: =(F112) -> 11 | G22: =(G112) -> 1 | H22: =(H112) -> 1 | I22: =(I112) -> 0 | ... L22: =(L112) -> 0 | N22: Aktivita - hry | P22: =SUM(F32) -> 49
A23: Duben | B23: =(B140) -> 8 | C23: =(C140) -> 0 | D23: =(D140) -> 7 | E23: =(E140) -> 3 | F23: =(F140) -> 7 | G23: =(G140) -> 2 | H23: =(H140) -> 0 | I23: =(I140) -> 0 | ... L23: =(L140) -> 0 | N23: Aktivita - VV | P23: =SUM(G32) -> 14
A24: Květen | B24: =(B168) -> 9 | C24: =(C168) -> 0 | D24: =(D168) -> 6 | E24: =(E168) -> 2 | F24: =(F168) -> 4 | G24: =(G168) -> 2 | H24: =(H168) -> 0 | I24: =(I168) -> 1 | ... L24: =(L168) -> 0 | N24: Aktivita - tanec | P24: =SUM(H32) -> 1
A25: Červen | B25: =(B195) -> 8 | C25: =(C195) -> 0 | D25: =(D195) -> 6 | E25: =(E195) -> 1 | F25: =(F195) -> 6 | G25: =(G195) -> 1 | H25: =(H195) -> 0 | I25: =(I195) -> 0 | ... L25: =(L195) -> 0 | N25: Aktivita - zpěv | P25: =SUM(I32) -> 1
A26: Červenec | B26: =(B224) -> 6 | C26: =(C224) -> 0 | D26: =(D224) -> 3 | E26: =(E224) -> 1 | F26: =(F224) -> 4 | G26: =(G224) -> 2 | H26: =(H224) -> 0 | I26: =(I224) -> 0 | ... L26: =(L224) -> 0 | N26: Aktivita - DVD | P26: =SUM(J32) -> 9
A27: Srpen | B27: =(B251) -> 10 | C27: =(C251) -> 0 | D27: =(D251) -> 7 | E27: =(E251) -> 4 | F27: =(F251) -> 8 | G27: =(G251) -> 1 | H27: =(H251) -> 0 | I27: =(I251) -> 0 | ... L27: =(L251) -> 0 | N27: Aktivita - out | P27: =SUM(K32) -> 2
A28: Září | B28: =(B279) -> 0 | C28: =(C279) -> 0 | D28: =(D279) -> 0 | E28: =(E279) -> 0 | F28: =(F279) -> 0 | G28: =(G279) -> 0 | H28: =(H279) -> 0 | I28: =(I279) -> 0 | ... L28: =(L279) -> 0 | N28: Komunikace se SP | P28: =SUM(L32) -> 0
A29: Říjen | B29: =(B308) -> 0 | C29: =(C308) -> 0 | D29: =(D308) -> 0 | E29: =(E308) -> 0 | F29: =(F308) -> 0 | G29: =(G308) -> 0 | H29: =(H308) -> 0 | I29: =(I308) -> 0 | ... L29: =(L308) -> 0
A30: Listopad | B30: =(B334) -> 0 | C30: =(C334) -> 0 | D30: =(D334) -> 0 | E30: =(E334) -> 0 | F30: =(F334) -> 0 | G30: =(G334) -> 0 | H30: =(H334) -> 0 | I30: =(I334) -> 0 | ... L30: =(L334) -> 0
A31: Prosinec | B31: =(B363) -> 0 | C31: =(C363) -> 0 | D31: =(D363) -> 0 | E31: =(E363) -> 0 | F31: =(F363) -> 0 | G31: =(G363) -> 0 | H31: =(H363) -> 0 | I31: =(I363) -> 0 | ... L31: =(L363) -> 0
A32: Celkem | B32: =SUM(B20:B31) -> 65 | C32: =SUM(C20:C31) -> 0 | D32: =SUM(D20:D31) -> 45 | E32: =SUM(E20:E31) -> 20 | F32: =SUM(F20:F31) -> 49 | G32: =SUM(G20:G31) -> 14 | H32: =SUM(H20:H31) -> 1 | I32: =SUM(I20:I31) -> 1 | ... L32: =SUM(L20:L31) -> 0
A36: Leden - 2014
A38: Datum | B38: Docházka | C38: Učení | D38: Počítač | E38: Hudba | F38: Hry | G38: VV | H38: Tanec | I38: Zpěv | J38: DVD | K38: Out | L38: SP | M38: pochvaly / pokárání
A40: 41645
A41: 41646 | B41: 1 | D41: 1 | G41: 1
A42: 41647
A43: 41648
A44: 41649
A45: 41652
A46: 41653
A47: 41654
A48: 41655
A49: 41656
A50: 41659
A51: 41660
A52: 41661
A53: 41662
... A58: 41669
A59: Celkem | B59: =SUM(B40:B58) -> 1 | C59: =SUM(C40:C58) -> 0 | D59: =SUM(D40:D58) -> 1 | E59: =SUM(E40:E58) -> 0 | F59: =SUM(F40:F58) -> 0 | G59: =SUM(G40:G58) -> 1 | H59: =SUM(H40:H58) -> 0 | I59: =SUM(I40:I58) -> 0 | ... L59: =SUM(L40:L58) -> 0
A61: Únor - 2014
A63: Datum | B63: Docházka | C63: Učení | D63: Počítač | E63: Hudba | F63: Hry | G63: VV | H63: Tanec | I63: Zpěv | J63: DVD | K63: Out | L63: SP | M63: pochvaly / pokárání
A65: 41673
A66: 41674 | B66: 1 | F66: 1 | G66: 1
A67: 41675
A68: 41676 | B68: 1 | D68: 1 | F68: 1 | G68: 1
A69: 41677 | B69: 1 | D69: 1 | F69: 1 | G69: 1
A70: 41680 | B70: 1 | E70: 1 | F70: 1 | J70: 1
A71: 41681 | B71: 1 | F71: 1
A72: 41682
A73: 41683
A74: 41684 | B74: 1 | D74: 1 | E74: 1 | F74: 1 | G74: 1
A75: 41687 | B75: 1 | D75: 1 | E75: 1 | F75: 1
A76: 41688
A77: 41689
A78: 41690
A79: 41691 | B79: 1 | D79: 1 | E79: 1 | F79: 1
A80: 41694 | B80: 1 | D80: 1 | E80: 1
A81: 41695
A82: 41696
A83: 41697 | B83: 1 | F83: 1
A84: 41698
A85: Celkem | B85: =SUM(B65:B84) -> 10 | C85: =SUM(C65:C84) -> 0 | D85: =SUM(D65:D84) -> 6 | E85: =SUM(E65:E84) -> 5 | F85: =SUM(F65:F84) -> 9 | G85: =SUM(G65:G84) -> 4 | H85: =SUM(H65:H84) -> 0 | I85: =SUM(I65:I84) -> 0 | ... L85: =SUM(L65:L84) -> 0
A87: Březen - 2014
A89: Datum | B89: Docházka | C89: Učení | D89: Počítač | E89: Hudba | F89: Hry | G89: VV | H89: Tanec | I89: Zpěv | J89: DVD | K89: Out | L89: SP | M89: pochvaly / pokárání
A91: 41701
A92: 41702 | B92: 1 | D92: 1 | E92: 1 | F92: 1 | H92: 1
A93: 41703
A94: 41704 | B94: 1 | D94: 1 | F94: 1
A95: 41705
A96: 41708 | B96: 1 | E96: 1 | F96: 1
A97: 41709 | B97: 1 | D97: 1 | F97: 1
A98: 41710
A99: 41711
A100: 41712 | B100: 1 | D100: 1 | F100: 1
A101: 41715 | B101: 1 | D101: 1 | F101: 1
A102: 41716 | B102: 1 | D102: 1 | F102: 1
A103: 41717 | B103: 1 | E103: 1 | F103: 1 | J103: 1
A104: 41718 | B104: 1 | D104: 1 | E104: 1 | F104: 1
A105: 41719 | B105: 1 | D105: 1 | F105: 1
A106: 41722 | B106: 1 | J106: 1
A107: 41723 | B107: 1 | D107: 1 | G107: 1
A108: 41724 | B108: 1 | F108: 1 | M108: Zákaz do zvídálku na dva dny za nevhodné chování.
A109: 41725
A110: 41726
A111: 41729
A112: Celkem | B112: =SUM(B91:B111) -> 13 | C112: =SUM(C91:C111) -> 0 | D112: =SUM(D91:D111) -> 9 | E112: =SUM(E91:E111) -> 4 | F112: =SUM(F91:F111) -> 11 | G112: =SUM(G91:G111) -> 1 | H112: =SUM(H91:H111) -> 1 | I112: =SUM(I91:I111) -> 0 | ... L112: =SUM(L91:L111) -> 0
A114: Duben - 2014
A116: Datum | B116: Docházka | C116: Učení | D116: Počítač | E116: Hudba | F116: Hry | G116: VV | H116: Tanec | I116: Zpěv | J116: DVD | K116: Out | L116: SP | M116: pochvaly / pokárání
A118: 41730
A119: 41731 | B119: 1 | E119: 1 | F119: 1 | G119: 1
A120: 41732
A121: 41733
A122: 41736
A123: 41737
A124: 41738
A125: 41739 | B125: 1 | D125: 1 | F125: 1
A126: 41740
A127: 41743
A128: 41744
A129: 41745
...

Sheet Kateřina Suchá
D2: Kateřina
C3: Jméno | I3: Smlouva o poskytování sociální služby: | M3: NE | N3: Uzavřená dne:
D4: Suchá | I4: Souhlas se zpracováním osobních údajů: | M4: NE | N4: Uzavřený dne:
C5: Příjmení | I5: Individuální plán, přání a cíle klienta: | M5: NE | N5: Uzavřené dne:
C7: Rok nar. | I7: Individuální plán klienta | N7: Uzevřený dne (datum revize)
A16: Statistika klienta za rok 2014 | M16: Celkový přehled
A18: Měsíc | B18: Docházka | C18: Učení | D18: Počítač | E18: Hudba | F18: Hry | G18: VV | H18: Tanec | I18: Zpěv | J18: DVD | K18: Out | L18: SP | N18: Počet dnů v klubu Zvídálek | Q18: =SUM(B32) -> 5
N19: Pomoc při učení | P19: =SUM(C32) -> 0
A20: Leden | B20: =(B59) -> 5 | C20: =(C59) -> 0 | D20: =(D59) -> 5 | E20: =(E59) -> 5 | F20: =(F59) -> 1 | G20: =(G59) -> 0 | H20: =(H59) -> 0 | I20: =(I59) -> 0 | ... L20: =(L59) -> 0 | N20: Aktivita - počítač | P20: =SUM(D32) -> 5
A21: Únor | B21: =(B85) -> 0 | C21: =(C85) -> 0 | D21: =(D85) -> 0 | E21: =(E85) -> 0 | F21: =(F85) -> 0 | G21: =(G85) -> 0 | H21: =(H85) -> 0 | I21: =(I85) -> 0 | ... L21: =(L85) -> 0 | N21: Aktivita - hudba | P21: =SUM(E32) -> 5
A22: Březen | B22: =(B112) -> 0 | C22: =(C112) -> 0 | D22: =(D112) -> 0 | E22: =(E112) -> 0 | F22: =(F112) -> 0 | G22: =(G112) -> 0 | H22: =(H112) -> 0 | I22: =(I112) -> 0 | ... L22: =(L112) -> 0 | N22: Aktivita - hry | P22: =SUM(F32) -> 1
A23: Duben | B23: =(B140) -> 0 | C23: =(C140) -> 0 | D23: =(D140) -> 0 | E23: =(E140) -> 0 | F23: =(F140) -> 0 | G23: =(G140) -> 0 | H23: =(H140) -> 0 | I23: =(I140) -> 0 | ... L23: =(L140) -> 0 | N23: Aktivita - VV | P23: =SUM(G32) -> 0
A24: Květen | B24: =(B168) -> 0 | C24: =(C168) -> 0 | D24: =(D168) -> 0 | E24: =(E168) -> 0 | F24: =(F168) -> 0 | G24: =(G168) -> 0 | H24: =(H168) -> 0 | I24: =(I168) -> 0 | ... L24: =(L168) -> 0 | N24: Aktivita - tanec | P24: =SUM(H32) -> 0
A25: Červen | B25: =(B195) -> 0 | C25: =(C195) -> 0 | D25: =(D195) -> 0 | E25: =(E195) -> 0 | F25: =(F195) -> 0 | G25: =(G195) -> 0 | H25: =(H195) -> 0 | I25: =(I195) -> 0 | ... L25: =(L195) -> 0 | N25: Aktivita - zpěv | P25: =SUM(I32) -> 0
A26: Červenec | B26: =(B224) -> 0 | C26: =(C224) -> 0 | D26: =(D224) -> 0 | E26: =(E224) -> 0 | F26: =(F224) -> 0 | G26: =(G224) -> 0 | H26: =(H224) -> 0 | I26: =(I224) -> 0 | ... L26: =(L224) -> 0 | N26: Aktivita - DVD | P26: =SUM(J32) -> 0
A27: Srpen | B27: =(B251) -> 0 | C27: =(C251) -> 0 | D27: =(D251) -> 0 | E27: =(E251) -> 0 | F27: =(F251) -> 0 | G27: =(G251) -> 0 | H27: =(H251) -> 0 | I27: =(I251) -> 0 | ... L27: =(L251) -> 0 | N27: Aktivita - out | P27: =SUM(K32) -> 0
A28: Září | B28: =(B279) -> 0 | C28: =(C279) -> 0 | D28: =(D279) -> 0 | E28: =(E279) -> 0 | F28: =(F279) -> 0 | G28: =(G279) -> 0 | H28: =(H279) -> 0 | I28: =(I279) -> 0 | ... L28: =(L279) -> 0 | N28: Komunikace se SP | P28: =SUM(L32) -> 0
A29: Říjen | B29: =(B308) -> 0 | C29: =(C308) -> 0 | D29: =(D308) -> 0 | E29: =(E308) -> 0 | F29: =(F308) -> 0 | G29: =(G308) -> 0 | H29: =(H308) -> 0 | I29: =(I308) -> 0 | ... L29: =(L308) -> 0
A30: Listopad | B30: =(B334) -> 0 | C30: =(C334) -> 0 | D30: =(D334) -> 0 | E30: =(E334) -> 0 | F30: =(F334) -> 0 | G30: =(G334) -> 0 | H30: =(H334) -> 0 | I30: =(I334) -> 0 | ... L30: =(L334) -> 0
A31: Prosinec | B31: =(B363) -> 0 | C31: =(C363) -> 0 | D31: =(D363) -> 0 | E31: =(E363) -> 0 | F31: =(F363) -> 0 | G31: =(G363) -> 0 | H31: =(H363) -> 0 | I31: =(I363) -> 0 | ... L31: =(L363) -> 0
A32: Celkem | B32: =SUM(B20:B31) -> 5 | C32: =SUM(C20:C31) -> 0 | D32: =SUM(D20:D31) -> 5 | E32: =SUM(E20:E31) -> 5 | F32: =SUM(F20:F31) -> 1 | G32: =SUM(G20:G31) -> 0 | H32: =SUM(H20:H31) -> 0 | I32: =SUM(I20:I31) -> 0 | ... L32: =SUM(L20:L31) -> 0
A36: Leden - 2014
A38: Datum | B38: Docházka | C38: Učení | D38: Počítač | E38: Hudba | F38: Hry | G38: VV | H38: Tanec | I38: Zpěv | J38: DVD | K38: Out | L38: SP | M38: pochvaly / pokárání
A40: 41645 | B40: 1 | D40: 1 | E40: 1
A41: 41646 | B41: 1 | D41: 1 | E41: 1
A42: 41647 | B42: 1 | D42: 1 | E42: 1
A43: 41648 | B43: 1 | D43: 1 | E43: 1
A44: 41649
A45: 41652
A46: 41653 | B46: 1 | D46: 1 | E46: 1 | F46: 1
A47: 41654
A48: 41655
A49: 41656
A50: 41659
A51: 41660
A52: 41661
A53: 41662
A54: 41663
A55: 41666
A56: 41667
A57: 41668
A58: 41669
A59: Celkem | B59: =SUM(B40:B58) -> 5 | C59: =SUM(C40:C58) -> 0 | D59: =SUM(D40:D58) -> 5 | E59: =SUM(E40:E58) -> 5 | F59: =SUM(F40:F58) -> 1 | G59: =SUM(G40:G58) -> 0 | H59: =SUM(H40:H58) -> 0 | I59: =SUM(I40:I58) -> 0 | ... L59: =SUM(L40:L58) -> 0
A61: Únor - 2014
A63: Datum | B63: Docházka | C63: Učení | D63: Počítač | E63: Hudba | F63: Hry | G63: VV | H63: Tanec | I63: Zpěv | J63: DVD | K63: Out | L63: SP | M63: pochvaly / pokárání
A65: 41673
A66: 41674
A67: 41675
A68: 41676
A69: 41677
A70: 41680
A71: 41681
A72: 41682
A73: 41683
A74: 41684
A75: 41687
A76: 41688
... A84: 41698
A85: Celkem | B85: =SUM(B65:B84) -> 0 | C85: =SUM(C65:C84) -> 0 | D85: =SUM(D65:D84) -> 0 | E85: =SUM(E65:E84) -> 0 | F85: =SUM(F65:F84) -> 0 | G85: =SUM(G65:G84) -> 0 | H85: =SUM(H65:H84) -> 0 | I85: =SUM(I65:I84) -> 0 | ... L85: =SUM(L65:L84) -> 0
A87: Březen - 2014
A89: Datum | B89: Docházka | C89: Učení | D89: Počítač | E89: Hudba | F89: Hry | G89: VV | H89: Tanec | I89: Zpěv | J89: DVD | K89: Out | L89: SP | M89: pochvaly / pokárání
A91: 41701
A92: 41702
A93: 41703
A94: 41704
A95: 41705
A96: 41708
A97: 41709
A98: 41710
A99: 41711
A100: 41712
A101: 41715
A102: 41716
... A111: 41729
A112: Celkem | B112: =SUM(B91:B111) -> 0 | C112: =SUM(C91:C111) -> 0 | D112: =SUM(D91:D111) -> 0 | E112: =SUM(E91:E111) -> 0 | F112: =SUM(F91:F111) -> 0 | G112: =SUM(G91:G111) -> 0 | H112: =SUM(H91:H111) -> 0 | I112: =SUM(I91:I111) -> 0 | ... L112: =SUM(L91:L111) -> 0
A114: Duben - 2014
A116: Datum | B116: Docházka | C116: Učení | D116: Počítač | E116: Hudba | F116: Hry | G116: VV | H116: Tanec | I116: Zpěv | J116: DVD | K116: Out | L116: SP | M116: pochvaly / pokárání
A118: 41730
A119: 41731
A120: 41732
A121: 41733
A122: 41736
A123: 41737
A124: 41738
A125: 41739
A126: 41740
A127: 41743
A128: 41744
A129: 41745
... A139: 41759
A140: Celkem | B140: =SUM(B118:B139) -> 0 | C140: =SUM(C118:C139) -> 0 | D140: =SUM(D118:D139) -> 0 | E140: =SUM(E118:E139) -> 0 | F140: =SUM(F118:F139) -> 0 | G140: =SUM(G118:G139) -> 0 | H140: =SUM(H118:H139) -> 0 | I140: =SUM(I118:I139) -> 0 | ... L140: =SUM(L118:L139) -> 0
A142: Květen - 2014
A144: Datum | B144: Docházka | C144: Učení | D144: Počítač | E144: Hudba | F144: Hry | G144: VV | H144: Tanec | I144: Zpěv | J144: DVD | K144: Out | L144: SP | M144: pochvaly / pokárání
A146: 41760
A147: 41761
A148: 41764
A149: 41765
A150: 41766
A151: 41767
A152: 41768
...

Sheet Kateřina Židová
D2: Kateřina
C3: Jméno | I3: Smlouva o poskytování sociální služby: | M3: NE | N3: Uzavřená dne:
D4: Židová | I4: Souhlas se zpracováním osobních údajů: | M4: NE | N4: Uzavřený dne:
C5: Příjmení | I5: Individuální plán, přání a cíle klienta: | M5: NE | N5: Uzavřené dne:
C7: Rok nar. | I7: Individuální plán klienta | N7: Uzevřený dne (datum revize)
A16: Statistika klienta za rok 2014 | M16: Celkový přehled
A18: Měsíc | B18: Docházka | C18: Učení | D18: Počítač | E18: Hudba | F18: Hry | G18: VV | H18: Tanec | I18: Zpěv | J18: DVD | K18: Out | L18: SP | N18: Počet dnů v klubu Zvídálek | Q18: =SUM(B32) -> 74
N19: Pomoc při učení | P19: =SUM(C32) -> 0
A20: Leden | B20: =(B59) -> 6 | C20: =(C59) -> 0 | D20: =(D59) -> 4 | E20: =(E59) -> 6 | F20: =(F59) -> 3 | G20: =(G59) -> 1 | H20: =(H59) -> 0 | I20: =(I59) -> 0 | ... L20: =(L59) -> 0 | N20: Aktivita - počítač | P20: =SUM(D32) -> 40
A21: Únor | B21: =(B85) -> 10 | C21: =(C85) -> 0 | D21: =(D85) -> 3 | E21: =(E85) -> 9 | F21: =(F85) -> 1 | G21: =(G85) -> 3 | H21: =(H85) -> 1 | I21: =(I85) -> 0 | ... L21: =(L85) -> 0 | N21: Aktivita - hudba | P21: =SUM(E32) -> 69
A22: Březen | B22: =(B112) -> 13 | C22: =(C112) -> 0 | D22: =(D112) -> 8 | E22: =(E112) -> 12 | F22: =(F112) -> 6 | G22: =(G112) -> 3 | H22: =(H112) -> 6 | I22: =(I112) -> 0 | ... L22: =(L112) -> 0 | N22: Aktivita - hry | P22: =SUM(F32) -> 16
A23: Duben | B23: =(B140) -> 8 | C23: =(C140) -> 0 | D23: =(D140) -> 7 | E23: =(E140) -> 8 | F23: =(F140) -> 1 | G23: =(G140) -> 2 | H23: =(H140) -> 4 | I23: =(I140) -> 0 | ... L23: =(L140) -> 0 | N23: Aktivita - VV | P23: =SUM(G32) -> 11
A24: Květen | B24: =(B168) -> 14 | C24: =(C168) -> 0 | D24: =(D168) -> 7 | E24: =(E168) -> 13 | F24: =(F168) -> 2 | G24: =(G168) -> 1 | H24: =(H168) -> 7 | I24: =(I168) -> 0 | ... L24: =(L168) -> 0 | N24: Aktivita - tanec | P24: =SUM(H32) -> 35
A25: Červen | B25: =(B195) -> 8 | C25: =(C195) -> 0 | D25: =(D195) -> 3 | E25: =(E195) -> 8 | F25: =(F195) -> 0 | G25: =(G195) -> 1 | H25: =(H195) -> 6 | I25: =(I195) -> 0 | ... L25: =(L195) -> 0 | N25: Aktivita - zpěv | P25: =SUM(I32) -> 3
A26: Červenec | B26: =(B224) -> 9 | C26: =(C224) -> 0 | D26: =(D224) -> 3 | E26: =(E224) -> 7 | F26: =(F224) -> 3 | G26: =(G224) -> 0 | H26: =(H224) -> 7 | I26: =(I224) -> 1 | ... L26: =(L224) -> 0 | N26: Aktivita - DVD | P26: =SUM(J32) -> 2
A27: Srpen | B27: =(B251) -> 6 | C27: =(C251) -> 0 | D27: =(D251) -> 5 | E27: =(E251) -> 6 | F27: =(F251) -> 0 | G27: =(G251) -> 0 | H27: =(H251) -> 4 | I27: =(I251) -> 2 | ... L27: =(L251) -> 0 | N27: Aktivita - out | P27: =SUM(K32) -> 6
A28: Září | B28: =(B279) -> 0 | C28: =(C279) -> 0 | D28: =(D279) -> 0 | E28: =(E279) -> 0 | F28: =(F279) -> 0 | G28: =(G279) -> 0 | H28: =(H279) -> 0 | I28: =(I279) -> 0 | ... L28: =(L279) -> 0 | N28: Komunikace se SP | P28: =SUM(L32) -> 0
A29: Říjen | B29: =(B308) -> 0 | C29: =(C308) -> 0 | D29: =(D308) -> 0 | E29: =(E308) -> 0 | F29: =(F308) -> 0 | G29: =(G308) -> 0 | H29: =(H308) -> 0 | I29: =(I308) -> 0 | ... L29: =(L308) -> 0
A30: Listopad | B30: =(B334) -> 0 | C30: =(C334) -> 0 | D30: =(D334) -> 0 | E30: =(E334) -> 0 | F30: =(F334) -> 0 | G30: =(G334) -> 0 | H30: =(H334) -> 0 | I30: =(I334) -> 0 | ... L30: =(L334) -> 0
A31: Prosinec | B31: =(B363) -> 0 | C31: =(C363) -> 0 | D31: =(D363) -> 0 | E31: =(E363) -> 0 | F31: =(F363) -> 0 | G31: =(G363) -> 0 | H31: =(H363) -> 0 | I31: =(I363) -> 0 | ... L31: =(L363) -> 0
A32: Celkem | B32: =SUM(B20:B31) -> 74 | C32: =SUM(C20:C31) -> 0 | D32: =SUM(D20:D31) -> 40 | E32: =SUM(E20:E31) -> 69 | F32: =SUM(F20:F31) -> 16 | G32: =SUM(G20:G31) -> 11 | H32: =SUM(H20:H31) -> 35 | I32: =SUM(I20:I31) -> 3 | ... L32: =SUM(L20:L31) -> 0
A36: Leden - 2014
A38: Datum | B38: Docházka | C38: Učení | D38: Počítač | E38: Hudba | F38: Hry | G38: VV | H38: Tanec | I38: Zpěv | J38: DVD | K38: Out | L38: SP | M38: pochvaly / pokárání
A40: 41645
A41: 41646
A42: 41647
A43: 41648
A44: 41649
A45: 41652
A46: 41653
A47: 41654
A48: 41655
A49: 41656 | B49: 1 | D49: 1 | E49: 1 | G49: 1
A50: 41659 | B50: 1 | D50: 1 | E50: 1 | F50: 1
A51: 41660 | B51: 1 | D51: 1 | E51: 1 | F51: 1
A52: 41661 | B52: 1 | E52: 1
A53: 41662
A54: 41663 | B54: 1 | E54: 1
A55: 41666
A56: 41667
A57: 41668
A58: 41669 | B58: 1 | D58: 1 | E58: 1 | F58: 1
A59: Celkem | B59: =SUM(B40:B58) -> 6 | C59: =SUM(C40:C58) -> 0 | D59: =SUM(D40:D58) -> 4 | E59: =SUM(E40:E58) -> 6 | F59: =SUM(F40:F58) -> 3 | G59: =SUM(G40:G58) -> 1 | H59: =SUM(H40:H58) -> 0 | I59: =SUM(I40:I58) -> 0 | ... L59: =SUM(L40:L58) -> 0
A61: Únor - 2014
A63: Datum | B63: Docházka | C63: Učení | D63: Počítač | E63: Hudba | F63: Hry | G63: VV | H63: Tanec | I63: Zpěv | J63: DVD | K63: Out | L63: SP | M63: pochvaly / pokárání
A65: 41673 | B65: 1 | E65: 1
A66: 41674
A67: 41675
A68: 41676 | B68: 1 | E68: 1 | G68: 1
A69: 41677
A70: 41680 | B70: 1 | D70: 1 | E70: 1 | H70: 1
A71: 41681 | B71: 1 | E71: 1 | G71: 1
A72: 41682 | B72: 1 | E72: 1 | G72: 1
A73: 41683
A74: 41684
A75: 41687 | B75: 1 | E75: 1
A76: 41688 | B76: 1 | D76: 1 | F76: 1
A77: 41689
A78: 41690 | B78: 1 | D78: 1 | E78: 1
A79: 41691 | B79: 1 | E79: 1
A80: 41694
A81: 41695
A82: 41696
A83: 41697 | B83: 1 | E83: 1
A84: 41698
A85: Celkem | B85: =SUM(B65:B84) -> 10 | C85: =SUM(C65:C84) -> 0 | D85: =SUM(D65:D84) -> 3 | E85: =SUM(E65:E84) -> 9 | F85: =SUM(F65:F84) -> 1 | G85: =SUM(G65:G84) -> 3 | H85: =SUM(H65:H84) -> 1 | I85: =SUM(I65:I84) -> 0 | ... L85: =SUM(L65:L84) -> 0
A87: Březen - 2014
A89: Datum | B89: Docházka | C89: Učení | D89: Počítač | E89: Hudba | F89: Hry | G89: VV | H89: Tanec | I89: Zpěv | J89: DVD | K89: Out | L89: SP | M89: pochvaly / pokárání
A91: 41701 | B91: 1 | D91: 1 | E91: 1
A92: 41702 | B92: 1 | D92: 1 | E92: 1 | H92: 1
A93: 41703 | B93: 1 | E93: 1
A94: 41704
A95: 41705
A96: 41708 | B96: 1 | D96: 1 | E96: 1 | H96: 1
A97: 41709 | B97: 1 | D97: 1 | E97: 1 | F97: 1 | G97: 1
A98: 41710 | B98: 1 | E98: 1 | F98: 1 | G98: 1
A99: 41711 | B99: 1 | D99: 1 | E99: 1 | H99: 1
A100: 41712 | B100: 1 | D100: 1 | E100: 1 | F100: 1 | H100: 1
A101: 41715 | B101: 1 | D101: 1 | E101: 1
A102: 41716
A103: 41717
A104: 41718
A105: 41719
A106: 41722 | B106: 1 | D106: 1 | F106: 1
A107: 41723 | B107: 1 | E107: 1 | F107: 1 | J107: 1
A108: 41724
A109: 41725 | B109: 1 | E109: 1 | F109: 1 | G109: 1 | H109: 1
A110: 41726 | B110: 1 | E110: 1 | H110: 1
A111: 41729
A112: Celkem | B112: =SUM(B91:B111) -> 13 | C112: =SUM(C91:C111) -> 0 | D112: =SUM(D91:D111) -> 8 | E112: =SUM(E91:E111) -> 12 | F112: =SUM(F91:F111) -> 6 | G112: =SUM(G91:G111) -> 3 | H112: =SUM(H91:H111) -> 6 | I112: =SUM(I91:I111) -> 0 | ... L112: =SUM(L91:L111) -> 0
A114: Duben - 2014
A116: Datum | B116: Docházka | C116: Učení | D116: Počítač | E116: Hudba | F116: Hry | G116: VV | H116: Tanec | I116: Zpěv | J116: DVD | K116: Out | L116: SP | M116: pochvaly / pokárání
A118: 41730
A119: 41731
A120: 41732
A121: 41733
A122: 41736 | B122: 1 | D122: 1 | E122: 1 | H122: 1
A123: 41737
A124: 41738
A125: 41739 | B125: 1 | D125: 1 | E125: 1 | H125: 1
...

Sheet Laura Kumaiová
D2: Laura
C3: Jméno | I3: Smlouva o poskytování sociální služby: | M3: NE | N3: Uzavřená dne:
D4: Kumaiová | I4: Souhlas se zpracováním osobních údajů: | M4: NE | N4: Uzavřený dne:
C5: Příjmení | I5: Individuální plán, přání a cíle klienta: | M5: NE | N5: Uzavřené dne:
C7: Rok nar. | I7: Individuální plán klienta | N7: Uzevřený dne (datum revize)
A16: Statistika klienta za rok 2014 | M16: Celkový přehled
A18: Měsíc | B18: Docházka | C18: Učení | D18: Počítač | E18: Hudba | F18: Hry | G18: VV | H18: Tanec | I18: Zpěv | J18: DVD | K18: Out | L18: SP | N18: Počet dnů v klubu Zvídálek | Q18: =SUM(B32) -> 1
N19: Pomoc při učení | P19: =SUM(C32) -> 0
A20: Leden | B20: =(B59) -> 0 | C20: =(C59) -> 0 | D20: =(D59) -> 0 | E20: =(E59) -> 0 | F20: =(F59) -> 0 | G20: =(G59) -> 0 | H20: =(H59) -> 0 | I20: =(I59) -> 0 | ... L20: =(L59) -> 0 | N20: Aktivita - počítač | P20: =SUM(D32) -> 1
A21: Únor | B21: =(B85) -> 0 | C21: =(C85) -> 0 | D21: =(D85) -> 0 | E21: =(E85) -> 0 | F21: =(F85) -> 0 | G21: =(G85) -> 0 | H21: =(H85) -> 0 | I21: =(I85) -> 0 | ... L21: =(L85) -> 0 | N21: Aktivita - hudba | P21: =SUM(E32) -> 1
A22: Březen | B22: =(B112) -> 1 | C22: =(C112) -> 0 | D22: =(D112) -> 1 | E22: =(E112) -> 1 | F22: =(F112) -> 0 | G22: =(G112) -> 0 | H22: =(H112) -> 0 | I22: =(I112) -> 0 | ... L22: =(L112) -> 0 | N22: Aktivita - hry | P22: =SUM(F32) -> 0
A23: Duben | B23: =(B140) -> 0 | C23: =(C140) -> 0 | D23: =(D140) -> 0 | E23: =(E140) -> 0 | F23: =(F140) -> 0 | G23: =(G140) -> 0 | H23: =(H140) -> 0 | I23: =(I140) -> 0 | ... L23: =(L140) -> 0 | N23: Aktivita - VV | P23: =SUM(G32) -> 0
A24: Květen | B24: =(B168) -> 0 | C24: =(C168) -> 0 | D24: =(D168) -> 0 | E24: =(E168) -> 0 | F24: =(F168) -> 0 | G24: =(G168) -> 0 | H24: =(H168) -> 0 | I24: =(I168) -> 0 | ... L24: =(L168) -> 0 | N24: Aktivita - tanec | P24: =SUM(H32) -> 0
A25: Červen | B25: =(B195) -> 0 | C25: =(C195) -> 0 | D25: =(D195) -> 0 | E25: =(E195) -> 0 | F25: =(F195) -> 0 | G25: =(G195) -> 0 | H25: =(H195) -> 0 | I25: =(I195) -> 0 | ... L25: =(L195) -> 0 | N25: Aktivita - zpěv | P25: =SUM(I32) -> 0
A26: Červenec | B26: =(B224) -> 0 | C26: =(C224) -> 0 | D26: =(D224) -> 0 | E26: =(E224) -> 0 | F26: =(F224) -> 0 | G26: =(G224) -> 0 | H26: =(H224) -> 0 | I26: =(I224) -> 0 | ... L26: =(L224) -> 0 | N26: Aktivita - DVD | P26: =SUM(J32) -> 0
A27: Srpen | B27: =(B251) -> 0 | C27: =(C251) -> 0 | D27: =(D251) -> 0 | E27: =(E251) -> 0 | F27: =(F251) -> 0 | G27: =(G251) -> 0 | H27: =(H251) -> 0 | I27: =(I251) -> 0 | ... L27: =(L251) -> 0 | N27: Aktivita - out | P27: =SUM(K32) -> 0
A28: Září | B28: =(B279) -> 0 | C28: =(C279) -> 0 | D28: =(D279) -> 0 | E28: =(E279) -> 0 | F28: =(F279) -> 0 | G28: =(G279) -> 0 | H28: =(H279) -> 0 | I28: =(I279) -> 0 | ... L28: =(L279) -> 0 | N28: Komunikace se SP | P28: =SUM(L32) -> 0
A29: Říjen | B29: =(B308) -> 0 | C29: =(C308) -> 0 | D29: =(D308) -> 0 | E29: =(E308) -> 0 | F29: =(F308) -> 0 | G29: =(G308) -> 0 | H29: =(H308) -> 0 | I29: =(I308) -> 0 | ... L29: =(L308) -> 0
A30: Listopad | B30: =(B334) -> 0 | C30: =(C334) -> 0 | D30: =(D334) -> 0 | E30: =(E334) -> 0 | F30: =(F334) -> 0 | G30: =(G334) -> 0 | H30: =(H334) -> 0 | I30: =(I334) -> 0 | ... L30: =(L334) -> 0
A31: Prosinec | B31: =(B363) -> 0 | C31: =(C363) -> 0 | D31: =(D363) -> 0 | E31: =(E363) -> 0 | F31: =(F363) -> 0 | G31: =(G363) -> 0 | H31: =(H363) -> 0 | I31: =(I363) -> 0 | ... L31: =(L363) -> 0
A32: Celkem | B32: =SUM(B20:B31) -> 1 | C32: =SUM(C20:C31) -> 0 | D32: =SUM(D20:D31) -> 1 | E32: =SUM(E20:E31) -> 1 | F32: =SUM(F20:F31) -> 0 | G32: =SUM(G20:G31) -> 0 | H32: =SUM(H20:H31) -> 0 | I32: =SUM(I20:I31) -> 0 | ... L32: =SUM(L20:L31) -> 0
A36: Leden - 2014
A38: Datum | B38: Docházka | C38: Učení | D38: Počítač | E38: Hudba | F38: Hry | G38: VV | H38: Tanec | I38: Zpěv | J38: DVD | K38: Out | L38: SP | M38: pochvaly / pokárání
A40: 41645
A41: 41646
A42: 41647
A43: 41648
A44: 41649
A45: 41652
A46: 41653
A47: 41654
A48: 41655
A49: 41656
A50: 41659
A51: 41660
... A58: 41669
A59: Celkem | B59: =SUM(B40:B58) -> 0 | C59: =SUM(C40:C58) -> 0 | D59: =SUM(D40:D58) -> 0 | E59: =SUM(E40:E58) -> 0 | F59: =SUM(F40:F58) -> 0 | G59: =SUM(G40:G58) -> 0 | H59: =SUM(H40:H58) -> 0 | I59: =SUM(I40:I58) -> 0 | ... L59: =SUM(L40:L58) -> 0
A61: Únor - 2014
A63: Datum | B63: Docházka | C63: Učení | D63: Počítač | E63: Hudba | F63: Hry | G63: VV | H63: Tanec | I63: Zpěv | J63: DVD | K63: Out | L63: SP | M63: pochvaly / pokárání
A65: 41673
A66: 41674
A67: 41675
A68: 41676
A69: 41677
A70: 41680
A71: 41681
A72: 41682
A73: 41683
A74: 41684
A75: 41687
A76: 41688
... A84: 41698
A85: Celkem | B85: =SUM(B65:B84) -> 0 | C85: =SUM(C65:C84) -> 0 | D85: =SUM(D65:D84) -> 0 | E85: =SUM(E65:E84) -> 0 | F85: =SUM(F65:F84) -> 0 | G85: =SUM(G65:G84) -> 0 | H85: =SUM(H65:H84) -> 0 | I85: =SUM(I65:I84) -> 0 | ... L85: =SUM(L65:L84) -> 0
A87: Březen - 2014
A89: Datum | B89: Docházka | C89: Učení | D89: Počítač | E89: Hudba | F89: Hry | G89: VV | H89: Tanec | I89: Zpěv | J89: DVD | K89: Out | L89: SP | M89: pochvaly / pokárání
A91: 41701
A92: 41702
A93: 41703
A94: 41704
A95: 41705
A96: 41708 | B96: 1 | D96: 1 | E96: 1
A97: 41709
A98: 41710
A99: 41711
A100: 41712
A101: 41715
A102: 41716
A103: 41717
A104: 41718
A105: 41719
A106: 41722
A107: 41723
A108: 41724
... A111: 41729
A112: Celkem | B112: =SUM(B91:B111) -> 1 | C112: =SUM(C91:C111) -> 0 | D112: =SUM(D91:D111) -> 1 | E112: =SUM(E91:E111) -> 1 | F112: =SUM(F91:F111) -> 0 | G112: =SUM(G91:G111) -> 0 | H112: =SUM(H91:H111) -> 0 | I112: =SUM(I91:I111) -> 0 | ... L112: =SUM(L91:L111) -> 0
A114: Duben - 2014
A116: Datum | B116: Docházka | C116: Učení | D116: Počítač | E116: Hudba | F116: Hry | G116: VV | H116: Tanec | I116: Zpěv | J116: DVD | K116: Out | L116: SP | M116: pochvaly / pokárání
A118: 41730
A119: 41731
A120: 41732
A121: 41733
A122: 41736
A123: 41737
A124: 41738
A125: 41739
A126: 41740
A127: 41743
A128: 41744
A129: 41745
... A139: 41759
A140: Celkem | B140: =SUM(B118:B139) -> 0 | C140: =SUM(C118:C139) -> 0 | D140: =SUM(D118:D139) -> 0 | E140: =SUM(E118:E139) -> 0 | F140: =SUM(F118:F139) -> 0 | G140: =SUM(G118:G139) -> 0 | H140: =SUM(H118:H139) -> 0 | I140: =SUM(I118:I139) -> 0 | ... L140: =SUM(L118:L139) -> 0
A142: Květen - 2014
A144: Datum | B144: Docházka | C144: Učení | D144: Počítač | E144: Hudba | F144: Hry | G144: VV | H144: Tanec | I144: Zpěv | J144: DVD | K144: Out | L144: SP | M144: pochvaly / pokárání
A146: 41760
A147: 41761
A148: 41764
A149: 41765
A150: 41766
A151: 41767
A152: 41768
...

Sheet Lukáš Baláž
D2: Lukáš
C3: Jméno | I3: Smlouva o poskytování sociální služby: | M3: NE | N3: Uzavřená dne:
D4: Baláž | I4: Souhlas se zpracováním osobních údajů: | M4: NE | N4: Uzavřený dne:
C5: Příjmení | I5: Individuální plán, přání a cíle klienta: | M5: NE | N5: Uzavřené dne:
C7: Rok nar. | I7: Individuální plán klienta | N7: Uzevřený dne (datum revize)
A16: Statistika klienta za rok 2014 | M16: Celkový přehled
A18: Měsíc | B18: Docházka | C18: Učení | D18: Počítač | E18: Hudba | F18: Hry | G18: VV | H18: Tanec | I18: Zpěv | J18: DVD | K18: Out | L18: SP | N18: Počet dnů v klubu Zvídálek | Q18: =SUM(B32) -> 9
N19: Pomoc při učení | P19: =SUM(C32) -> 0
A20: Leden | B20: =(B59) -> 9 | C20: =(C59) -> 0 | D20: =(D59) -> 9 | E20: =(E59) -> 6 | F20: =(F59) -> 6 | G20: =(G59) -> 5 | H20: =(H59) -> 0 | I20: =(I59) -> 0 | ... L20: =(L59) -> 0 | N20: Aktivita - počítač | P20: =SUM(D32) -> 9
A21: Únor | B21: =(B85) -> 0 | C21: =(C85) -> 0 | D21: =(D85) -> 0 | E21: =(E85) -> 0 | F21: =(F85) -> 0 | G21: =(G85) -> 0 | H21: =(H85) -> 0 | I21: =(I85) -> 0 | ... L21: =(L85) -> 0 | N21: Aktivita - hudba | P21: =SUM(E32) -> 6
A22: Březen | B22: =(B112) -> 0 | C22: =(C112) -> 0 | D22: =(D112) -> 0 | E22: =(E112) -> 0 | F22: =(F112) -> 0 | G22: =(G112) -> 0 | H22: =(H112) -> 0 | I22: =(I112) -> 0 | ... L22: =(L112) -> 0 | N22: Aktivita - hry | P22: =SUM(F32) -> 6
A23: Duben | B23: =(B140) -> 0 | C23: =(C140) -> 0 | D23: =(D140) -> 0 | E23: =(E140) -> 0 | F23: =(F140) -> 0 | G23: =(G140) -> 0 | H23: =(H140) -> 0 | I23: =(I140) -> 0 | ... L23: =(L140) -> 0 | N23: Aktivita - VV | P23: =SUM(G32) -> 5
A24: Květen | B24: =(B168) -> 0 | C24: =(C168) -> 0 | D24: =(D168) -> 0 | E24: =(E168) -> 0 | F24: =(F168) -> 0 | G24: =(G168) -> 0 | H24: =(H168) -> 0 | I24: =(I168) -> 0 | ... L24: =(L168) -> 0 | N24: Aktivita - tanec | P24: =SUM(H32) -> 0
A25: Červen | B25: =(B195) -> 0 | C25: =(C195) -> 0 | D25: =(D195) -> 0 | E25: =(E195) -> 0 | F25: =(F195) -> 0 | G25: =(G195) -> 0 | H25: =(H195) -> 0 | I25: =(I195) -> 0 | ... L25: =(L195) -> 0 | N25: Aktivita - zpěv | P25: =SUM(I32) -> 0
A26: Červenec | B26: =(B224) -> 0 | C26: =(C224) -> 0 | D26: =(D224) -> 0 | E26: =(E224) -> 0 | F26: =(F224) -> 0 | G26: =(G224) -> 0 | H26: =(H224) -> 0 | I26: =(I224) -> 0 | ... L26: =(L224) -> 0 | N26: Aktivita - DVD | P26: =SUM(J32) -> 1
A27: Srpen | B27: =(B251) -> 0 | C27: =(C251) -> 0 | D27: =(D251) -> 0 | E27: =(E251) -> 0 | F27: =(F251) -> 0 | G27: =(G251) -> 0 | H27: =(H251) -> 0 | I27: =(I251) -> 0 | ... L27: =(L251) -> 0 | N27: Aktivita - out | P27: =SUM(K32) -> 0
A28: Září | B28: =(B279) -> 0 | C28: =(C279) -> 0 | D28: =(D279) -> 0 | E28: =(E279) -> 0 | F28: =(F279) -> 0 | G28: =(G279) -> 0 | H28: =(H279) -> 0 | I28: =(I279) -> 0 | ... L28: =(L279) -> 0 | N28: Komunikace se SP | P28: =SUM(L32) -> 0
A29: Říjen | B29: =(B308) -> 0 | C29: =(C308) -> 0 | D29: =(D308) -> 0 | E29: =(E308) -> 0 | F29: =(F308) -> 0 | G29: =(G308) -> 0 | H29: =(H308) -> 0 | I29: =(I308) -> 0 | ... L29: =(L308) -> 0
A30: Listopad | B30: =(B334) -> 0 | C30: =(C334) -> 0 | D30: =(D334) -> 0 | E30: =(E334) -> 0 | F30: =(F334) -> 0 | G30: =(G334) -> 0 | H30: =(H334) -> 0 | I30: =(I334) -> 0 | ... L30: =(L334) -> 0
A31: Prosinec | B31: =(B363) -> 0 | C31: =(C363) -> 0 | D31: =(D363) -> 0 | E31: =(E363) -> 0 | F31: =(F363) -> 0 | G31: =(G363) -> 0 | H31: =(H363) -> 0 | I31: =(I363) -> 0 | ... L31: =(L363) -> 0
A32: Celkem | B32: =SUM(B20:B31) -> 9 | C32: =SUM(C20:C31) -> 0 | D32: =SUM(D20:D31) -> 9 | E32: =SUM(E20:E31) -> 6 | F32: =SUM(F20:F31) -> 6 | G32: =SUM(G20:G31) -> 5 | H32: =SUM(H20:H31) -> 0 | I32: =SUM(I20:I31) -> 0 | ... L32: =SUM(L20:L31) -> 0
A36: Leden - 2014
A38: Datum | B38: Docházka | C38: Učení | D38: Počítač | E38: Hudba | F38: Hry | G38: VV | H38: Tanec | I38: Zpěv | J38: DVD | K38: Out | L38: SP | M38: pochvaly / pokárání
A40: 41645
A41: 41646
A42: 41647
A43: 41648
A44: 41649
A45: 41652 | B45: 1 | D45: 1
A46: 41653 | B46: 1 | D46: 1 | F46: 1
A47: 41654 | B47: 1 | D47: 1 | E47: 1 | F47: 1 | G47: 1
A48: 41655 | B48: 1 | D48: 1 | E48: 1 | F48: 1 | G48: 1
A49: 41656 | B49: 1 | D49: 1 | E49: 1 | F49: 1 | G49: 1
A50: 41659
A51: 41660
A52: 41661
A53: 41662 | B53: 1 | D53: 1
A54: 41663 | B54: 1 | D54: 1 | E54: 1 | F54: 1 | J54: 1
A55: 41666
A56: 41667 | B56: 1 | D56: 1 | E56: 1 | F56: 1 | G56: 1
A57: 41668 | B57: 1 | D57: 1 | E57: 1 | G57: 1
A58: 41669
A59: Celkem | B59: =SUM(B40:B58) -> 9 | C59: =SUM(C40:C58) -> 0 | D59: =SUM(D40:D58) -> 9 | E59: =SUM(E40:E58) -> 6 | F59: =SUM(F40:F58) -> 6 | G59: =SUM(G40:G58) -> 5 | H59: =SUM(H40:H58) -> 0 | I59: =SUM(I40:I58) -> 0 | ... L59: =SUM(L40:L58) -> 0
A61: Únor - 2014
A63: Datum | B63: Docházka | C63: Učení | D63: Počítač | E63: Hudba | F63: Hry | G63: VV | H63: Tanec | I63: Zpěv | J63: DVD | K63: Out | L63: SP | M63: pochvaly / pokárání
A65: 41673
A66: 41674
A67: 41675
A68: 41676
A69: 41677
A70: 41680
A71: 41681
A72: 41682
A73: 41683
A74: 41684
A75: 41687
A76: 41688
... A84: 41698
A85: Celkem | B85: =SUM(B65:B84) -> 0 | C85: =SUM(C65:C84) -> 0 | D85: =SUM(D65:D84) -> 0 | E85: =SUM(E65:E84) -> 0 | F85: =SUM(F65:F84) -> 0 | G85: =SUM(G65:G84) -> 0 | H85: =SUM(H65:H84) -> 0 | I85: =SUM(I65:I84) -> 0 | ... L85: =SUM(L65:L84) -> 0
A87: Březen - 2014
A89: Datum | B89: Docházka | C89: Učení | D89: Počítač | E89: Hudba | F89: Hry | G89: VV | H89: Tanec | I89: Zpěv | J89: DVD | K89: Out | L89: SP | M89: pochvaly / pokárání
A91: 41701
A92: 41702
A93: 41703
A94: 41704
A95: 41705
A96: 41708
A97: 41709
A98: 41710
A99: 41711
A100: 41712
A101: 41715
A102: 41716
... A111: 41729
A112: Celkem | B112: =SUM(B91:B111) -> 0 | C112: =SUM(C91:C111) -> 0 | D112: =SUM(D91:D111) -> 0 | E112: =SUM(E91:E111) -> 0 | F112: =SUM(F91:F111) -> 0 | G112: =SUM(G91:G111) -> 0 | H112: =SUM(H91:H111) -> 0 | I112: =SUM(I91:I111) -> 0 | ... L112: =SUM(L91:L111) -> 0
A114: Duben - 2014
A116: Datum | B116: Docházka | C116: Učení | D116: Počítač | E116: Hudba | F116: Hry | G116: VV | H116: Tanec | I116: Zpěv | J116: DVD | K116: Out | L116: SP | M116: pochvaly / pokárání
A118: 41730
A119: 41731
A120: 41732
A121: 41733
A122: 41736
A123: 41737
A124: 41738
A125: 41739
A126: 41740
A127: 41743
A128: 41744
A129: 41745
... A139: 41759
A140: Celkem | B140: =SUM(B118:B139) -> 0 | C140: =SUM(C118:C139) -> 0 | D140: =SUM(D118:D139) -> 0 | E140: =SUM(E118:E139) -> 0 | F140: =SUM(F118:F139) -> 0 | G140: =SUM(G118:G139) -> 0 | H140: =SUM(H118:H139) -> 0 | I140: =SUM(I118:I139) -> 0 | ... L140: =SUM(L118:L139) -> 0
A142: Květen - 2014
A144: Datum | B144: Docházka | C144: Učení | D144: Počítač | E144: Hudba | F144: Hry | G144: VV | H144: Tanec | I144: Zpěv | J144: DVD | K144: Out | L144: SP | M144: pochvaly / pokárání
A146: 41760
A147: 41761
A148: 41764
A149: 41765
A150: 41766
A151: 41767
A152: 41768
...

Sheet Mario Adamec
D2: Mario
C3: Jméno | I3: Smlouva o poskytování sociální služby: | M3: NE | N3: Uzavřená dne:
D4: Adamec | I4: Souhlas se zpracováním osobních údajů: | M4: NE | N4: Uzavřený dne:
C5: Příjmení | I5: Individuální plán, přání a cíle klienta: | M5: NE | N5: Uzavřené dne:
C7: Rok nar. | I7: Individuální plán klienta | N7: Uzevřený dne (datum revize)
A16: Statistika klienta za rok 2014 | M16: Celkový přehled
A18: Měsíc | B18: Docházka | C18: Učení | D18: Počítač | E18: Hudba | F18: Hry | G18: VV | H18: Tanec | I18: Zpěv | J18: DVD | K18: Out | L18: SP | N18: Počet dnů v klubu Zvídálek | Q18: =SUM(B32) -> 43
N19: Pomoc při učení | P19: =SUM(C32) -> 0
A20: Leden | B20: =(B59) -> 5 | C20: =(C59) -> 0 | D20: =(D59) -> 1 | E20: =(E59) -> 5 | F20: =(F59) -> 0 | G20: =(G59) -> 0 | H20: =(H59) -> 0 | I20: =(I59) -> 0 | ... L20: =(L59) -> 0 | N20: Aktivita - počítač | P20: =SUM(D32) -> 4
A21: Únor | B21: =(B85) -> 4 | C21: =(C85) -> 0 | D21: =(D85) -> 0 | E21: =(E85) -> 4 | F21: =(F85) -> 2 | G21: =(G85) -> 0 | H21: =(H85) -> 0 | I21: =(I85) -> 0 | ... L21: =(L85) -> 0 | N21: Aktivita - hudba | P21: =SUM(E32) -> 43
A22: Březen | B22: =(B112) -> 4 | C22: =(C112) -> 0 | D22: =(D112) -> 0 | E22: =(E112) -> 4 | F22: =(F112) -> 2 | G22: =(G112) -> 0 | H22: =(H112) -> 0 | I22: =(I112) -> 0 | ... L22: =(L112) -> 0 | N22: Aktivita - hry | P22: =SUM(F32) -> 7
A23: Duben | B23: =(B140) -> 7 | C23: =(C140) -> 0 | D23: =(D140) -> 1 | E23: =(E140) -> 7 | F23: =(F140) -> 1 | G23: =(G140) -> 1 | H23: =(H140) -> 0 | I23: =(I140) -> 0 | ... L23: =(L140) -> 0 | N23: Aktivita - VV | P23: =SUM(G32) -> 2
A24: Květen | B24: =(B168) -> 9 | C24: =(C168) -> 0 | D24: =(D168) -> 1 | E24: =(E168) -> 9 | F24: =(F168) -> 0 | G24: =(G168) -> 1 | H24: =(H168) -> 0 | I24: =(I168) -> 0 | ... L24: =(L168) -> 0 | N24: Aktivita - tanec | P24: =SUM(H32) -> 0
A25: Červen | B25: =(B195) -> 10 | C25: =(C195) -> 0 | D25: =(D195) -> 0 | E25: =(E195) -> 10 | F25: =(F195) -> 1 | G25: =(G195) -> 0 | H25: =(H195) -> 0 | I25: =(I195) -> 0 | ... L25: =(L195) -> 0 | N25: Aktivita - zpěv | P25: =SUM(I32) -> 0
A26: Červenec | B26: =(B224) -> 2 | C26: =(C224) -> 0 | D26: =(D224) -> 1 | E26: =(E224) -> 2 | F26: =(F224) -> 0 | G26: =(G224) -> 0 | H26: =(H224) -> 0 | I26: =(I224) -> 0 | ... L26: =(L224) -> 0 | N26: Aktivita - DVD | P26: =SUM(J32) -> 2
A27: Srpen | B27: =(B251) -> 2 | C27: =(C251) -> 0 | D27: =(D251) -> 0 | E27: =(E251) -> 2 | F27: =(F251) -> 1 | G27: =(G251) -> 0 | H27: =(H251) -> 0 | I27: =(I251) -> 0 | ... L27: =(L251) -> 0 | N27: Aktivita - out | P27: =SUM(K32) -> 2
A28: Září | B28: =(B279) -> 0 | C28: =(C279) -> 0 | D28: =(D279) -> 0 | E28: =(E279) -> 0 | F28: =(F279) -> 0 | G28: =(G279) -> 0 | H28: =(H279) -> 0 | I28: =(I279) -> 0 | ... L28: =(L279) -> 0 | N28: Komunikace se SP | P28: =SUM(L32) -> 0
A29: Říjen | B29: =(B308) -> 0 | C29: =(C308) -> 0 | D29: =(D308) -> 0 | E29: =(E308) -> 0 | F29: =(F308) -> 0 | G29: =(G308) -> 0 | H29: =(H308) -> 0 | I29: =(I308) -> 0 | ... L29: =(L308) -> 0
A30: Listopad | B30: =(B334) -> 0 | C30: =(C334) -> 0 | D30: =(D334) -> 0 | E30: =(E334) -> 0 | F30: =(F334) -> 0 | G30: =(G334) -> 0 | H30: =(H334) -> 0 | I30: =(I334) -> 0 | ... L30: =(L334) -> 0
A31: Prosinec | B31: =(B363) -> 0 | C31: =(C363) -> 0 | D31: =(D363) -> 0 | E31: =(E363) -> 0 | F31: =(F363) -> 0 | G31: =(G363) -> 0 | H31: =(H363) -> 0 | I31: =(I363) -> 0 | ... L31: =(L363) -> 0
A32: Celkem | B32: =SUM(B20:B31) -> 43 | C32: =SUM(C20:C31) -> 0 | D32: =SUM(D20:D31) -> 4 | E32: =SUM(E20:E31) -> 43 | F32: =SUM(F20:F31) -> 7 | G32: =SUM(G20:G31) -> 2 | H32: =SUM(H20:H31) -> 0 | I32: =SUM(I20:I31) -> 0 | ... L32: =SUM(L20:L31) -> 0
A36: Leden - 2014
A38: Datum | B38: Docházka | C38: Učení | D38: Počítač | E38: Hudba | F38: Hry | G38: VV | H38: Tanec | I38: Zpěv | J38: DVD | K38: Out | L38: SP | M38: pochvaly / pokárání
A40: 41645
A41: 41646
A42: 41647
A43: 41648
A44: 41649 | B44: 1 | E44: 1
A45: 41652
A46: 41653
A47: 41654 | B47: 1 | E47: 1
A48: 41655
A49: 41656
A50: 41659
A51: 41660
A52: 41661
A53: 41662
A54: 41663 | B54: 1 | E54: 1
A55: 41666
A56: 41667
A57: 41668 | B57: 1 | E57: 1
A58: 41669 | B58: 1 | D58: 1 | E58: 1 | J58: 1
A59: Celkem | B59: =SUM(B40:B58) -> 5 | C59: =SUM(C40:C58) -> 0 | D59: =SUM(D40:D58) -> 1 | E59: =SUM(E40:E58) -> 5 | F59: =SUM(F40:F58) -> 0 | G59: =SUM(G40:G58) -> 0 | H59: =SUM(H40:H58) -> 0 | I59: =SUM(I40:I58) -> 0 | ... L59: =SUM(L40:L58) -> 0
A61: Únor - 2014
A63: Datum | B63: Docházka | C63: Učení | D63: Počítač | E63: Hudba | F63: Hry | G63: VV | H63: Tanec | I63: Zpěv | J63: DVD | K63: Out | L63: SP | M63: pochvaly / pokárání
A65: 41673
A66: 41674 | B66: 1 | E66: 1 | F66: 1
A67: 41675
A68: 41676
A69: 41677
A70: 41680
A71: 41681
A72: 41682
A73: 41683
A74: 41684
A75: 41687 | B75: 1 | E75: 1 | F75: 1
A76: 41688
A77: 41689
A78: 41690 | B78: 1 | E78: 1
A79: 41691
A80: 41694
A81: 41695
A82: 41696 | B82: 1 | E82: 1
A83: 41697
A84: 41698
A85: Celkem | B85: =SUM(B65:B84) -> 4 | C85: =SUM(C65:C84) -> 0 | D85: =SUM(D65:D84) -> 0 | E85: =SUM(E65:E84) -> 4 | F85: =SUM(F65:F84) -> 2 | G85: =SUM(G65:G84) -> 0 | H85: =SUM(H65:H84) -> 0 | I85: =SUM(I65:I84) -> 0 | ... L85: =SUM(L65:L84) -> 0
A87: Březen - 2014
A89: Datum | B89: Docházka | C89: Učení | D89: Počítač | E89: Hudba | F89: Hry | G89: VV | H89: Tanec | I89: Zpěv | J89: DVD | K89: Out | L89: SP | M89: pochvaly / pokárání
A91: 41701
A92: 41702 | B92: 1 | E92: 1 | F92: 1
A93: 41703
A94: 41704
A95: 41705
A96: 41708
A97: 41709
A98: 41710
A99: 41711
A100: 41712
A101: 41715 | B101: 1 | E101: 1
A102: 41716
A103: 41717 | B103: 1 | E103: 1 | F103: 1
A104: 41718
A105: 41719
A106: 41722
A107: 41723
A108: 41724 | B108: 1 | E108: 1
A109: 41725
A110: 41726
A111: 41729
A112: Celkem | B112: =SUM(B91:B111) -> 4 | C112: =SUM(C91:C111) -> 0 | D112: =SUM(D91:D111) -> 0 | E112: =SUM(E91:E111) -> 4 | F112: =SUM(F91:F111) -> 2 | G112: =SUM(G91:G111) -> 0 | H112: =SUM(H91:H111) -> 0 | I112: =SUM(I91:I111) -> 0 | ... L112: =SUM(L91:L111) -> 0
A114: Duben - 2014
A116: Datum | B116: Docházka | C116: Učení | D116: Počítač | E116: Hudba | F116: Hry | G116: VV | H116: Tanec | I116: Zpěv | J116: DVD | K116: Out | L116: SP | M116: pochvaly / pokárání
A118: 41730
A119: 41731
A120: 41732
A121: 41733
A122: 41736 | B122: 1 | E122: 1
A123: 41737 | B123: 1 | D123: 1 | E123: 1
A124: 41738
A125: 41739 | B125: 1 | E125: 1 | J125: 1
...

Sheet Mario Kotlár
D2: Mario
C3: Jméno | I3: Smlouva o poskytování sociální služby: | M3: NE | N3: Uzavřená dne:
D4: Kotlár | I4: Souhlas se zpracováním osobních údajů: | M4: NE | N4: Uzavřený dne:
C5: Příjmení | I5: Individuální plán, přání a cíle klienta: | M5: NE | N5: Uzavřené dne:
C7: Rok nar. | I7: Individuální plán klienta | N7: Uzevřený dne (datum revize)
A16: Statistika klienta za rok 2014 | M16: Celkový přehled
A18: Měsíc | B18: Docházka | C18: Učení | D18: Počítač | E18: Hudba | F18: Hry | G18: VV | H18: Tanec | I18: Zpěv | J18: DVD | K18: Out | L18: SP | N18: Počet dnů v klubu Zvídálek | Q18: =SUM(B32) -> 16
N19: Pomoc při učení | P19: =SUM(C32) -> 0
A20: Leden | B20: =(B59) -> 16 | C20: =(C59) -> 0 | D20: =(D59) -> 13 | E20: =(E59) -> 12 | F20: =(F59) -> 15 | G20: =(G59) -> 9 | H20: =(H59) -> 0 | I20: =(I59) -> 1 | ... L20: =(L59) -> 0 | N20: Aktivita - počítač | P20: =SUM(D32) -> 13
A21: Únor | B21: =(B85) -> 0 | C21: =(C85) -> 0 | D21: =(D85) -> 0 | E21: =(E85) -> 0 | F21: =(F85) -> 0 | G21: =(G85) -> 0 | H21: =(H85) -> 0 | I21: =(I85) -> 0 | ... L21: =(L85) -> 0 | N21: Aktivita - hudba | P21: =SUM(E32) -> 12
A22: Březen | B22: =(B112) -> 0 | C22: =(C112) -> 0 | D22: =(D112) -> 0 | E22: =(E112) -> 0 | F22: =(F112) -> 0 | G22: =(G112) -> 0 | H22: =(H112) -> 0 | I22: =(I112) -> 0 | ... L22: =(L112) -> 0 | N22: Aktivita - hry | P22: =SUM(F32) -> 15
A23: Duben | B23: =(B140) -> 0 | C23: =(C140) -> 0 | D23: =(D140) -> 0 | E23: =(E140) -> 0 | F23: =(F140) -> 0 | G23: =(G140) -> 0 | H23: =(H140) -> 0 | I23: =(I140) -> 0 | ... L23: =(L140) -> 0 | N23: Aktivita - VV | P23: =SUM(G32) -> 9
A24: Květen | B24: =(B168) -> 0 | C24: =(C168) -> 0 | D24: =(D168) -> 0 | E24: =(E168) -> 0 | F24: =(F168) -> 0 | G24: =(G168) -> 0 | H24: =(H168) -> 0 | I24: =(I168) -> 0 | ... L24: =(L168) -> 0 | N24: Aktivita - tanec | P24: =SUM(H32) -> 0
A25: Červen | B25: =(B195) -> 0 | C25: =(C195) -> 0 | D25: =(D195) -> 0 | E25: =(E195) -> 0 | F25: =(F195) -> 0 | G25: =(G195) -> 0 | H25: =(H195) -> 0 | I25: =(I195) -> 0 | ... L25: =(L195) -> 0 | N25: Aktivita - zpěv | P25: =SUM(I32) -> 1
A26: Červenec | B26: =(B224) -> 0 | C26: =(C224) -> 0 | D26: =(D224) -> 0 | E26: =(E224) -> 0 | F26: =(F224) -> 0 | G26: =(G224) -> 0 | H26: =(H224) -> 0 | I26: =(I224) -> 0 | ... L26: =(L224) -> 0 | N26: Aktivita - DVD | P26: =SUM(J32) -> 3
A27: Srpen | B27: =(B251) -> 0 | C27: =(C251) -> 0 | D27: =(D251) -> 0 | E27: =(E251) -> 0 | F27: =(F251) -> 0 | G27: =(G251) -> 0 | H27: =(H251) -> 0 | I27: =(I251) -> 0 | ... L27: =(L251) -> 0 | N27: Aktivita - out | P27: =SUM(K32) -> 0
A28: Září | B28: =(B279) -> 0 | C28: =(C279) -> 0 | D28: =(D279) -> 0 | E28: =(E279) -> 0 | F28: =(F279) -> 0 | G28: =(G279) -> 0 | H28: =(H279) -> 0 | I28: =(I279) -> 0 | ... L28: =(L279) -> 0 | N28: Komunikace se SP | P28: =SUM(L32) -> 0
A29: Říjen | B29: =(B308) -> 0 | C29: =(C308) -> 0 | D29: =(D308) -> 0 | E29: =(E308) -> 0 | F29: =(F308) -> 0 | G29: =(G308) -> 0 | H29: =(H308) -> 0 | I29: =(I308) -> 0 | ... L29: =(L308) -> 0
A30: Listopad | B30: =(B334) -> 0 | C30: =(C334) -> 0 | D30: =(D334) -> 0 | E30: =(E334) -> 0 | F30: =(F334) -> 0 | G30: =(G334) -> 0 | H30: =(H334) -> 0 | I30: =(I334) -> 0 | ... L30: =(L334) -> 0
A31: Prosinec | B31: =(B363) -> 0 | C31: =(C363) -> 0 | D31: =(D363) -> 0 | E31: =(E363) -> 0 | F31: =(F363) -> 0 | G31: =(G363) -> 0 | H31: =(H363) -> 0 | I31: =(I363) -> 0 | ... L31: =(L363) -> 0
A32: Celkem | B32: =SUM(B20:B31) -> 16 | C32: =SUM(C20:C31) -> 0 | D32: =SUM(D20:D31) -> 13 | E32: =SUM(E20:E31) -> 12 | F32: =SUM(F20:F31) -> 15 | G32: =SUM(G20:G31) -> 9 | H32: =SUM(H20:H31) -> 0 | I32: =SUM(I20:I31) -> 1 | ... L32: =SUM(L20:L31) -> 0
A36: Leden - 2014
A38: Datum | B38: Docházka | C38: Učení | D38: Počítač | E38: Hudba | F38: Hry | G38: VV | H38: Tanec | I38: Zpěv | J38: DVD | K38: Out | L38: SP | M38: pochvaly / pokárání
A40: 41645 | B40: 1 | D40: 1 | F40: 1 | G40: 1 | I40: 1 | J40: 1
A41: 41646 | B41: 1 | D41: 1 | E41: 1 | F41: 1 | G41: 1
A42: 41647 | B42: 1 | D42: 1 | F42: 1 | G42: 1
A43: 41648 | B43: 1 | D43: 1 | F43: 1
A44: 41649 | B44: 1 | E44: 1
A45: 41652 | B45: 1 | D45: 1 | E45: 1 | F45: 1
A46: 41653 | B46: 1 | D46: 1 | E46: 1 | F46: 1 | G46: 1
A47: 41654 | B47: 1 | D47: 1 | E47: 1 | F47: 1 | G47: 1
A48: 41655 | B48: 1 | E48: 1 | F48: 1 | G48: 1
A49: 41656 | B49: 1 | D49: 1 | E49: 1 | F49: 1
A50: 41659 | B50: 1 | E50: 1 | F50: 1
A51: 41660
A52: 41661
A53: 41662
A54: 41663 | B54: 1 | D54: 1 | E54: 1 | F54: 1 | J54: 1
A55: 41666 | B55: 1 | D55: 1 | E55: 1 | F55: 1
A56: 41667 | B56: 1 | D56: 1 | E56: 1 | F56: 1 | G56: 1
A57: 41668 | B57: 1 | D57: 1 | F57: 1 | G57: 1 | J57: 1
A58: 41669 | B58: 1 | D58: 1 | E58: 1 | F58: 1 | G58: 1
A59: Celkem | B59: =SUM(B40:B58) -> 16 | C59: =SUM(C40:C58) -> 0 | D59: =SUM(D40:D58) -> 13 | E59: =SUM(E40:E58) -> 12 | F59: =SUM(F40:F58) -> 15 | G59: =SUM(G40:G58) -> 9 | H59: =SUM(H40:H58) -> 0 | I59: =SUM(I40:I58) -> 1 | ... L59: =SUM(L40:L58) -> 0
A61: Únor - 2014
A63: Datum | B63: Docházka | C63: Učení | D63: Počítač | E63: Hudba | F63: Hry | G63: VV | H63: Tanec | I63: Zpěv | J63: DVD | K63: Out | L63: SP | M63: pochvaly / pokárání
A65: 41673
A66: 41674
A67: 41675
A68: 41676
A69: 41677
A70: 41680
A71: 41681
A72: 41682
A73: 41683
A74: 41684
A75: 41687
A76: 41688
... A84: 41698
A85: Celkem | B85: =SUM(B65:B84) -> 0 | C85: =SUM(C65:C84) -> 0 | D85: =SUM(D65:D84) -> 0 | E85: =SUM(E65:E84) -> 0 | F85: =SUM(F65:F84) -> 0 | G85: =SUM(G65:G84) -> 0 | H85: =SUM(H65:H84) -> 0 | I85: =SUM(I65:I84) -> 0 | ... L85: =SUM(L65:L84) -> 0
A87: Březen - 2014
A89: Datum | B89: Docházka | C89: Učení | D89: Počítač | E89: Hudba | F89: Hry | G89: VV | H89: Tanec | I89: Zpěv | J89: DVD | K89: Out | L89: SP | M89: pochvaly / pokárání
A91: 41701
A92: 41702
A93: 41703
A94: 41704
A95: 41705
A96: 41708
A97: 41709
A98: 41710
A99: 41711
A100: 41712
A101: 41715
A102: 41716
... A111: 41729
A112: Celkem | B112: =SUM(B91:B111) -> 0 | C112: =SUM(C91:C111) -> 0 | D112: =SUM(D91:D111) -> 0 | E112: =SUM(E91:E111) -> 0 | F112: =SUM(F91:F111) -> 0 | G112: =SUM(G91:G111) -> 0 | H112: =SUM(H91:H111) -> 0 | I112: =SUM(I91:I111) -> 0 | ... L112: =SUM(L91:L111) -> 0
A114: Duben - 2014
A116: Datum | B116: Docházka | C116: Učení | D116: Počítač | E116: Hudba | F116: Hry | G116: VV | H116: Tanec | I116: Zpěv | J116: DVD | K116: Out | L116: SP | M116: pochvaly / pokárání
A118: 41730
A119: 41731
A120: 41732
A121: 41733
A122: 41736
A123: 41737
A124: 41738
A125: 41739
A126: 41740
A127: 41743
A128: 41744
A129: 41745
... A139: 41759
A140: Celkem | B140: =SUM(B118:B139) -> 0 | C140: =SUM(C118:C139) -> 0 | D140: =SUM(D118:D139) -> 0 | E140: =SUM(E118:E139) -> 0 | F140: =SUM(F118:F139) -> 0 | G140: =SUM(G118:G139) -> 0 | H140: =SUM(H118:H139) -> 0 | I140: =SUM(I118:I139) -> 0 | ... L140: =SUM(L118:L139) -> 0
A142: Květen - 2014
A144: Datum | B144: Docházka | C144: Učení | D144: Počítač | E144: Hudba | F144: Hry | G144: VV | H144: Tanec | I144: Zpěv | J144: DVD | K144: Out | L144: SP | M144: pochvaly / pokárání
A146: 41760
A147: 41761
A148: 41764
A149: 41765
A150: 41766
A151: 41767
A152: 41768
...

Sheet Mario Žida
D2: Mario
C3: Jméno | I3: Smlouva o poskytování sociální služby: | M3: NE | N3: Uzavřená dne:
D4: Žida | I4: Souhlas se zpracováním osobních údajů: | M4: NE | N4: Uzavřený dne:
C5: Příjmení | I5: Individuální plán, přání a cíle klienta: | M5: NE | N5: Uzavřené dne:
C7: Rok nar. | I7: Individuální plán klienta | N7: Uzevřený dne (datum revize)
A16: Statistika klienta za rok 2014 | M16: Celkový přehled
A18: Měsíc | B18: Docházka | C18: Učení | D18: Počítač | E18: Hudba | F18: Hry | G18: VV | H18: Tanec | I18: Zpěv | J18: DVD | K18: Out | L18: SP | N18: Počet dnů v klubu Zvídálek | Q18: =SUM(B32) -> 120
N19: Pomoc při učení | P19: =SUM(C32) -> 0
A20: Leden | B20: =(B59) -> 18 | C20: =(C59) -> 0 | D20: =(D59) -> 16 | E20: =(E59) -> 11 | F20: =(F59) -> 15 | G20: =(G59) -> 6 | H20: =(H59) -> 1 | I20: =(I59) -> 0 | ... L20: =(L59) -> 0 | N20: Aktivita - počítač | P20: =SUM(D32) -> 84
A21: Únor | B21: =(B85) -> 19 | C21: =(C85) -> 0 | D21: =(D85) -> 17 | E21: =(E85) -> 5 | F21: =(F85) -> 18 | G21: =(G85) -> 9 | H21: =(H85) -> 2 | I21: =(I85) -> 2 | ... L21: =(L85) -> 0 | N21: Aktivita - hudba | P21: =SUM(E32) -> 42
A22: Březen | B22: =(B112) -> 21 | C22: =(C112) -> 0 | D22: =(D112) -> 17 | E22: =(E112) -> 6 | F22: =(F112) -> 16 | G22: =(G112) -> 5 | H22: =(H112) -> 1 | I22: =(I112) -> 1 | ... L22: =(L112) -> 0 | N22: Aktivita - hry | P22: =SUM(F32) -> 96
A23: Duben | B23: =(B140) -> 15 | C23: =(C140) -> 0 | D23: =(D140) -> 13 | E23: =(E140) -> 6 | F23: =(F140) -> 11 | G23: =(G140) -> 1 | H23: =(H140) -> 1 | I23: =(I140) -> 1 | ... L23: =(L140) -> 0 | N23: Aktivita - VV | P23: =SUM(G32) -> 24
A24: Květen | B24: =(B168) -> 16 | C24: =(C168) -> 0 | D24: =(D168) -> 11 | E24: =(E168) -> 5 | F24: =(F168) -> 12 | G24: =(G168) -> 1 | H24: =(H168) -> 0 | I24: =(I168) -> 1 | ... L24: =(L168) -> 0 | N24: Aktivita - tanec | P24: =SUM(H32) -> 5
A25: Červen | B25: =(B195) -> 18 | C25: =(C195) -> 0 | D25: =(D195) -> 7 | E25: =(E195) -> 4 | F25: =(F195) -> 15 | G25: =(G195) -> 2 | H25: =(H195) -> 0 | I25: =(I195) -> 0 | ... L25: =(L195) -> 0 | N25: Aktivita - zpěv | P25: =SUM(I32) -> 5
A26: Červenec | B26: =(B224) -> 8 | C26: =(C224) -> 0 | D26: =(D224) -> 2 | E26: =(E224) -> 3 | F26: =(F224) -> 6 | G26: =(G224) -> 0 | H26: =(H224) -> 0 | I26: =(I224) -> 0 | ... L26: =(L224) -> 0 | N26: Aktivita - DVD | P26: =SUM(J32) -> 6
A27: Srpen | B27: =(B251) -> 5 | C27: =(C251) -> 0 | D27: =(D251) -> 1 | E27: =(E251) -> 2 | F27: =(F251) -> 3 | G27: =(G251) -> 0 | H27: =(H251) -> 0 | I27: =(I251) -> 0 | ... L27: =(L251) -> 0 | N27: Aktivita - out | P27: =SUM(K32) -> 4
A28: Září | B28: =(B279) -> 0 | C28: =(C279) -> 0 | D28: =(D279) -> 0 | E28: =(E279) -> 0 | F28: =(F279) -> 0 | G28: =(G279) -> 0 | H28: =(H279) -> 0 | I28: =(I279) -> 0 | ... L28: =(L279) -> 0 | N28: Komunikace se SP | P28: =SUM(L32) -> 0
A29: Říjen | B29: =(B308) -> 0 | C29: =(C308) -> 0 | D29: =(D308) -> 0 | E29: =(E308) -> 0 | F29: =(F308) -> 0 | G29: =(G308) -> 0 | H29: =(H308) -> 0 | I29: =(I308) -> 0 | ... L29: =(L308) -> 0
A30: Listopad | B30: =(B334) -> 0 | C30: =(C334) -> 0 | D30: =(D334) -> 0 | E30: =(E334) -> 0 | F30: =(F334) -> 0 | G30: =(G334) -> 0 | H30: =(H334) -> 0 | I30: =(I334) -> 0 | ... L30: =(L334) -> 0
