Workbook

Sheet AA Seznam klientů

Sheet List1

Sheet AA vzor
D2: Tomáš
C3: Jméno | I3: Smlouva o poskytování sociální služby: | M3: NE | N3: Uzavřená dne:
D4: Navrátil | I4: Souhlas se zpracováním osobních údajů: | M4: NE | N4: Uzavřený dne:
C5: Příjmení | I5: Individuální plán, přání a cíle klienta: | M5: NE | N5: Uzavřené dne:
D6: 24.3 1987
C7: Rok nar. | I7: Individuální plán klienta | N7: Uzevřený dne (datum revize)
A16: Statistika klienta za rok 2014 | M16: Celkový přehled
A18: Měsíc | B18: Docházka | C18: Učení | D18: Počítač | E18: Hudba | F18: Hry | G18: VV | H18: Tanec | I18: Zpěv | J18: DVD | K18: Out | L18: SP | N18: Počet dnů v klubu Zvídálek | Q18: =SUM(B32) -> 0
N19: Pomoc při učení | P19: =SUM(C32) -> 0
A20: Leden | B20: =(B59) -> 0 | C20: =(C59) -> 0 | D20: =(D59) -> 0 | E20: =(E59) -> 0 | F20: =(F59) -> 0 | G20: =(G59) -> 0 | H20: =(H59) -> 0 | I20: =(I59) -> 0 | ... L20: =(L59) -> 0 | N20: Aktivita - počítač | P20: =SUM(D32) -> 0
A21: Únor | B21: =(B85) -> 0 | C21: =(C85) -> 0 | D21: =(D85) -> 0 | E21: =(E85) -> 0 | F21: =(F85) -> 0 | G21: =(G85) -> 0 | H21: =(H85) -> 0 | I21: =(I85) -> 0 | ... L21: =(L85) -> 0 | N21: Aktivita - hudba | P21: =SUM(E32) -> 0
A22: Březen | B22: =(B112) -> 0 | C22: =(C112) -> 0 | D22: =(D112) -> 0 | E22: =(E112) -> 0 | F22: =(F112) -> 0 | G22: =(G112) -> 0 | H22: =(H112) -> 0 | I22: =(I112) -> 0 | ... L22: =(L112) -> 0 | N22: Aktivita - hry | P22: =SUM(F32) -> 0
A23: Duben | B23: =(B140) -> 0 | C23: =(C140) -> 0 | D23: =(D140) -> 0 | E23: =(E140) -> 0 | F23: =(F140) -> 0 | G23: =(G140) -> 0 | H23: =(H140) -> 0 | I23: =(I140) -> 0 | ... L23: =(L140) -> 0 | N23: Aktivita - VV | P23: =SUM(G32) -> 0
A24: Květen | B24: =(B168) -> 0 | C24: =(C168) -> 0 | D24: =(D168) -> 0 | E24: =(E168) -> 0 | F24: =(F168) -> 0 | G24: =(G168) -> 0 | H24: =(H168) -> 0 | I24: =(I168) -> 0 | ... L24: =(L168) -> 0 | N24: Aktivita - tanec | P24: =SUM(H32) -> 0
A25: Červen | B25: =(B195) -> 0 | C25: =(C195) -> 0 | D25: =(D195) -> 0 | E25: =(E195) -> 0 | F25: =(F195) -> 0 | G25: =(G195) -> 0 | H25: =(H195) -> 0 | I25: =(I195) -> 0 | ... L25: =(L195) -> 0 | N25: Aktivita - zpěv | P25: =SUM(I32) -> 0
A26: Červenec | B26: =(B224) -> 0 | C26: =(C224) -> 0 | D26: =(D224) -> 0 | E26: =(E224) -> 0 | F26: =(F224) -> 0 | G26: =(G224) -> 0 | H26: =(H224) -> 0 | I26: =(I224) -> 0 | ... L26: =(L224) -> 0 | N26: Aktivita - DVD | P26: =SUM(J32) -> 0
A27: Srpen | B27: =(B251) -> 0 | C27: =(C251) -> 0 | D27: =(D251) -> 0 | E27: =(E251) -> 0 | F27: =(F251) -> 0 | G27: =(G251) -> 0 | H27: =(H251) -> 0 | I27: =(I251) -> 0 | ... L27: =(L251) -> 0 | N27: Aktivita - out | P27: =SUM(K32) -> 0
A28: Září | B28: =(B279) -> 0 | C28: =(C279) -> 0 | D28: =(D279) -> 0 | E28: =(E279) -> 0 | F28: =(F279) -> 0 | G28: =(G279) -> 0 | H28: =(H279) -> 0 | I28: =(I279) -> 0 | ... L28: =(L279) -> 0 | N28: Komunikace se SP | P28: =SUM(L32) -> 0
A29: Říjen | B29: =(B308) -> 0 | C29: =(C308) -> 0 | D29: =(D308) -> 0 | E29: =(E308) -> 0 | F29: =(F308) -> 0 | G29: =(G308) -> 0 | H29: =(H308) -> 0 | I29: =(I308) -> 0 | ... L29: =(L308) -> 0
A30: Listopad | B30: =(B334) -> 0 | C30: =(C334) -> 0 | D30: =(D334) -> 0 | E30: =(E334) -> 0 | F30: =(F334) -> 0 | G30: =(G334) -> 0 | H30: =(H334) -> 0 | I30: =(I334) -> 0 | ... L30: =(L334) -> 0
A31: Prosinec | B31: =(B363) -> 0 | C31: =(C363) -> 0 | D31: =(D363) -> 0 | E31: =(E363) -> 0 | F31: =(F363) -> 0 | G31: =(G363) -> 0 | H31: =(H363) -> 0 | I31: =(I363) -> 0 | ... L31: =(L363) -> 0
A32: Celkem | B32: =SUM(B20:B31) -> 0 | C32: =SUM(C20:C31) -> 0 | D32: =SUM(D20:D31) -> 0 | E32: =SUM(E20:E31) -> 0 | F32: =SUM(F20:F31) -> 0 | G32: =SUM(G20:G31) -> 0 | H32: =SUM(H20:H31) -> 0 | I32: =SUM(I20:I31) -> 0 | ... L32: =SUM(L20:L31) -> 0
A36: Leden - 2014
A38: Datum | B38: Docházka | C38: Učení | D38: Počítač | E38: Hudba | F38: Hry | G38: VV | H38: Tanec | I38: Zpěv | J38: DVD | K38: Out | L38: SP | M38: pochvaly / pokárání
A40: 41645
A41: 41646
A42: 41647
A43: 41648
A44: 41649
A45: 41652
A46: 41653
A47: 41654
A48: 41655
A49: 41656
A50: 41659
A51: 41660
... A58: 41669
A59: Celkem | B59: =SUM(B40:B58) -> 0 | C59: =SUM(C40:C58) -> 0 | D59: =SUM(D40:D58) -> 0 | E59: =SUM(E40:E58) -> 0 | F59: =SUM(F40:F58) -> 0 | G59: =SUM(G40:G58) -> 0 | H59: =SUM(H40:H58) -> 0 | I59: =SUM(I40:I58) -> 0 | ... L59: =SUM(L40:L58) -> 0
A61: Únor - 2014
A63: Datum | B63: Docházka | C63: Učení | D63: Počítač | E63: Hudba | F63: Hry | G63: VV | H63: Tanec | I63: Zpěv | J63: DVD | K63: Out | L63: SP | M63: pochvaly / pokárání
...

Sheet Adam Baláž
D2: Adam
C3: Jméno | I3: Smlouva o poskytování sociální služby: | M3: NE | N3: Uzavřená dne:
D4: Baláž | I4: Souhlas se zpracováním osobních údajů: | M4: NE | N4: Uzavřený dne:
C5: Příjmení | I5: Individuální plán, přání a cíle klienta: | M5: NE | N5: Uzavřené dne:
C7: Rok nar. | I7: Individuální plán klienta | N7: Uzevřený dne (datum revize)
A16: Statistika klienta za rok 2014 | M16: Celkový přehled
A18: Měsíc | B18: Docházka | C18: Učení | D18: Počítač | E18: Hudba | F18: Hry | G18: VV | H18: Tanec | I18: Zpěv | J18: DVD | K18: Out | L18: SP | N18: Počet dnů v klubu Zvídálek | Q18: =SUM(B32) -> 83
N19: Pomoc při učení | P19: =SUM(C32) -> 0
A20: Leden | B20: =(B59) -> 14 | C20: =(C59) -> 0 | D20: =(D59) -> 11 | E20: =(E59) -> 10 | F20: =(F59) -> 11 | G20: =(G59) -> 7 | H20: =(H59) -> 1 | I20: =(I59) -> 0 | ... L20: =(L59) -> 0 | N20: Aktivita - počítač | P20: =SUM(D32) -> 55
A21: Únor | B21: =(B85) -> 18 | C21: =(C85) -> 0 | D21: =(D85) -> 14 | E21: =(E85) -> 14 | F21: =(F85) -> 16 | G21: =(G85) -> 9 | H21: =(H85) -> 1 | I21: =(I85) -> 1 | ... L21: =(L85) -> 0 | N21: Aktivita - hudba | P21: =SUM(E32) -> 43
A22: Březen | B22: =(B112) -> 13 | C22: =(C112) -> 0 | D22: =(D112) -> 9 | E22: =(E112) -> 6 | F22: =(F112) -> 9 | G22: =(G112) -> 2 | H22: =(H112) -> 0 | I22: =(I112) -> 0 | ... L22: =(L112) -> 0 | N22: Aktivita - hry | P22: =SUM(F32) -> 62
A23: Duben | B23: =(B140) -> 6 | C23: =(C140) -> 0 | D23: =(D140) -> 6 | E23: =(E140) -> 4 | F23: =(F140) -> 4 | G23: =(G140) -> 2 | H23: =(H140) -> 1 | I23: =(I140) -> 0 | ... L23: =(L140) -> 0 | N23: Aktivita - VV | P23: =SUM(G32) -> 25
A24: Květen | B24: =(B168) -> 6 | C24: =(C168) -> 0 | D24: =(D168) -> 1 | E24: =(E168) -> 2 | F24: =(F168) -> 6 | G24: =(G168) -> 2 | H24: =(H168) -> 0 | I24: =(I168) -> 0 | ... L24: =(L168) -> 0 | N24: Aktivita - tanec | P24: =SUM(H32) -> 3
A25: Červen | B25: =(B195) -> 11 | C25: =(C195) -> 0 | D25: =(D195) -> 7 | E25: =(E195) -> 4 | F25: =(F195) -> 8 | G25: =(G195) -> 1 | H25: =(H195) -> 0 | I25: =(I195) -> 0 | ... L25: =(L195) -> 0 | N25: Aktivita - zpěv | P25: =SUM(I32) -> 1
A26: Červenec | B26: =(B224) -> 8 | C26: =(C224) -> 0 | D26: =(D224) -> 3 | E26: =(E224) -> 2 | F26: =(F224) -> 2 | G26: =(G224) -> 2 | H26: =(H224) -> 0 | I26: =(I224) -> 0 | ... L26: =(L224) -> 0 | N26: Aktivita - DVD | P26: =SUM(J32) -> 9
A27: Srpen | B27: =(B251) -> 7 | C27: =(C251) -> 0 | D27: =(D251) -> 4 | E27: =(E251) -> 1 | F27: =(F251) -> 6 | G27: =(G251) -> 0 | H27: =(H251) -> 0 | I27: =(I251) -> 0 | ... L27: =(L251) -> 0 | N27: Aktivita - out | P27: =SUM(K32) -> 14
A28: Září | B28: =(B279) -> 0 | C28: =(C279) -> 0 | D28: =(D279) -> 0 | E28: =(E279) -> 0 | F28: =(F279) -> 0 | G28: =(G279) -> 0 | H28: =(H279) -> 0 | I28: =(I279) -> 0 | ... L28: =(L279) -> 0 | N28: Komunikace se SP | P28: =SUM(L32) -> 0
A29: Říjen | B29: =(B308) -> 0 | C29: =(C308) -> 0 | D29: =(D308) -> 0 | E29: =(E308) -> 0 | F29: =(F308) -> 0 | G29: =(G308) -> 0 | H29: =(H308) -> 0 | I29: =(I308) -> 0 | ... L29: =(L308) -> 0
A30: Listopad | B30: =(B334) -> 0 | C30: =(C334) -> 0 | D30: =(D334) -> 0 | E30: =(E334) -> 0 | F30: =(F334) -> 0 | G30: =(G334) -> 0 | H30: =(H334) -> 0 | I30: =(I334) -> 0 | ... L30: =(L334) -> 0
A31: Prosinec | B31: =(B363) -> 0 | C31: =(C363) -> 0 | D31: =(D363) -> 0 | E31: =(E363) -> 0 | F31: =(F363) -> 0 | G31: =(G363) -> 0 | H31: =(H363) -> 0 | I31: =(I363) -> 0 | ... L31: =(L363) -> 0
A32: Celkem | B32: =SUM(B20:B31) -> 83 | C32: =SUM(C20:C31) -> 0 | D32: =SUM(D20:D31) -> 55 | E32: =SUM(E20:E31) -> 43 | F32: =SUM(F20:F31) -> 62 | G32: =SUM(G20:G31) -> 25 | H32: =SUM(H20:H31) -> 3 | I32: =SUM(I20:I31) -> 1 | ... L32: =SUM(L20:L31) -> 0
A36: Leden - 2014
A38: Datum | B38: Docházka | C38: Učení | D38: Počítač | E38: Hudba | F38: Hry | G38: VV | H38: Tanec | I38: Zpěv | J38: DVD | K38: Out | L38: SP | M38: pochvaly / pokárání
A40: 41645
A41: 41646 | B41: 1 | D41: 1 | E41: 1 | F41: 1 | G41: 1
A42: 41647
A43: 41648 | B43: 1 | D43: 1 | E43: 1 | F43: 1 | G43: 1
A44: 41649 | B44: 1 | D44: 1 | E44: 1 | F44: 1
A45: 41652
A46: 41653 | B46: 1 | D46: 1 | F46: 1 | G46: 1
A47: 41654
A48: 41655 | B48: 1 | D48: 1 | E48: 1 | F48: 1 | G48: 1
A49: 41656
A50: 41659 | B50: 1 | D50: 1 | E50: 1 | F50: 1
A51: 41660 | B51: 1 | D51: 1 | E51: 1
A52: 41661 | B52: 1 | D52: 1 | E52: 1 | F52: 1 | G52: 1
A53: 41662 | B53: 1 | D53: 1 | F53: 1
A54: 41663 | B54: 1 | D54: 1 | H54: 1 | J54: 1
A55: 41666 | B55: 1 | E55: 1
A56: 41667 | B56: 1 | E56: 1 | F56: 1
...

Sheet Adrian Kotlár
D2: Adrian
C3: Jméno | I3: Smlouva o poskytování sociální služby: | M3: NE | N3: Uzavřená dne:
D4: Kotlár | I4: Souhlas se zpracováním osobních údajů: | M4: NE | N4: Uzavřený dne:
C5: Příjmení | I5: Individuální plán, přání a cíle klienta: | M5: NE | N5: Uzavřené dne:
C7: Rok nar. | I7: Individuální plán klienta | N7: Uzevřený dne (datum revize)
A16: Statistika klienta za rok 2014 | M16: Celkový přehled
A18: Měsíc | B18: Docházka | C18: Učení | D18: Počítač | E18: Hudba | F18: Hry | G18: VV | H18: Tanec | I18: Zpěv | J18: DVD | K18: Out | L18: SP | N18: Počet dnů v klubu Zvídálek | Q18: =SUM(B32) -> 11
N19: Pomoc při učení | P19: =SUM(C32) -> 0
A20: Leden | B20: =(B59) -> 11 | C20: =(C59) -> 0 | D20: =(D59) -> 8 | E20: =(E59) -> 8 | F20: =(F59) -> 8 | G20: =(G59) -> 3 | H20: =(H59) -> 1 | I20: =(I59) -> 0 | ... L20: =(L59) -> 0 | N20: Aktivita - počítač | P20: =SUM(D32) -> 8
A21: Únor | B21: =(B85) -> 0 | C21: =(C85) -> 0 | D21: =(D85) -> 0 | E21: =(E85) -> 0 | F21: =(F85) -> 0 | G21: =(G85) -> 0 | H21: =(H85) -> 0 | I21: =(I85) -> 0 | ... L21: =(L85) -> 0 | N21: Aktivita - hudba | P21: =SUM(E32) -> 8
A22: Březen | B22: =(B112) -> 0 | C22: =(C112) -> 0 | D22: =(D112) -> 0 | E22: =(E112) -> 0 | F22: =(F112) -> 0 | G22: =(G112) -> 0 | H22: =(H112) -> 0 | I22: =(I112) -> 0 | ... L22: =(L112) -> 0 | N22: Aktivita - hry | P22: =SUM(F32) -> 8
A23: Duben | B23: =(B140) -> 0 | C23: =(C140) -> 0 | D23: =(D140) -> 0 | E23: =(E140) -> 0 | F23: =(F140) -> 0 | G23: =(G140) -> 0 | H23: =(H140) -> 0 | I23: =(I140) -> 0 | ... L23: =(L140) -> 0 | N23: Aktivita - VV | P23: =SUM(G32) -> 3
A24: Květen | B24: =(B168) -> 0 | C24: =(C168) -> 0 | D24: =(D168) -> 0 | E24: =(E168) -> 0 | F24: =(F168) -> 0 | G24: =(G168) -> 0 | H24: =(H168) -> 0 | I24: =(I168) -> 0 | ... L24: =(L168) -> 0 | N24: Aktivita - tanec | P24: =SUM(H32) -> 1
A25: Červen | B25: =(B195) -> 0 | C25: =(C195) -> 0 | D25: =(D195) -> 0 | E25: =(E195) -> 0 | F25: =(F195) -> 0 | G25: =(G195) -> 0 | H25: =(H195) -> 0 | I25: =(I195) -> 0 | ... L25: =(L195) -> 0 | N25: Aktivita - zpěv | P25: =SUM(I32) -> 0
A26: Červenec | B26: =(B224) -> 0 | C26: =(C224) -> 0 | D26: =(D224) -> 0 | E26: =(E224) -> 0 | F26: =(F224) -> 0 | G26: =(G224) -> 0 | H26: =(H224) -> 0 | I26: =(I224) -> 0 | ... L26: =(L224) -> 0 | N26: Aktivita - DVD | P26: =SUM(J32) -> 1
A27: Srpen | B27: =(B251) -> 0 | C27: =(C251) -> 0 | D27: =(D251) -> 0 | E27: =(E251) -> 0 | F27: =(F251) -> 0 | G27: =(G251) -> 0 | H27: =(H251) -> 0 | I27: =(I251) -> 0 | ... L27: =(L251) -> 0 | N27: Aktivita - out | P27: =SUM(K32) -> 0
A28: Září | B28: =(B279) -> 0 | C28: =(C279) -> 0 | D28: =(D279) -> 0 | E28: =(E279) -> 0 | F28: =(F279) -> 0 | G28: =(G279) -> 0 | H28: =(H279) -> 0 | I28: =(I279) -> 0 | ... L28: =(L279) -> 0 | N28: Komunikace se SP | P28: =SUM(L32) -> 0
A29: Říjen | B29: =(B308) -> 0 | C29: =(C308) -> 0 | D29: =(D308) -> 0 | E29: =(E308) -> 0 | F29: =(F308) -> 0 | G29: =(G308) -> 0 | H29: =(H308) -> 0 | I29: =(I308) -> 0 | ... L29: =(L308) -> 0
A30: Listopad | B30: =(B334) -> 0 | C30: =(C334) -> 0 | D30: =(D334) -> 0 | E30: =(E334) -> 0 | F30: =(F334) -> 0 | G30: =(G334) -> 0 | H30: =(H334) -> 0 | I30: =(I334) -> 0 | ... L30: =(L334) -> 0
A31: Prosinec | B31: =(B363) -> 0 | C31: =(C363) -> 0 | D31: =(D363) -> 0 | E31: =(E363) -> 0 | F31: =(F363) -> 0 | G31: =(G363) -> 0 | H31: =(H363) -> 0 | I31: =(I363) -> 0 | ... L31: =(L363) -> 0
A32: Celkem | B32: =SUM(B20:B31) -> 11 | C32: =SUM(C20:C31) -> 0 | D32: =SUM(D20:D31) -> 8 | E32: =SUM(E20:E31) -> 8 | F32: =SUM(F20:F31) -> 8 | G32: =SUM(G20:G31) -> 3 | H32: =SUM(H20:H31) -> 1 | I32: =SUM(I20:I31) -> 0 | ... L32: =SUM(L20:L31) -> 0
A36: Leden - 2014
A38: Datum | B38: Docházka | C38: Učení | D38: Počítač | E38: Hudba | F38: Hry | G38: VV | H38: Tanec | I38: Zpěv | J38: DVD | K38: Out | L38: SP | M38: pochvaly / pokárání
A40: 41645
A41: 41646
A42: 41647
A43: 41648 | B43: 1 | D43: 1 | E43: 1 | F43: 1 | G43: 1
A44: 41649 | B44: 1 | D44: 1 | F44: 1
A45: 41652 | B45: 1 | D45: 1 | F45: 1
A46: 41653 | B46: 1 | D46: 1 | E46: 1 | F46: 1 | G46: 1
A47: 41654
A48: 41655 | B48: 1 | D48: 1 | E48: 1 | F48: 1 | H48: 1
A49: 41656 | B49: 1 | D49: 1 | E49: 1 | F49: 1
A50: 41659
A51: 41660
A52: 41661
A53: 41662 | B53: 1 | E53: 1
A54: 41663
A55: 41666 | B55: 1 | E55: 1
A56: 41667 | B56: 1 | E56: 1
...

Sheet Alena Balážová
D2: Alena
C3: Jméno | I3: Smlouva o poskytování sociální služby: | M3: NE | N3: Uzavřená dne:
D4: Balážová | I4: Souhlas se zpracováním osobních údajů: | M4: NE | N4: Uzavřený dne:
C5: Příjmení | I5: Individuální plán, přání a cíle klienta: | M5: NE | N5: Uzavřené dne:
C7: Rok nar. | I7: Individuální plán klienta | N7: Uzevřený dne (datum revize)
A16: Statistika klienta za rok 2014 | M16: Celkový přehled
A18: Měsíc | B18: Docházka | C18: Učení | D18: Počítač | E18: Hudba | F18: Hry | G18: VV | H18: Tanec | I18: Zpěv | J18: DVD | K18: Out | L18: SP | N18: Počet dnů v klubu Zvídálek | Q18: =SUM(B32) -> 99
N19: Pomoc při učení | P19: =SUM(C32) -> 0
A20: Leden | B20: =(B59) -> 13 | C20: =(C59) -> 0 | D20: =(D59) -> 12 | E20: =(E59) -> 13 | F20: =(F59) -> 5 | G20: =(G59) -> 3 | H20: =(H59) -> 0 | I20: =(I59) -> 0 | ... L20: =(L59) -> 0 | N20: Aktivita - počítač | P20: =SUM(D32) -> 67
A21: Únor | B21: =(B85) -> 17 | C21: =(C85) -> 0 | D21: =(D85) -> 16 | E21: =(E85) -> 16 | F21: =(F85) -> 2 | G21: =(G85) -> 3 | H21: =(H85) -> 4 | I21: =(I85) -> 0 | ... L21: =(L85) -> 0 | N21: Aktivita - hudba | P21: =SUM(E32) -> 85
A22: Březen | B22: =(B112) -> 15 | C22: =(C112) -> 0 | D22: =(D112) -> 9 | E22: =(E112) -> 14 | F22: =(F112) -> 1 | G22: =(G112) -> 1 | H22: =(H112) -> 1 | I22: =(I112) -> 0 | ... L22: =(L112) -> 0 | N22: Aktivita - hry | P22: =SUM(F32) -> 16
A23: Duben | B23: =(B140) -> 13 | C23: =(C140) -> 0 | D23: =(D140) -> 6 | E23: =(E140) -> 11 | F23: =(F140) -> 3 | G23: =(G140) -> 1 | H23: =(H140) -> 0 | I23: =(I140) -> 0 | ... L23: =(L140) -> 0 | N23: Aktivita - VV | P23: =SUM(G32) -> 10
A24: Květen | B24: =(B168) -> 8 | C24: =(C168) -> 0 | D24: =(D168) -> 8 | E24: =(E168) -> 8 | F24: =(F168) -> 1 | G24: =(G168) -> 0 | H24: =(H168) -> 0 | I24: =(I168) -> 0 | ... L24: =(L168) -> 0 | N24: Aktivita - tanec | P24: =SUM(H32) -> 6
A25: Červen | B25: =(B195) -> 13 | C25: =(C195) -> 0 | D25: =(D195) -> 6 | E25: =(E195) -> 11 | F25: =(F195) -> 3 | G25: =(G195) -> 1 | H25: =(H195) -> 0 | I25: =(I195) -> 0 | ... L25: =(L195) -> 0 | N25: Aktivita - zpěv | P25: =SUM(I32) -> 0
A26: Červenec | B26: =(B224) -> 9 | C26: =(C224) -> 0 | D26: =(D224) -> 4 | E26: =(E224) -> 5 | F26: =(F224) -> 0 | G26: =(G224) -> 0 | H26: =(H224) -> 0 | I26: =(I224) -> 0 | ... L26: =(L224) -> 0 | N26: Aktivita - DVD | P26: =SUM(J32) -> 3
A27: Srpen | B27: =(B251) -> 11 | C27: =(C251) -> 0 | D27: =(D251) -> 6 | E27: =(E251) -> 7 | F27: =(F251) -> 1 | G27: =(G251) -> 1 | H27: =(H251) -> 1 | I27: =(I251) -> 0 | ... L27: =(L251) -> 0 | N27: Aktivita - out | P27: =SUM(K32) -> 4
A28: Září | B28: =(B279) -> 0 | C28: =(C279) -> 0 | D28: =(D279) -> 0 | E28: =(E279) -> 0 | F28: =(F279) -> 0 | G28: =(G279) -> 0 | H28: =(H279) -> 0 | I28: =(I279) -> 0 | ... L28: =(L279) -> 0 | N28: Komunikace se SP | P28: =SUM(L32) -> 0
A29: Říjen | B29: =(B308) -> 0 | C29: =(C308) -> 0 | D29: =(D308) -> 0 | E29: =(E308) -> 0 | F29: =(F308) -> 0 | G29: =(G308) -> 0 | H29: =(H308) -> 0 | I29: =(I308) -> 0 | ... L29: =(L308) -> 0
A30: Listopad | B30: =(B334) -> 0 | C30: =(C334) -> 0 | D30: =(D334) -> 0 | E30: =(E334) -> 0 | F30: =(F334) -> 0 | G30: =(G334) -> 0 | H30: =(H334) -> 0 | I30: =(I334) -> 0 | ... L30: =(L334) -> 0
A31: Prosinec | B31: =(B363) -> 0 | C31: =(C363) -> 0 | D31: =(D363) -> 0 | E31: =(E363) -> 0 | F31: =(F363) -> 0 | G31: =(G363) -> 0 | H31: =(H363) -> 0 | I31: =(I363) -> 0 | ... L31: =(L363) -> 0
A32: Celkem | B32: =SUM(B20:B31) -> 99 | C32: =SUM(C20:C31) -> 0 | D32: =SUM(D20:D31) -> 67 | E32: =SUM(E20:E31) -> 85 | F32: =SUM(F20:F31) -> 16 | G32: =SUM(G20:G31) -> 10 | H32: =SUM(H20:H31) -> 6 | I32: =SUM(I20:I31) -> 0 | ... L32: =SUM(L20:L31) -> 0
A36: Leden - 2014
A38: Datum | B38: Docházka | C38: Učení | D38: Počítač | E38: Hudba | F38: Hry | G38: VV | H38: Tanec | I38: Zpěv | J38: DVD | K38: Out | L38: SP | M38: pochvaly / pokárání
A40: 41645
A41: 41646
A42: 41647
A43: 41648 | B43: 1 | D43: 1 | E43: 1 | F43: 1 | G43: 1
A44: 41649 | B44: 1 | D44: 1 | E44: 1 | F44: 1
A45: 41652 | B45: 1 | E45: 1
A46: 41653 | B46: 1 | D46: 1 | E46: 1 | G46: 1
A47: 41654
A48: 41655 | B48: 1 | D48: 1 | E48: 1
A49: 41656 | B49: 1 | D49: 1 | E49: 1 | G49: 1
A50: 41659 | B50: 1 | D50: 1 | E50: 1 | F50: 1
A51: 41660 | B51: 1 | D51: 1 | E51: 1
A52: 41661
A53: 41662 | B53: 1 | D53: 1 | E53: 1
A54: 41663 | B54: 1 | D54: 1 | E54: 1
A55: 41666 | B55: 1 | D55: 1 | E55: 1
A56: 41667 | B56: 1 | D56: 1 | E56: 1 | F56: 1
...

Sheet Alex Žida
D2: Alex
C3: Jméno | I3: Smlouva o poskytování sociální služby: | M3: NE | N3: Uzavřená dne:
D4: Žida | I4: Souhlas se zpracováním osobních údajů: | M4: NE | N4: Uzavřený dne:
C5: Příjmení | I5: Individuální plán, přání a cíle klienta: | M5: NE | N5: Uzavřené dne:
C7: Rok nar. | I7: Individuální plán klienta | N7: Uzevřený dne (datum revize)
A16: Statistika klienta za rok 2014 | M16: Celkový přehled
A18: Měsíc | B18: Docházka | C18: Učení | D18: Počítač | E18: Hudba | F18: Hry | G18: VV | H18: Tanec | I18: Zpěv | J18: DVD | K18: Out | L18: SP | N18: Počet dnů v klubu Zvídálek | Q18: =SUM(B32) -> 126
N19: Pomoc při učení | P19: =SUM(C32) -> 0
A20: Leden | B20: =(B59) -> 19 | C20: =(C59) -> 0 | D20: =(D59) -> 17 | E20: =(E59) -> 17 | F20: =(F59) -> 12 | G20: =(G59) -> 6 | H20: =(H59) -> 5 | I20: =(I59) -> 2 | ... L20: =(L59) -> 0 | N20: Aktivita - počítač | P20: =SUM(D32) -> 88
A21: Únor | B21: =(B85) -> 17 | C21: =(C85) -> 0 | D21: =(D85) -> 15 | E21: =(E85) -> 16 | F21: =(F85) -> 7 | G21: =(G85) -> 3 | H21: =(H85) -> 9 | I21: =(I85) -> 4 | ... L21: =(L85) -> 0 | N21: Aktivita - hudba | P21: =SUM(E32) -> 108
A22: Březen | B22: =(B112) -> 20 | C22: =(C112) -> 0 | D22: =(D112) -> 14 | E22: =(E112) -> 20 | F22: =(F112) -> 12 | G22: =(G112) -> 2 | H22: =(H112) -> 11 | I22: =(I112) -> 1 | ... L22: =(L112) -> 0 | N22: Aktivita - hry | P22: =SUM(F32) -> 57
A23: Duben | B23: =(B140) -> 12 | C23: =(C140) -> 0 | D23: =(D140) -> 8 | E23: =(E140) -> 10 | F23: =(F140) -> 0 | G23: =(G140) -> 0 | H23: =(H140) -> 5 | I23: =(I140) -> 1 | ... L23: =(L140) -> 0 | N23: Aktivita - VV | P23: =SUM(G32) -> 16
A24: Květen | B24: =(B168) -> 16 | C24: =(C168) -> 0 | D24: =(D168) -> 11 | E24: =(E168) -> 12 | F24: =(F168) -> 10 | G24: =(G168) -> 0 | H24: =(H168) -> 5 | I24: =(I168) -> 1 | ... L24: =(L168) -> 0 | N24: Aktivita - tanec | P24: =SUM(H32) -> 44
A25: Červen | B25: =(B195) -> 17 | C25: =(C195) -> 0 | D25: =(D195) -> 7 | E25: =(E195) -> 15 | F25: =(F195) -> 7 | G25: =(G195) -> 1 | H25: =(H195) -> 3 | I25: =(I195) -> 0 | ... L25: =(L195) -> 0 | N25: Aktivita - zpěv | P25: =SUM(I32) -> 10
A26: Červenec | B26: =(B224) -> 16 | C26: =(C224) -> 0 | D26: =(D224) -> 10 | E26: =(E224) -> 12 | F26: =(F224) -> 7 | G26: =(G224) -> 3 | H26: =(H224) -> 4 | I26: =(I224) -> 1 | ... L26: =(L224) -> 0 | N26: Aktivita - DVD | P26: =SUM(J32) -> 10
A27: Srpen | B27: =(B251) -> 9 | C27: =(C251) -> 0 | D27: =(D251) -> 6 | E27: =(E251) -> 6 | F27: =(F251) -> 2 | G27: =(G251) -> 1 | H27: =(H251) -> 2 | I27: =(I251) -> 0 | ... L27: =(L251) -> 0 | N27: Aktivita - out | P27: =SUM(K32) -> 10
A28: Září | B28: =(B279) -> 0 | C28: =(C279) -> 0 | D28: =(D279) -> 0 | E28: =(E279) -> 0 | F28: =(F279) -> 0 | G28: =(G279) -> 0 | H28: =(H279) -> 0 | I28: =(I279) -> 0 | ... L28: =(L279) -> 0 | N28: Komunikace se SP | P28: =SUM(L32) -> 0
A29: Říjen | B29: =(B308) -> 0 | C29: =(C308) -> 0 | D29: =(D308) -> 0 | E29: =(E308) -> 0 | F29: =(F308) -> 0 | G29: =(G308) -> 0 | H29: =(H308) -> 0 | I29: =(I308) -> 0 | ... L29: =(L308) -> 0
A30: Listopad | B30: =(B334) -> 0 | C30: =(C334) -> 0 | D30: =(D334) -> 0 | E30: =(E334) -> 0 | F30: =(F334) -> 0 | G30: =(G334) -> 0 | H30: =(H334) -> 0 | I30: =(I334) -> 0 | ... L30: =(L334) -> 0
A31: Prosinec | B31: =(B363) -> 0 | C31: =(C363) -> 0 | D31: =(D363) -> 0 | E31: =(E363) -> 0 | F31: =(F363) -> 0 | G31: =(G363) -> 0 | H31: =(H363) -> 0 | I31: =(I363) -> 0 | ... L31: =(L363) -> 0
A32: Celkem | B32: =SUM(B20:B31) -> 126 | C32: =SUM(C20:C31) -> 0 | D32: =SUM(D20:D31) -> 88 | E32: =SUM(E20:E31) -> 108 | F32: =SUM(F20:F31) -> 57 | G32: =SUM(G20:G31) -> 16 | H32: =SUM(H20:H31) -> 44 | I32: =SUM(I20:I31) -> 10 | ... L32: =SUM(L20:L31) -> 0
A36: Leden - 2014
A38: Datum | B38: Docházka | C38: Učení | D38: Počítač | E38: Hudba | F38: Hry | G38: VV | H38: Tanec | I38: Zpěv | J38: DVD | K38: Out | L38: SP | M38: pochvaly / pokárání
A40: 41645 | B40: 1 | D40: 1 | H40: 1 | I40: 1
A41: 41646 | B41: 1 | D41: 1 | E41: 1 | F41: 1 | H41: 1
A42: 41647 | B42: 1 | D42: 1 | E42: 1 | F42: 1
A43: 41648 | B43: 1 | D43: 1 | E43: 1 | F43: 1 | G43: 1
A44: 41649 | B44: 1 | E44: 1
A45: 41652 | B45: 1 | E45: 1 | F45: 1
A46: 41653 | B46: 1 | D46: 1 | E46: 1 | F46: 1 | G46: 1
A47: 41654 | B47: 1 | D47: 1 | E47: 1 | H47: 1
A48: 41655 | B48: 1 | D48: 1 | E48: 1 | F48: 1 | G48: 1
A49: 41656 | B49: 1 | D49: 1 | E49: 1 | F49: 1 | G49: 1
A50: 41659 | B50: 1 | D50: 1 | E50: 1 | F50: 1 | H50: 1
A51: 41660 | B51: 1 | D51: 1 | E51: 1
A52: 41661 | B52: 1 | D52: 1 | E52: 1 | F52: 1
A53: 41662 | B53: 1 | D53: 1 | E53: 1
A54: 41663 | B54: 1 | D54: 1 | E54: 1 | F54: 1 | J54: 1
A55: 41666 | B55: 1 | D55: 1 | E55: 1
A56: 41667 | B56: 1 | D56: 1 | E56: 1
...

Sheet Barbora Suchá
D2: Barbora
C3: Jméno | I3: Smlouva o poskytování sociální služby: | M3: NE | N3: Uzavřená dne:
D4: Suchá | I4: Souhlas se zpracováním osobních údajů: | M4: NE | N4: Uzavřený dne:
C5: Příjmení | I5: Individuální plán, přání a cíle klienta: | M5: NE | N5: Uzavřené dne:
C7: Rok nar. | I7: Individuální plán klienta | N7: Uzevřený dne (datum revize)
A16: Statistika klienta za rok 2014 | M16: Celkový přehled
A18: Měsíc | B18: Docházka | C18: Učení | D18: Počítač | E18: Hudba | F18: Hry | G18: VV | H18: Tanec | I18: Zpěv | J18: DVD | K18: Out | L18: SP | N18: Počet dnů v klubu Zvídálek | Q18: =SUM(B32) -> 8
N19: Pomoc při učení | P19: =SUM(C32) -> 0
A20: Leden | B20: =(B59) -> 8 | C20: =(C59) -> 0 | D20: =(D59) -> 2 | E20: =(E59) -> 8 | F20: =(F59) -> 2 | G20: =(G59) -> 5 | H20: =(H59) -> 0 | I20: =(I59) -> 0 | ... L20: =(L59) -> 0 | N20: Aktivita - počítač | P20: =SUM(D32) -> 2
A21: Únor | B21: =(B85) -> 0 | C21: =(C85) -> 0 | D21: =(D85) -> 0 | E21: =(E85) -> 0 | F21: =(F85) -> 0 | G21: =(G85) -> 0 | H21: =(H85) -> 0 | I21: =(I85) -> 0 | ... L21: =(L85) -> 0 | N21: Aktivita - hudba | P21: =SUM(E32) -> 8
A22: Březen | B22: =(B112) -> 0 | C22: =(C112) -> 0 | D22: =(D112) -> 0 | E22: =(E112) -> 0 | F22: =(F112) -> 0 | G22: =(G112) -> 0 | H22: =(H112) -> 0 | I22: =(I112) -> 0 | ... L22: =(L112) -> 0 | N22: Aktivita - hry | P22: =SUM(F32) -> 2
A23: Duben | B23: =(B140) -> 0 | C23: =(C140) -> 0 | D23: =(D140) -> 0 | E23: =(E140) -> 0 | F23: =(F140) -> 0 | G23: =(G140) -> 0 | H23: =(H140) -> 0 | I23: =(I140) -> 0 | ... L23: =(L140) -> 0 | N23: Aktivita - VV | P23: =SUM(G32) -> 5
A24: Květen | B24: =(B168) -> 0 | C24: =(C168) -> 0 | D24: =(D168) -> 0 | E24: =(E168) -> 0 | F24: =(F168) -> 0 | G24: =(G168) -> 0 | H24: =(H168) -> 0 | I24: =(I168) -> 0 | ... L24: =(L168) -> 0 | N24: Aktivita - tanec | P24: =SUM(H32) -> 0
A25: Červen | B25: =(B195) -> 0 | C25: =(C195) -> 0 | D25: =(D195) -> 0 | E25: =(E195) -> 0 | F25: =(F195) -> 0 | G25: =(G195) -> 0 | H25: =(H195) -> 0 | I25: =(I195) -> 0 | ... L25: =(L195) -> 0 | N25: Aktivita - zpěv | P25: =SUM(I32) -> 0
A26: Červenec | B26: =(B224) -> 0 | C26: =(C224) -> 0 | D26: =(D224) -> 0 | E26: =(E224) -> 0 | F26: =(F224) -> 0 | G26: =(G224) -> 0 | H26: =(H224) -> 0 | I26: =(I224) -> 0 | ... L26: =(L224) -> 0 | N26: Aktivita - DVD | P26: =SUM(J32) -> 0
A27: Srpen | B27: =(B251) -> 0 | C27: =(C251) -> 0 | D27: =(D251) -> 0 | E27: =(E251) -> 0 | F27: =(F251) -> 0 | G27: =(G251) -> 0 | H27: =(H251) -> 0 | I27: =(I251) -> 0 | ... L27: =(L251) -> 0 | N27: Aktivita - out | P27: =SUM(K32) -> 0
A28: Září | B28: =(B279) -> 0 | C28: =(C279) -> 0 | D28: =(D279) -> 0 | E28: =(E279) -> 0 | F28: =(F279) -> 0 | G28: =(G279) -> 0 | H28: =(H279) -> 0 | I28: =(I279) -> 0 | ... L28: =(L279) -> 0 | N28: Komunikace se SP | P28: =SUM(L32) -> 0
A29: Říjen | B29: =(B308) -> 0 | C29: =(C308) -> 0 | D29: =(D308) -> 0 | E29: =(E308) -> 0 | F29: =(F308) -> 0 | G29: =(G308) -> 0 | H29: =(H308) -> 0 | I29: =(I308) -> 0 | ... L29: =(L308) -> 0
A30: Listopad | B30: =(B334) -> 0 | C30: =(C334) -> 0 | D30: =(D334) -> 0 | E30: =(E334) -> 0 | F30: =(F334) -> 0 | G30: =(G334) -> 0 | H30: =(H334) -> 0 | I30: =(I334) -> 0 | ... L30: =(L334) -> 0
A31: Prosinec | B31: =(B363) -> 0 | C31: =(C363) -> 0 | D31: =(D363) -> 0 | E31: =(E363) -> 0 | F31: =(F363) -> 0 | G31: =(G363) -> 0 | H31: =(H363) -> 0 | I31: =(I363) -> 0 | ... L31: =(L363) -> 0
A32: Celkem | B32: =SUM(B20:B31) -> 8 | C32: =SUM(C20:C31) -> 0 | D32: =SUM(D20:D31) -> 2 | E32: =SUM(E20:E31) -> 8 | F32: =SUM(F20:F31) -> 2 | G32: =SUM(G20:G31) -> 5 | H32: =SUM(H20:H31) -> 0 | I32: =SUM(I20:I31) -> 0 | ... L32: =SUM(L20:L31) -> 0
A36: Leden - 2014
A38: Datum | B38: Docházka | C38: Učení | D38: Počítač | E38: Hudba | F38: Hry | G38: VV | H38: Tanec | I38: Zpěv | J38: DVD | K38: Out | L38: SP | M38: pochvaly / pokárání
A40: 41645
A41: 41646
A42: 41647
A43: 41648 | B43: 1 | D43: 1 | E43: 1 | G43: 1
A44: 41649 | B44: 1 | E44: 1 | G44: 1
A45: 41652 | B45: 1 | E45: 1
A46: 41653
A47: 41654
A48: 41655
A49: 41656
A50: 41659 | B50: 1 | E50: 1 | G50: 1
A51: 41660
A52: 41661
A53: 41662
A54: 41663 | B54: 1 | E54: 1
A55: 41666 | B55: 1 | E55: 1
A56: 41667 | B56: 1 | E56: 1 | F56: 1 | G56: 1
...

Sheet David Pecha
D2: David
C3: Jméno | I3: Smlouva o poskytování sociální služby: | M3: NE | N3: Uzavřená dne:
D4: Pecha | I4: Souhlas se zpracováním osobních údajů: | M4: NE | N4: Uzavřený dne:
C5: Příjmení | I5: Individuální plán, přání a cíle klienta: | M5: NE | N5: Uzavřené dne:
C7: Rok nar. | I7: Individuální plán klienta | N7: Uzevřený dne (datum revize)
A16: Statistika klienta za rok 2014 | M16: Celkový přehled
A18: Měsíc | B18: Docházka | C18: Učení | D18: Počítač | E18: Hudba | F18: Hry | G18: VV | H18: Tanec | I18: Zpěv | J18: DVD | K18: Out | L18: SP | N18: Počet dnů v klubu Zvídálek | Q18: =SUM(B32) -> 20
N19: Pomoc při učení | P19: =SUM(C32) -> 0
A20: Leden | B20: =(B59) -> 4 | C20: =(C59) -> 0 | D20: =(D59) -> 2 | E20: =(E59) -> 3 | F20: =(F59) -> 1 | G20: =(G59) -> 1 | H20: =(H59) -> 0 | I20: =(I59) -> 0 | ... L20: =(L59) -> 0 | N20: Aktivita - počítač | P20: =SUM(D32) -> 9
A21: Únor | B21: =(B85) -> 7 | C21: =(C85) -> 0 | D21: =(D85) -> 3 | E21: =(E85) -> 4 | F21: =(F85) -> 1 | G21: =(G85) -> 2 | H21: =(H85) -> 0 | I21: =(I85) -> 0 | ... L21: =(L85) -> 0 | N21: Aktivita - hudba | P21: =SUM(E32) -> 14
A22: Březen | B22: =(B112) -> 4 | C22: =(C112) -> 0 | D22: =(D112) -> 3 | E22: =(E112) -> 3 | F22: =(F112) -> 0 | G22: =(G112) -> 0 | H22: =(H112) -> 0 | I22: =(I112) -> 0 | ... L22: =(L112) -> 0 | N22: Aktivita - hry | P22: =SUM(F32) -> 4
A23: Duben | B23: =(B140) -> 2 | C23: =(C140) -> 0 | D23: =(D140) -> 1 | E23: =(E140) -> 2 | F23: =(F140) -> 1 | G23: =(G140) -> 0 | H23: =(H140) -> 0 | I23: =(I140) -> 0 | ... L23: =(L140) -> 0 | N23: Aktivita - VV | P23: =SUM(G32) -> 3
A24: Květen | B24: =(B168) -> 2 | C24: =(C168) -> 0 | D24: =(D168) -> 0 | E24: =(E168) -> 2 | F24: =(F168) -> 1 | G24: =(G168) -> 0 | H24: =(H168) -> 0 | I24: =(I168) -> 0 | ... L24: =(L168) -> 0 | N24: Aktivita - tanec | P24: =SUM(H32) -> 0
A25: Červen | B25: =(B195) -> 0 | C25: =(C195) -> 0 | D25: =(D195) -> 0 | E25: =(E195) -> 0 | F25: =(F195) -> 0 | G25: =(G195) -> 0 | H25: =(H195) -> 0 | I25: =(I195) -> 0 | ... L25: =(L195) -> 0 | N25: Aktivita - zpěv | P25: =SUM(I32) -> 0
A26: Červenec | B26: =(B224) -> 0 | C26: =(C224) -> 0 | D26: =(D224) -> 0 | E26: =(E224) -> 0 | F26: =(F224) -> 0 | G26: =(G224) -> 0 | H26: =(H224) -> 0 | I26: =(I224) -> 0 | ... L26: =(L224) -> 0 | N26: Aktivita - DVD | P26: =SUM(J32) -> 0
A27: Srpen | B27: =(B251) -> 1 | C27: =(C251) -> 0 | D27: =(D251) -> 0 | E27: =(E251) -> 0 | F27: =(F251) -> 0 | G27: =(G251) -> 0 | H27: =(H251) -> 0 | I27: =(I251) -> 0 | ... L27: =(L251) -> 0 | N27: Aktivita - out | P27: =SUM(K32) -> 2
A28: Září | B28: =(B279) -> 0 | C28: =(C279) -> 0 | D28: =(D279) -> 0 | E28: =(E279) -> 0 | F28: =(F279) -> 0 | G28: =(G279) -> 0 | H28: =(H279) -> 0 | I28: =(I279) -> 0 | ... L28: =(L279) -> 0 | N28: Komunikace se SP | P28: =SUM(L32) -> 0
A29: Říjen | B29: =(B308) -> 0 | C29: =(C308) -> 0 | D29: =(D308) -> 0 | E29: =(E308) -> 0 | F29: =(F308) -> 0 | G29: =(G308) -> 0 | H29: =(H308) -> 0 | I29: =(I308) -> 0 | ... L29: =(L308) -> 0
A30: Listopad | B30: =(B334) -> 0 | C30: =(C334) -> 0 | D30: =(D334) -> 0 | E30: =(E334) -> 0 | F30: =(F334) -> 0 | G30: =(G334) -> 0 | H30: =(H334) -> 0 | I30: =(I334) -> 0 | ... L30: =(L334) -> 0
A31: Prosinec | B31: =(B363) -> 0 | C31: =(C363) -> 0 | D31: =(D363) -> 0 | E31: =(E363) -> 0 | F31: =(F363) -> 0 | G31: =(G363) -> 0 | H31: =(H363) -> 0 | I31: =(I363) -> 0 | ... L31: =(L363) -> 0
A32: Celkem | B32: =SUM(B20:B31) -> 20 | C32: =SUM(C20:C31) -> 0 | D32: =SUM(D20:D31) -> 9 | E32: =SUM(E20:E31) -> 14 | F32: =SUM(F20:F31) -> 4 | G32: =SUM(G20:G31) -> 3 | H32: =SUM(H20:H31) -> 0 | I32: =SUM(I20:I31) -> 0 | ... L32: =SUM(L20:L31) -> 0
A36: Leden - 2014
A38: Datum | B38: Docházka | C38: Učení | D38: Počítač | E38: Hudba | F38: Hry | G38: VV | H38: Tanec | I38: Zpěv | J38: DVD | K38: Out | L38: SP | M38: pochvaly / pokárání
A40: 41645 | B40: 1 | G40: 1
A41: 41646 | B41: 1 | D41: 1 | E41: 1
A42: 41647 | B42: 1 | D42: 1 | E42: 1 | F42: 1
A43: 41648
A44: 41649 | B44: 1 | E44: 1
A45: 41652
A46: 41653
A47: 41654
A48: 41655
A49: 41656
A50: 41659
A51: 41660
A52: 41661
A53: 41662
A54: 41663
A55: 41666
A56: 41667
...

Sheet David Červeňák
D2: David
C3: Jméno | I3: Smlouva o poskytování sociální služby: | M3: NE | N3: Uzavřená dne:
D4: Červeňák | I4: Souhlas se zpracováním osobních údajů: | M4: NE | N4: Uzavřený dne:
C5: Příjmení | I5: Individuální plán, přání a cíle klienta: | M5: NE | N5: Uzavřené dne:
C7: Rok nar. | I7: Individuální plán klienta | N7: Uzevřený dne (datum revize)
A16: Statistika klienta za rok 2014 | M16: Celkový přehled
A18: Měsíc | B18: Docházka | C18: Učení | D18: Počítač | E18: Hudba | F18: Hry | G18: VV | H18: Tanec | I18: Zpěv | J18: DVD | K18: Out | L18: SP | N18: Počet dnů v klubu Zvídálek | Q18: =SUM(B32) -> 128
N19: Pomoc při učení | P19: =SUM(C32) -> 0
A20: Leden | B20: =(B59) -> 19 | C20: =(C59) -> 0 | D20: =(D59) -> 14 | E20: =(E59) -> 16 | F20: =(F59) -> 3 | G20: =(G59) -> 3 | H20: =(H59) -> 0 | I20: =(I59) -> 0 | ... L20: =(L59) -> 0 | N20: Aktivita - počítač | P20: =SUM(D32) -> 91
A21: Únor | B21: =(B85) -> 16 | C21: =(C85) -> 0 | D21: =(D85) -> 12 | E21: =(E85) -> 16 | F21: =(F85) -> 6 | G21: =(G85) -> 9 | H21: =(H85) -> 1 | I21: =(I85) -> 1 | ... L21: =(L85) -> 0 | N21: Aktivita - hudba | P21: =SUM(E32) -> 118
A22: Březen | B22: =(B112) -> 19 | C22: =(C112) -> 0 | D22: =(D112) -> 15 | E22: =(E112) -> 18 | F22: =(F112) -> 2 | G22: =(G112) -> 0 | H22: =(H112) -> 0 | I22: =(I112) -> 1 | ... L22: =(L112) -> 0 | N22: Aktivita - hry | P22: =SUM(F32) -> 39
A23: Duben | B23: =(B140) -> 17 | C23: =(C140) -> 0 | D23: =(D140) -> 14 | E23: =(E140) -> 16 | F23: =(F140) -> 10 | G23: =(G140) -> 3 | H23: =(H140) -> 0 | I23: =(I140) -> 0 | ... L23: =(L140) -> 0 | N23: Aktivita - VV | P23: =SUM(G32) -> 27
A24: Květen | B24: =(B168) -> 14 | C24: =(C168) -> 0 | D24: =(D168) -> 7 | E24: =(E168) -> 13 | F24: =(F168) -> 3 | G24: =(G168) -> 2 | H24: =(H168) -> 0 | I24: =(I168) -> 0 | ... L24: =(L168) -> 0 | N24: Aktivita - tanec | P24: =SUM(H32) -> 1
A25: Červen | B25: =(B195) -> 12 | C25: =(C195) -> 0 | D25: =(D195) -> 8 | E25: =(E195) -> 12 | F25: =(F195) -> 3 | G25: =(G195) -> 4 | H25: =(H195) -> 0 | I25: =(I195) -> 0 | ... L25: =(L195) -> 0 | N25: Aktivita - zpěv | P25: =SUM(I32) -> 2
A26: Červenec | B26: =(B224) -> 16 | C26: =(C224) -> 0 | D26: =(D224) -> 9 | E26: =(E224) -> 14 | F26: =(F224) -> 6 | G26: =(G224) -> 3 | H26: =(H224) -> 0 | I26: =(I224) -> 0 | ... L26: =(L224) -> 0 | N26: Aktivita - DVD | P26: =SUM(J32) -> 18
A27: Srpen | B27: =(B251) -> 15 | C27: =(C251) -> 0 | D27: =(D251) -> 12 | E27: =(E251) -> 13 | F27: =(F251) -> 6 | G27: =(G251) -> 3 | H27: =(H251) -> 0 | I27: =(I251) -> 0 | ... L27: =(L251) -> 0 | N27: Aktivita - out | P27: =SUM(K32) -> 9
A28: Září | B28: =(B279) -> 0 | C28: =(C279) -> 0 | D28: =(D279) -> 0 | E28: =(E279) -> 0 | F28: =(F279) -> 0 | G28: =(G279) -> 0 | H28: =(H279) -> 0 | I28: =(I279) -> 0 | ... L28: =(L279) -> 0 | N28: Komunikace se SP | P28: =SUM(L32) -> 0
A29: Říjen | B29: =(B308) -> 0 | C29: =(C308) -> 0 | D29: =(D308) -> 0 | E29: =(E308) -> 0 | F29: =(F308) -> 0 | G29: =(G308) -> 0 | H29: =(H308) -> 0 | I29: =(I308) -> 0 | ... L29: =(L308) -> 0
A30: Listopad | B30: =(B334) -> 0 | C30: =(C334) -> 0 | D30: =(D334) -> 0 | E30: =(E334) -> 0 | F30: =(F334) -> 0 | G30: =(G334) -> 0 | H30: =(H334) -> 0 | I30: =(I334) -> 0 | ... L30: =(L334) -> 0
A31: Prosinec | B31: =(B363) -> 0 | C31: =(C363) -> 0 | D31: =(D363) -> 0 | E31: =(E363) -> 0 | F31: =(F363) -> 0 | G31: =(G363) -> 0 | H31: =(H363) -> 0 | I31: =(I363) -> 0 | ... L31: =(L363) -> 0
A32: Celkem | B32: =SUM(B20:B31) -> 128 | C32: =SUM(C20:C31) -> 0 | D32: =SUM(D20:D31) -> 91 | E32: =SUM(E20:E31) -> 118 | F32: =SUM(F20:F31) -> 39 | G32: =SUM(G20:G31) -> 27 | H32: =SUM(H20:H31) -> 1 | I32: =SUM(I20:I31) -> 2 | ... L32: =SUM(L20:L31) -> 0
A36: Leden - 2014
A38: Datum | B38: Docházka | C38: Učení | D38: Počítač | E38: Hudba | F38: Hry | G38: VV | H38: Tanec | I38: Zpěv | J38: DVD | K38: Out | L38: SP | M38: pochvaly / pokárání
A40: 41645 | B40: 1 | D40: 1
A41: 41646 | B41: 1 | E41: 1
A42: 41647 | B42: 1 | E42: 1
A43: 41648 | B43: 1 | E43: 1
A44: 41649 | B44: 1 | E44: 1
A45: 41652 | B45: 1 | E45: 1 | G45: 1
A46: 41653 | B46: 1 | D46: 1 | E46: 1 | G46: 1
A47: 41654 | B47: 1 | D47: 1 | E47: 1
A48: 41655 | B48: 1 | D48: 1 | E48: 1
A49: 41656 | B49: 1 | D49: 1 | E49: 1 | G49: 1
A50: 41659 | B50: 1 | D50: 1 | E50: 1
A51: 41660 | B51: 1 | D51: 1 | E51: 1
A52: 41661 | B52: 1 | D52: 1 | E52: 1
A53: 41662 | B53: 1 | D53: 1 | E53: 1
A54: 41663 | B54: 1 | D54: 1
A55: 41666 | B55: 1 | D55: 1 | E55: 1 | F55: 1
A56: 41667 | B56: 1 | D56: 1 | E56: 1
...

Sheet Denisa Kotlárová
D2: Denisa
C3: Jméno | I3: Smlouva o poskytování sociální služby: | M3: NE | N3: Uzavřená dne:
D4: Kotlárová | I4: Souhlas se zpracováním osobních údajů: | M4: NE | N4: Uzavřený dne:
C5: Příjmení | I5: Individuální plán, přání a cíle klienta: | M5: NE | N5: Uzavřené dne:
C7: Rok nar. | I7: Individuální plán klienta | N7: Uzevřený dne (datum revize)
A16: Statistika klienta za rok 2014 | M16: Celkový přehled
A18: Měsíc | B18: Docházka | C18: Učení | D18: Počítač | E18: Hudba | F18: Hry | G18: VV | H18: Tanec | I18: Zpěv | J18: DVD | K18: Out | L18: SP | N18: Počet dnů v klubu Zvídálek | Q18: =SUM(B32) -> 1
N19: Pomoc při učení | P19: =SUM(C32) -> 0
A20: Leden | B20: =(B59) -> 0 | C20: =(C59) -> 0 | D20: =(D59) -> 0 | E20: =(E59) -> 0 | F20: =(F59) -> 0 | G20: =(G59) -> 0 | H20: =(H59) -> 0 | I20: =(I59) -> 0 | ... L20: =(L59) -> 0 | N20: Aktivita - počítač | P20: =SUM(D32) -> 0
A21: Únor | B21: =(B85) -> 0 | C21: =(C85) -> 0 | D21: =(D85) -> 0 | E21: =(E85) -> 0 | F21: =(F85) -> 0 | G21: =(G85) -> 0 | H21: =(H85) -> 0 | I21: =(I85) -> 0 | ... L21: =(L85) -> 0 | N21: Aktivita - hudba | P21: =SUM(E32) -> 0
A22: Březen | B22: =(B112) -> 0 | C22: =(C112) -> 0 | D22: =(D112) -> 0 | E22: =(E112) -> 0 | F22: =(F112) -> 0 | G22: =(G112) -> 0 | H22: =(H112) -> 0 | I22: =(I112) -> 0 | ... L22: =(L112) -> 0 | N22: Aktivita - hry | P22: =SUM(F32) -> 0
A23: Duben | B23: =(B140) -> 0 | C23: =(C140) -> 0 | D23: =(D140) -> 0 | E23: =(E140) -> 0 | F23: =(F140) -> 0 | G23: =(G140) -> 0 | H23: =(H140) -> 0 | I23: =(I140) -> 0 | ... L23: =(L140) -> 0 | N23: Aktivita - VV | P23: =SUM(G32) -> 1
A24: Květen | B24: =(B168) -> 0 | C24: =(C168) -> 0 | D24: =(D168) -> 0 | E24: =(E168) -> 0 | F24: =(F168) -> 0 | G24: =(G168) -> 0 | H24: =(H168) -> 0 | I24: =(I168) -> 0 | ... L24: =(L168) -> 0 | N24: Aktivita - tanec | P24: =SUM(H32) -> 0
A25: Červen | B25: =(B195) -> 1 | C25: =(C195) -> 0 | D25: =(D195) -> 0 | E25: =(E195) -> 0 | F25: =(F195) -> 0 | G25: =(G195) -> 1 | H25: =(H195) -> 0 | I25: =(I195) -> 0 | ... L25: =(L195) -> 0 | N25: Aktivita - zpěv | P25: =SUM(I32) -> 0
A26: Červenec | B26: =(B224) -> 0 | C26: =(C224) -> 0 | D26: =(D224) -> 0 | E26: =(E224) -> 0 | F26: =(F224) -> 0 | G26: =(G224) -> 0 | H26: =(H224) -> 0 | I26: =(I224) -> 0 | ... L26: =(L224) -> 0 | N26: Aktivita - DVD | P26: =SUM(J32) -> 0
A27: Srpen | B27: =(B251) -> 0 | C27: =(C251) -> 0 | D27: =(D251) -> 0 | E27: =(E251) -> 0 | F27: =(F251) -> 0 | G27: =(G251) -> 0 | H27: =(H251) -> 0 | I27: =(I251) -> 0 | ... L27: =(L251) -> 0 | N27: Aktivita - out | P27: =SUM(K32) -> 0
A28: Září | B28: =(B279) -> 0 | C28: =(C279) -> 0 | D28: =(D279) -> 0 | E28: =(E279) -> 0 | F28: =(F279) -> 0 | G28: =(G279) -> 0 | H28: =(H279) -> 0 | I28: =(I279) -> 0 | ... L28: =(L279) -> 0 | N28: Komunikace se SP | P28: =SUM(L32) -> 0
A29: Říjen | B29: =(B308) -> 0 | C29: =(C308) -> 0 | D29: =(D308) -> 0 | E29: =(E308) -> 0 | F29: =(F308) -> 0 | G29: =(G308) -> 0 | H29: =(H308) -> 0 | I29: =(I308) -> 0 | ... L29: =(L308) -> 0
A30: Listopad | B30: =(B334) -> 0 | C30: =(C334) -> 0 | D30: =(D334) -> 0 | E30: =(E334) -> 0 | F30: =(F334) -> 0 | G30: =(G334) -> 0 | H30: =(H334) -> 0 | I30: =(I334) -> 0 | ... L30: =(L334) -> 0
A31: Prosinec | B31: =(B363) -> 0 | C31: =(C363) -> 0 | D31: =(D363) -> 0 | E31: =(E363) -> 0 | F31: =(F363) -> 0 | G31: =(G363) -> 0 | H31: =(H363) -> 0 | I31: =(I363) -> 0 | ... L31: =(L363) -> 0
A32: Celkem | B32: =SUM(B20:B31) -> 1 | C32: =SUM(C20:C31) -> 0 | D32: =SUM(D20:D31) -> 0 | E32: =SUM(E20:E31) -> 0 | F32: =SUM(F20:F31) -> 0 | G32: =SUM(G20:G31) -> 1 | H32: =SUM(H20:H31) -> 0 | I32: =SUM(I20:I31) -> 0 | ... L32: =SUM(L20:L31) -> 0
A36: Leden - 2014
A38: Datum | B38: Docházka | C38: Učení | D38: Počítač | E38: Hudba | F38: Hry | G38: VV | H38: Tanec | I38: Zpěv | J38: DVD | K38: Out | L38: SP | M38: pochvaly / pokárání
A40: 41645
A41: 41646
A42: 41647
A43: 41648
A44: 41649
A45: 41652
A46: 41653
A47: 41654
A48: 41655
A49: 41656
A50: 41659
A51: 41660
... A58: 41669
A59: Celkem | B59: =SUM(B40:B58) -> 0 | C59: =SUM(C40:C58) -> 0 | D59: =SUM(D40:D58) -> 0 | E59: =SUM(E40:E58) -> 0 | F59: =SUM(F40:F58) -> 0 | G59: =SUM(G40:G58) -> 0 | H59: =SUM(H40:H58) -> 0 | I59: =SUM(I40:I58) -> 0 | ... L59: =SUM(L40:L58) -> 0
A61: Únor - 2014
A63: Datum | B63: Docházka | C63: Učení | D63: Počítač | E63: Hudba | F63: Hry | G63: VV | H63: Tanec | I63: Zpěv | J63: DVD | K63: Out | L63: SP | M63: pochvaly / pokárání
A65: 41673
...

Sheet Dominik Pecha
D2: Dominik
C3: Jméno | I3: Smlouva o poskytování sociální služby: | M3: NE | N3: Uzavřená dne:
D4: Pecha | I4: Souhlas se zpracováním osobních údajů: | M4: NE | N4: Uzavřený dne:
C5: Příjmení | I5: Individuální plán, přání a cíle klienta: | M5: NE | N5: Uzavřené dne:
C7: Rok nar. | I7: Individuální plán klienta | N7: Uzevřený dne (datum revize)
A16: Statistika klienta za rok 2014 | M16: Celkový přehled
A18: Měsíc | B18: Docházka | C18: Učení | D18: Počítač | E18: Hudba | F18: Hry | G18: VV | H18: Tanec | I18: Zpěv | J18: DVD | K18: Out | L18: SP | N18: Počet dnů v klubu Zvídálek | Q18: =SUM(B32) -> 19
N19: Pomoc při učení | P19: =SUM(C32) -> 0
A20: Leden | B20: =(B59) -> 19 | C20: =(C59) -> 0 | D20: =(D59) -> 19 | E20: =(E59) -> 12 | F20: =(F59) -> 15 | G20: =(G59) -> 3 | H20: =(H59) -> 7 | I20: =(I59) -> 2 | ... L20: =(L59) -> 0 | N20: Aktivita - počítač | P20: =SUM(D32) -> 19
A21: Únor | B21: =(B85) -> 0 | C21: =(C85) -> 0 | D21: =(D85) -> 0 | E21: =(E85) -> 0 | F21: =(F85) -> 0 | G21: =(G85) -> 0 | H21: =(H85) -> 0 | I21: =(I85) -> 0 | ... L21: =(L85) -> 0 | N21: Aktivita - hudba | P21: =SUM(E32) -> 12
A22: Březen | B22: =(B112) -> 0 | C22: =(C112) -> 0 | D22: =(D112) -> 0 | E22: =(E112) -> 0 | F22: =(F112) -> 0 | G22: =(G112) -> 0 | H22: =(H112) -> 0 | I22: =(I112) -> 0 | ... L22: =(L112) -> 0 | N22: Aktivita - hry | P22: =SUM(F32) -> 15
A23: Duben | B23: =(B140) -> 0 | C23: =(C140) -> 0 | D23: =(D140) -> 0 | E23: =(E140) -> 0 | F23: =(F140) -> 0 | G23: =(G140) -> 0 | H23: =(H140) -> 0 | I23: =(I140) -> 0 | ... L23: =(L140) -> 0 | N23: Aktivita - VV | P23: =SUM(G32) -> 3
A24: Květen | B24: =(B168) -> 0 | C24: =(C168) -> 0 | D24: =(D168) -> 0 | E24: =(E168) -> 0 | F24: =(F168) -> 0 | G24: =(G168) -> 0 | H24: =(H168) -> 0 | I24: =(I168) -> 0 | ... L24: =(L168) -> 0 | N24: Aktivita - tanec | P24: =SUM(H32) -> 7
A25: Červen | B25: =(B195) -> 0 | C25: =(C195) -> 0 | D25: =(D195) -> 0 | E25: =(E195) -> 0 | F25: =(F195) -> 0 | G25: =(G195) -> 0 | H25: =(H195) -> 0 | I25: =(I195) -> 0 | ... L25: =(L195) -> 0 | N25: Aktivita - zpěv | P25: =SUM(I32) -> 2
A26: Červenec | B26: =(B224) -> 0 | C26: =(C224) -> 0 | D26: =(D224) -> 0 | E26: =(E224) -> 0 | F26: =(F224) -> 0 | G26: =(G224) -> 0 | H26: =(H224) -> 0 | I26: =(I224) -> 0 | ... L26: =(L224) -> 0 | N26: Aktivita - DVD | P26: =SUM(J32) -> 1
A27: Srpen | B27: =(B251) -> 0 | C27: =(C251) -> 0 | D27: =(D251) -> 0 | E27: =(E251) -> 0 | F27: =(F251) -> 0 | G27: =(G251) -> 0 | H27: =(H251) -> 0 | I27: =(I251) -> 0 | ... L27: =(L251) -> 0 | N27: Aktivita - out | P27: =SUM(K32) -> 0
A28: Září | B28: =(B279) -> 0 | C28: =(C279) -> 0 | D28: =(D279) -> 0 | E28: =(E279) -> 0 | F28: =(F279) -> 0 | G28: =(G279) -> 0 | H28: =(H279) -> 0 | I28: =(I279) -> 0 | ... L28: =(L279) -> 0 | N28: Komunikace se SP | P28: =SUM(L32) -> 0
A29: Říjen | B29: =(B308) -> 0 | C29: =(C308) -> 0 | D29: =(D308) -> 0 | E29: =(E308) -> 0 | F29: =(F308) -> 0 | G29: =(G308) -> 0 | H29: =(H308) -> 0 | I29: =(I308) -> 0 | ... L29: =(L308) -> 0
A30: Listopad | B30: =(B334) -> 0 | C30: =(C334) -> 0 | D30: =(D334) -> 0 | E30: =(E334) -> 0 | F30: =(F334) -> 0 | G30: =(G334) -> 0 | H30: =(H334) -> 0 | I30: =(I334) -> 0 | ... L30: =(L334) -> 0
A31: Prosinec | B31: =(B363) -> 0 | C31: =(C363) -> 0 | D31: =(D363) -> 0 | E31: =(E363) -> 0 | F31: =(F363) -> 0 | G31: =(G363) -> 0 | H31: =(H363) -> 0 | I31: =(I363) -> 0 | ... L31: =(L363) -> 0
A32: Celkem | B32: =SUM(B20:B31) -> 19 | C32: =SUM(C20:C31) -> 0 | D32: =SUM(D20:D31) -> 19 | E32: =SUM(E20:E31) -> 12 | F32: =SUM(F20:F31) -> 15 | G32: =SUM(G20:G31) -> 3 | H32: =SUM(H20:H31) -> 7 | I32: =SUM(I20:I31) -> 2 | ... L32: =SUM(L20:L31) -> 0
A36: Leden - 2014
A38: Datum | B38: Docházka | C38: Učení | D38: Počítač | E38: Hudba | F38: Hry | G38: VV | H38: Tanec | I38: Zpěv | J38: DVD | K38: Out | L38: SP | M38: pochvaly / pokárání
A40: 41645 | B40: 1 | D40: 1 | E40: 1 | F40: 1 | H40: 1
A41: 41646 | B41: 1 | D41: 1 | E41: 1 | F41: 1
A42: 41647 | B42: 1 | D42: 1 | E42: 1 | F42: 1
A43: 41648 | B43: 1 | D43: 1
A44: 41649 | B44: 1 | D44: 1 | F44: 1
A45: 41652 | B45: 1 | D45: 1
A46: 41653 | B46: 1 | D46: 1 | F46: 1
A47: 41654 | B47: 1 | D47: 1 | F47: 1 | H47: 1 | I47: 1
A48: 41655 | B48: 1 | D48: 1 | E48: 1 | F48: 1 | H48: 1
A49: 41656 | B49: 1 | D49: 1 | E49: 1 | F49: 1 | H49: 1
A50: 41659 | B50: 1 | D50: 1 | E50: 1 | F50: 1 | G50: 1
A51: 41660 | B51: 1 | D51: 1 | F51: 1
A52: 41661 | B52: 1 | D52: 1 | E52: 1 | H52: 1
A53: 41662 | B53: 1 | D53: 1 | E53: 1 | F53: 1
A54: 41663 | B54: 1 | D54: 1 | E54: 1 | H54: 1 | I54: 1 | J54: 1
A55: 41666 | B55: 1 | D55: 1 | E55: 1 | F55: 1
A56: 41667 | B56: 1 | D56: 1 | E56: 1 | F56: 1
...

Sheet Dominik Suchý
D2: Dominik
C3: Jméno | I3: Smlouva o poskytování sociální služby: | M3: NE | N3: Uzavřená dne:
D4: Suchý | I4: Souhlas se zpracováním osobních údajů: | M4: NE | N4: Uzavřený dne:
C5: Příjmení | I5: Individuální plán, přání a cíle klienta: | M5: NE | N5: Uzavřené dne:
C7: Rok nar. | I7: Individuální plán klienta | N7: Uzevřený dne (datum revize)
A16: Statistika klienta za rok 2014 | M16: Celkový přehled
A18: Měsíc | B18: Docházka | C18: Učení | D18: Počítač | E18: Hudba | F18: Hry | G18: VV | H18: Tanec | I18: Zpěv | J18: DVD | K18: Out | L18: SP | N18: Počet dnů v klubu Zvídálek | Q18: =SUM(B32) -> 49
N19: Pomoc při učení | P19: =SUM(C32) -> 0
A20: Leden | B20: =(B59) -> 13 | C20: =(C59) -> 0 | D20: =(D59) -> 10 | E20: =(E59) -> 13 | F20: =(F59) -> 7 | G20: =(G59) -> 4 | H20: =(H59) -> 0 | I20: =(I59) -> 0 | ... L20: =(L59) -> 0 | N20: Aktivita - počítač | P20: =SUM(D32) -> 29
A21: Únor | B21: =(B85) -> 14 | C21: =(C85) -> 0 | D21: =(D85) -> 11 | E21: =(E85) -> 14 | F21: =(F85) -> 2 | G21: =(G85) -> 5 | H21: =(H85) -> 0 | I21: =(I85) -> 0 | ... L21: =(L85) -> 0 | N21: Aktivita - hudba | P21: =SUM(E32) -> 47
A22: Březen | B22: =(B112) -> 8 | C22: =(C112) -> 0 | D22: =(D112) -> 3 | E22: =(E112) -> 8 | F22: =(F112) -> 5 | G22: =(G112) -> 1 | H22: =(H112) -> 0 | I22: =(I112) -> 0 | ... L22: =(L112) -> 0 | N22: Aktivita - hry | P22: =SUM(F32) -> 22
A23: Duben | B23: =(B140) -> 7 | C23: =(C140) -> 0 | D23: =(D140) -> 3 | E23: =(E140) -> 6 | F23: =(F140) -> 4 | G23: =(G140) -> 1 | H23: =(H140) -> 0 | I23: =(I140) -> 0 | ... L23: =(L140) -> 0 | N23: Aktivita - VV | P23: =SUM(G32) -> 11
A24: Květen | B24: =(B168) -> 4 | C24: =(C168) -> 0 | D24: =(D168) -> 2 | E24: =(E168) -> 4 | F24: =(F168) -> 2 | G24: =(G168) -> 0 | H24: =(H168) -> 0 | I24: =(I168) -> 0 | ... L24: =(L168) -> 0 | N24: Aktivita - tanec | P24: =SUM(H32) -> 0
A25: Červen | B25: =(B195) -> 2 | C25: =(C195) -> 0 | D25: =(D195) -> 0 | E25: =(E195) -> 1 | F25: =(F195) -> 2 | G25: =(G195) -> 0 | H25: =(H195) -> 0 | I25: =(I195) -> 0 | ... L25: =(L195) -> 0 | N25: Aktivita - zpěv | P25: =SUM(I32) -> 0
A26: Červenec | B26: =(B224) -> 1 | C26: =(C224) -> 0 | D26: =(D224) -> 0 | E26: =(E224) -> 1 | F26: =(F224) -> 0 | G26: =(G224) -> 0 | H26: =(H224) -> 0 | I26: =(I224) -> 0 | ... L26: =(L224) -> 0 | N26: Aktivita - DVD | P26: =SUM(J32) -> 5
A27: Srpen | B27: =(B251) -> 0 | C27: =(C251) -> 0 | D27: =(D251) -> 0 | E27: =(E251) -> 0 | F27: =(F251) -> 0 | G27: =(G251) -> 0 | H27: =(H251) -> 0 | I27: =(I251) -> 0 | ... L27: =(L251) -> 0 | N27: Aktivita - out | P27: =SUM(K32) -> 0
A28: Září | B28: =(B279) -> 0 | C28: =(C279) -> 0 | D28: =(D279) -> 0 | E28: =(E279) -> 0 | F28: =(F279) -> 0 | G28: =(G279) -> 0 | H28: =(H279) -> 0 | I28: =(I279) -> 0 | ... L28: =(L279) -> 0 | N28: Komunikace se SP | P28: =SUM(L32) -> 0
A29: Říjen | B29: =(B308) -> 0 | C29: =(C308) -> 0 | D29: =(D308) -> 0 | E29: =(E308) -> 0 | F29: =(F308) -> 0 | G29: =(G308) -> 0 | H29: =(H308) -> 0 | I29: =(I308) -> 0 | ... L29: =(L308) -> 0
A30: Listopad | B30: =(B334) -> 0 | C30: =(C334) -> 0 | D30: =(D334) -> 0 | E30: =(E334) -> 0 | F30: =(F334) -> 0 | G30: =(G334) -> 0 | H30: =(H334) -> 0 | I30: =(I334) -> 0 | ... L30: =(L334) -> 0
A31: Prosinec | B31: =(B363) -> 0 | C31: =(C363) -> 0 | D31: =(D363) -> 0 | E31: =(E363) -> 0 | F31: =(F363) -> 0 | G31: =(G363) -> 0 | H31: =(H363) -> 0 | I31: =(I363) -> 0 | ... L31: =(L363) -> 0
A32: Celkem | B32: =SUM(B20:B31) -> 49 | C32: =SUM(C20:C31) -> 0 | D32: =SUM(D20:D31) -> 29 | E32: =SUM(E20:E31) -> 47 | F32: =SUM(F20:F31) -> 22 | G32: =SUM(G20:G31) -> 11 | H32: =SUM(H20:H31) -> 0 | I32: =SUM(I20:I31) -> 0 | ... L32: =SUM(L20:L31) -> 0
A36: Leden - 2014
A38: Datum | B38: Docházka | C38: Učení | D38: Počítač | E38: Hudba | F38: Hry | G38: VV | H38: Tanec | I38: Zpěv | J38: DVD | K38: Out | L38: SP | M38: pochvaly / pokárání
A40: 41645 | B40: 1 | E40: 1 | G40: 1
A41: 41646 | B41: 1 | D41: 1 | E41: 1 | F41: 1 | G41: 1
A42: 41647 | B42: 1 | D42: 1 | E42: 1 | F42: 1 | G42: 1 | J42: 1
A43: 41648
A44: 41649 | B44: 1 | E44: 1
A45: 41652 | B45: 1 | D45: 1 | E45: 1
A46: 41653 | B46: 1 | D46: 1 | E46: 1 | F46: 1
A47: 41654
A48: 41655 | B48: 1 | D48: 1 | E48: 1 | F48: 1
A49: 41656 | B49: 1 | D49: 1 | E49: 1 | F49: 1
A50: 41659 | B50: 1 | D50: 1 | E50: 1 | F50: 1 | G50: 1
A51: 41660
A52: 41661 | B52: 1 | D52: 1 | E52: 1
A53: 41662 | B53: 1 | D53: 1 | E53: 1
A54: 41663
A55: 41666 | B55: 1 | E55: 1 | F55: 1
A56: 41667 | B56: 1 | D56: 1 | E56: 1
...

Sheet Erik Baláž
D2: Erik
C3: Jméno | I3: Smlouva o poskytování sociální služby: | M3: NE | N3: Uzavřená dne:
D4: Baláž | I4: Souhlas se zpracováním osobních údajů: | M4: NE | N4: Uzavřený dne:
C5: Příjmení | I5: Individuální plán, přání a cíle klienta: | M5: NE | N5: Uzavřené dne:
C7: Rok nar. | I7: Individuální plán klienta | N7: Uzevřený dne (datum revize)
A16: Statistika klienta za rok 2014 | M16: Celkový přehled
A18: Měsíc | B18: Docházka | C18: Učení | D18: Počítač | E18: Hudba | F18: Hry | G18: VV | H18: Tanec | I18: Zpěv | J18: DVD | K18: Out | L18: SP | N18: Počet dnů v klubu Zvídálek | Q18: =SUM(B32) -> 18
N19: Pomoc při učení | P19: =SUM(C32) -> 0
A20: Leden | B20: =(B59) -> 18 | C20: =(C59) -> 0 | D20: =(D59) -> 15 | E20: =(E59) -> 18 | F20: =(F59) -> 10 | G20: =(G59) -> 5 | H20: =(H59) -> 8 | I20: =(I59) -> 3 | ... L20: =(L59) -> 0 | N20: Aktivita - počítač | P20: =SUM(D32) -> 15
A21: Únor | B21: =(B85) -> 0 | C21: =(C85) -> 0 | D21: =(D85) -> 0 | E21: =(E85) -> 0 | F21: =(F85) -> 0 | G21: =(G85) -> 0 | H21: =(H85) -> 0 | I21: =(I85) -> 0 | ... L21: =(L85) -> 0 | N21: Aktivita - hudba | P21: =SUM(E32) -> 18
A22: Březen | B22: =(B112) -> 0 | C22: =(C112) -> 0 | D22: =(D112) -> 0 | E22: =(E112) -> 0 | F22: =(F112) -> 0 | G22: =(G112) -> 0 | H22: =(H112) -> 0 | I22: =(I112) -> 0 | ... L22: =(L112) -> 0 | N22: Aktivita - hry | P22: =SUM(F32) -> 10
A23: Duben | B23: =(B140) -> 0 | C23: =(C140) -> 0 | D23: =(D140) -> 0 | E23: =(E140) -> 0 | F23: =(F140) -> 0 | G23: =(G140) -> 0 | H23: =(H140) -> 0 | I23: =(I140) -> 0 | ... L23: =(L140) -> 0 | N23: Aktivita - VV | P23: =SUM(G32) -> 5
A24: Květen | B24: =(B168) -> 0 | C24: =(C168) -> 0 | D24: =(D168) -> 0 | E24: =(E168) -> 0 | F24: =(F168) -> 0 | G24: =(G168) -> 0 | H24: =(H168) -> 0 | I24: =(I168) -> 0 | ... L24: =(L168) -> 0 | N24: Aktivita - tanec | P24: =SUM(H32) -> 8
A25: Červen | B25: =(B195) -> 0 | C25: =(C195) -> 0 | D25: =(D195) -> 0 | E25: =(E195) -> 0 | F25: =(F195) -> 0 | G25: =(G195) -> 0 | H25: =(H195) -> 0 | I25: =(I195) -> 0 | ... L25: =(L195) -> 0 | N25: Aktivita - zpěv | P25: =SUM(I32) -> 3
A26: Červenec | B26: =(B224) -> 0 | C26: =(C224) -> 0 | D26: =(D224) -> 0 | E26: =(E224) -> 0 | F26: =(F224) -> 0 | G26: =(G224) -> 0 | H26: =(H224) -> 0 | I26: =(I224) -> 0 | ... L26: =(L224) -> 0 | N26: Aktivita - DVD | P26: =SUM(J32) -> 2
A27: Srpen | B27: =(B251) -> 0 | C27: =(C251) -> 0 | D27: =(D251) -> 0 | E27: =(E251) -> 0 | F27: =(F251) -> 0 | G27: =(G251) -> 0 | H27: =(H251) -> 0 | I27: =(I251) -> 0 | ... L27: =(L251) -> 0 | N27: Aktivita - out | P27: =SUM(K32) -> 0
A28: Září | B28: =(B279) -> 0 | C28: =(C279) -> 0 | D28: =(D279) -> 0 | E28: =(E279) -> 0 | F28: =(F279) -> 0 | G28: =(G279) -> 0 | H28: =(H279) -> 0 | I28: =(I279) -> 0 | ... L28: =(L279) -> 0 | N28: Komunikace se SP | P28: =SUM(L32) -> 0
A29: Říjen | B29: =(B308) -> 0 | C29: =(C308) -> 0 | D29: =(D308) -> 0 | E29: =(E308) -> 0 | F29: =(F308) -> 0 | G29: =(G308) -> 0 | H29: =(H308) -> 0 | I29: =(I308) -> 0 | ... L29: =(L308) -> 0
A30: Listopad | B30: =(B334) -> 0 | C30: =(C334) -> 0 | D30: =(D334) -> 0 | E30: =(E334) -> 0 | F30: =(F334) -> 0 | G30: =(G334) -> 0 | H30: =(H334) -> 0 | I30: =(I334) -> 0 | ... L30: =(L334) -> 0
A31: Prosinec | B31: =(B363) -> 0 | C31: =(C363) -> 0 | D31: =(D363) -> 0 | E31: =(E363) -> 0 | F31: =(F363) -> 0 | G31: =(G363) -> 0 | H31: =(H363) -> 0 | I31: =(I363) -> 0 | ... L31: =(L363) -> 0
A32: Celkem | B32: =SUM(B20:B31) -> 18 | C32: =SUM(C20:C31) -> 0 | D32: =SUM(D20:D31) -> 15 | E32: =SUM(E20:E31) -> 18 | F32: =SUM(F20:F31) -> 10 | G32: =SUM(G20:G31) -> 5 | H32: =SUM(H20:H31) -> 8 | I32: =SUM(I20:I31) -> 3 | ... L32: =SUM(L20:L31) -> 0
A36: Leden - 2014
A38: Datum | B38: Docházka | C38: Učení | D38: Počítač | E38: Hudba | F38: Hry | G38: VV | H38: Tanec | I38: Zpěv | J38: DVD | K38: Out | L38: SP | M38: pochvaly / pokárání
A40: 41645 | B40: 1 | E40: 1
A41: 41646 | B41: 1 | D41: 1 | E41: 1 | F41: 1 | G41: 1
A42: 41647 | B42: 1 | D42: 1 | E42: 1 | H42: 1
A43: 41648 | B43: 1 | D43: 1 | E43: 1 | F43: 1
A44: 41649 | B44: 1 | E44: 1
A45: 41652 | B45: 1 | D45: 1 | E45: 1 | G45: 1
A46: 41653 | B46: 1 | D46: 1 | E46: 1 | F46: 1 | H46: 1
A47: 41654 | B47: 1 | D47: 1 | E47: 1 | F47: 1 | G47: 1 | H47: 1
A48: 41655 | B48: 1 | D48: 1 | E48: 1 | F48: 1 | G48: 1 | H48: 1
A49: 41656
A50: 41659 | B50: 1 | D50: 1 | E50: 1 | F50: 1 | H50: 1 | I50: 1
A51: 41660 | B51: 1 | E51: 1 | G51: 1
A52: 41661 | B52: 1 | D52: 1 | E52: 1 | F52: 1 | H52: 1 | I52: 1
A53: 41662 | B53: 1 | D53: 1 | E53: 1 | H53: 1 | J53: 1
A54: 41663 | B54: 1 | D54: 1 | E54: 1 | F54: 1
A55: 41666 | B55: 1 | D55: 1 | E55: 1
A56: 41667 | B56: 1 | D56: 1 | E56: 1
...

Sheet Erik Kumai
D2: Erik
C3: Jméno | I3: Smlouva o poskytování sociální služby: | M3: NE | N3: Uzavřená dne:
D4: Kumai | I4: Souhlas se zpracováním osobních údajů: | M4: NE | N4: Uzavřený dne:
C5: Příjmení | I5: Individuální plán, přání a cíle klienta: | M5: NE | N5: Uzavřené dne:
C7: Rok nar. | I7: Individuální plán klienta | N7: Uzevřený dne (datum revize)
A16: Statistika klienta za rok 2014 | M16: Celkový přehled
A18: Měsíc | B18: Docházka | C18: Učení | D18: Počítač | E18: Hudba | F18: Hry | G18: VV | H18: Tanec | I18: Zpěv | J18: DVD | K18: Out | L18: SP | N18: Počet dnů v klubu Zvídálek | Q18: =SUM(B32) -> 77
N19: Pomoc při učení | P19: =SUM(C32) -> 0
A20: Leden | B20: =(B59) -> 15 | C20: =(C59) -> 0 | D20: =(D59) -> 13 | E20: =(E59) -> 14 | F20: =(F59) -> 8 | G20: =(G59) -> 1 | H20: =(H59) -> 1 | I20: =(I59) -> 1 | ... L20: =(L59) -> 0 | N20: Aktivita - počítač | P20: =SUM(D32) -> 60
A21: Únor | B21: =(B85) -> 18 | C21: =(C85) -> 0 | D21: =(D85) -> 17 | E21: =(E85) -> 16 | F21: =(F85) -> 3 | G21: =(G85) -> 1 | H21: =(H85) -> 1 | I21: =(I85) -> 0 | ... L21: =(L85) -> 0 | N21: Aktivita - hudba | P21: =SUM(E32) -> 68
A22: Březen | B22: =(B112) -> 18 | C22: =(C112) -> 0 | D22: =(D112) -> 15 | E22: =(E112) -> 17 | F22: =(F112) -> 4 | G22: =(G112) -> 0 | H22: =(H112) -> 0 | I22: =(I112) -> 0 | ... L22: =(L112) -> 0 | N22: Aktivita - hry | P22: =SUM(F32) -> 20
A23: Duben | B23: =(B140) -> 12 | C23: =(C140) -> 0 | D23: =(D140) -> 8 | E23: =(E140) -> 10 | F23: =(F140) -> 2 | G23: =(G140) -> 0 | H23: =(H140) -> 0 | I23: =(I140) -> 0 | ... L23: =(L140) -> 0 | N23: Aktivita - VV | P23: =SUM(G32) -> 3
A24: Květen | B24: =(B168) -> 5 | C24: =(C168) -> 0 | D24: =(D168) -> 2 | E24: =(E168) -> 4 | F24: =(F168) -> 0 | G24: =(G168) -> 0 | H24: =(H168) -> 0 | I24: =(I168) -> 0 | ... L24: =(L168) -> 0 | N24: Aktivita - tanec | P24: =SUM(H32) -> 2
A25: Červen | B25: =(B195) -> 0 | C25: =(C195) -> 0 | D25: =(D195) -> 0 | E25: =(E195) -> 0 | F25: =(F195) -> 0 | G25: =(G195) -> 0 | H25: =(H195) -> 0 | I25: =(I195) -> 0 | ... L25: =(L195) -> 0 | N25: Aktivita - zpěv | P25: =SUM(I32) -> 1
A26: Červenec | B26: =(B224) -> 5 | C26: =(C224) -> 0 | D26: =(D224) -> 2 | E26: =(E224) -> 4 | F26: =(F224) -> 2 | G26: =(G224) -> 1 | H26: =(H224) -> 0 | I26: =(I224) -> 0 | ... L26: =(L224) -> 0 | N26: Aktivita - DVD | P26: =SUM(J32) -> 5
A27: Srpen | B27: =(B251) -> 4 | C27: =(C251) -> 0 | D27: =(D251) -> 3 | E27: =(E251) -> 3 | F27: =(F251) -> 1 | G27: =(G251) -> 0 | H27: =(H251) -> 0 | I27: =(I251) -> 0 | ... L27: =(L251) -> 0 | N27: Aktivita - out | P27: =SUM(K32) -> 1
A28: Září | B28: =(B279) -> 0 | C28: =(C279) -> 0 | D28: =(D279) -> 0 | E28: =(E279) -> 0 | F28: =(F279) -> 0 | G28: =(G279) -> 0 | H28: =(H279) -> 0 | I28: =(I279) -> 0 | ... L28: =(L279) -> 0 | N28: Komunikace se SP | P28: =SUM(L32) -> 0
A29: Říjen | B29: =(B308) -> 0 | C29: =(C308) -> 0 | D29: =(D308) -> 0 | E29: =(E308) -> 0 | F29: =(F308) -> 0 | G29: =(G308) -> 0 | H29: =(H308) -> 0 | I29: =(I308) -> 0 | ... L29: =(L308) -> 0
A30: Listopad | B30: =(B334) -> 0 | C30: =(C334) -> 0 | D30: =(D334) -> 0 | E30: =(E334) -> 0 | F30: =(F334) -> 0 | G30: =(G334) -> 0 | H30: =(H334) -> 0 | I30: =(I334) -> 0 | ... L30: =(L334) -> 0
A31: Prosinec | B31: =(B363) -> 0 | C31: =(C363) -> 0 | D31: =(D363) -> 0 | E31: =(E363) -> 0 | F31: =(F363) -> 0 | G31: =(G363) -> 0 | H31: =(H363) -> 0 | I31: =(I363) -> 0 | ... L31: =(L363) -> 0
A32: Celkem | B32: =SUM(B20:B31) -> 77 | C32: =SUM(C20:C31) -> 0 | D32: =SUM(D20:D31) -> 60 | E32: =SUM(E20:E31) -> 68 | F32: =SUM(F20:F31) -> 20 | G32: =SUM(G20:G31) -> 3 | H32: =SUM(H20:H31) -> 2 | I32: =SUM(I20:I31) -> 1 | ... L32: =SUM(L20:L31) -> 0
A36: Leden - 2014
A38: Datum | B38: Docházka | C38: Učení | D38: Počítač | E38: Hudba | F38: Hry | G38: VV | H38: Tanec | I38: Zpěv | J38: DVD | K38: Out | L38: SP | M38: pochvaly / pokárání
A40: 41645 | B40: 1 | E40: 1
A41: 41646 | B41: 1 | D41: 1 | E41: 1 | F41: 1
A42: 41647 | I42: 1
A43: 41648 | B43: 1 | D43: 1 | E43: 1 | F43: 1 | H43: 1
A44: 41649 | B44: 1 | D44: 1 | F44: 1
A45: 41652
A46: 41653 | B46: 1 | D46: 1 | E46: 1 | F46: 1
A47: 41654 | B47: 1 | D47: 1 | E47: 1 | F47: 1
A48: 41655 | B48: 1 | D48: 1 | E48: 1 | F48: 1
A49: 41656 | B49: 1 | D49: 1 | E49: 1 | F49: 1 | G49: 1
A50: 41659 | B50: 1 | D50: 1 | E50: 1 | F50: 1
A51: 41660 | B51: 1 | D51: 1 | E51: 1
A52: 41661 | B52: 1 | D52: 1 | E52: 1
A53: 41662 | B53: 1 | D53: 1 | E53: 1 | J53: 1
A54: 41663
A55: 41666 | B55: 1 | D55: 1 | E55: 1
A56: 41667 | B56: 1 | D56: 1 | E56: 1
...

Sheet Erik Suhý
D2: Erik
C3: Jméno | I3: Smlouva o poskytování sociální služby: | M3: NE | N3: Uzavřená dne:
D4: Suchý | I4: Souhlas se zpracováním osobních údajů: | M4: NE | N4: Uzavřený dne:
C5: Příjmení | I5: Individuální plán, přání a cíle klienta: | M5: NE | N5: Uzavřené dne:
C7: Rok nar. | I7: Individuální plán klienta | N7: Uzevřený dne (datum revize)
A16: Statistika klienta za rok 2014 | M16: Celkový přehled
A18: Měsíc | B18: Docházka | C18: Učení | D18: Počítač | E18: Hudba | F18: Hry | G18: VV | H18: Tanec | I18: Zpěv | J18: DVD | K18: Out | L18: SP | N18: Počet dnů v klubu Zvídálek | Q18: =SUM(B32) -> 3
N19: Pomoc při učení | P19: =SUM(C32) -> 0
A20: Leden | B20: =(B59) -> 0 | C20: =(C59) -> 0 | D20: =(D59) -> 0 | E20: =(E59) -> 0 | F20: =(F59) -> 0 | G20: =(G59) -> 0 | H20: =(H59) -> 0 | I20: =(I59) -> 0 | ... L20: =(L59) -> 0 | N20: Aktivita - počítač | P20: =SUM(D32) -> 2
A21: Únor | B21: =(B85) -> 3 | C21: =(C85) -> 0 | D21: =(D85) -> 2 | E21: =(E85) -> 3 | F21: =(F85) -> 0 | G21: =(G85) -> 0 | H21: =(H85) -> 0 | I21: =(I85) -> 0 | ... L21: =(L85) -> 0 | N21: Aktivita - hudba | P21: =SUM(E32) -> 3
A22: Březen | B22: =(B112) -> 0 | C22: =(C112) -> 0 | D22: =(D112) -> 0 | E22: =(E112) -> 0 | F22: =(F112) -> 0 | G22: =(G112) -> 0 | H22: =(H112) -> 0 | I22: =(I112) -> 0 | ... L22: =(L112) -> 0 | N22: Aktivita - hry | P22: =SUM(F32) -> 0
A23: Duben | B23: =(B140) -> 0 | C23: =(C140) -> 0 | D23: =(D140) -> 0 | E23: =(E140) -> 0 | F23: =(F140) -> 0 | G23: =(G140) -> 0 | H23: =(H140) -> 0 | I23: =(I140) -> 0 | ... L23: =(L140) -> 0 | N23: Aktivita - VV | P23: =SUM(G32) -> 0
A24: Květen | B24: =(B168) -> 0 | C24: =(C168) -> 0 | D24: =(D168) -> 0 | E24: =(E168) -> 0 | F24: =(F168) -> 0 | G24: =(G168) -> 0 | H24: =(H168) -> 0 | I24: =(I168) -> 0 | ... L24: =(L168) -> 0 | N24: Aktivita - tanec | P24: =SUM(H32) -> 0
