Workbook

Sheet List1
A1: KOD
A2: 83040522 | B2: {=IFERROR(INDEX(List2!$A$1:$B$307,SMALL(IF(List2!$A$2:$A$307=$A2,ROW(List2!$A$2:$A$307)),ROW($1:$1)),2),"")} | C2: {=IFERROR(INDEX(List2!$A$1:$B$307,SMALL(IF(List2!$A$2:$A$307=$A2,ROW(List2!$A$2:$A$307)),ROW($2:$2)),2),"")} | D2: {=IFERROR(INDEX(List2!$A$1:$B$307,SMALL(IF(List2!$A$2:$A$307=$A2,ROW(List2!$A$2:$A$307)),ROW($3:$3)),2),"")} | E2: {=IFERROR(INDEX(List2!$A$1:$B$307,SMALL(IF(List2!$A$2:$A$307=$A2,ROW(List2!$A$2:$A$307)),ROW($4:$4)),2),"")} | F2: {=IFERROR(INDEX(List2!$A$1:$B$307,SMALL(IF(List2!$A$2:$A$307=$A2,ROW(List2!$A$2:$A$307)),ROW($5:$5)),2),"")}
A3: 83052524 | B3: {=IFERROR(INDEX(List2!$A$1:$B$307,SMALL(IF(List2!$A$2:$A$307=$A3,ROW(List2!$A$2:$A$307)),ROW($1:$1)),2),"")} -> 201910 | C3: {=IFERROR(INDEX(List2!$A$1:$B$307,SMALL(IF(List2!$A$2:$A$307=$A3,ROW(List2!$A$2:$A$307)),ROW($2:$2)),2),"")} | D3: {=IFERROR(INDEX(List2!$A$1:$B$307,SMALL(IF(List2!$A$2:$A$307=$A3,ROW(List2!$A$2:$A$307)),ROW($3:$3)),2),"")} | E3: {=IFERROR(INDEX(List2!$A$1:$B$307,SMALL(IF(List2!$A$2:$A$307=$A3,ROW(List2!$A$2:$A$307)),ROW($4:$4)),2),"")} | F3: {=IFERROR(INDEX(List2!$A$1:$B$307,SMALL(IF(List2!$A$2:$A$307=$A3,ROW(List2!$A$2:$A$307)),ROW($5:$5)),2),"")}
A4: 83073534 | B4: {=IFERROR(INDEX(List2!$A$1:$B$307,SMALL(IF(List2!$A$2:$A$307=$A4,ROW(List2!$A$2:$A$307)),ROW($1:$1)),2),"")} | C4: {=IFERROR(INDEX(List2!$A$1:$B$307,SMALL(IF(List2!$A$2:$A$307=$A4,ROW(List2!$A$2:$A$307)),ROW($2:$2)),2),"")} | D4: {=IFERROR(INDEX(List2!$A$1:$B$307,SMALL(IF(List2!$A$2:$A$307=$A4,ROW(List2!$A$2:$A$307)),ROW($3:$3)),2),"")} | E4: {=IFERROR(INDEX(List2!$A$1:$B$307,SMALL(IF(List2!$A$2:$A$307=$A4,ROW(List2!$A$2:$A$307)),ROW($4:$4)),2),"")} | F4: {=IFERROR(INDEX(List2!$A$1:$B$307,SMALL(IF(List2!$A$2:$A$307=$A4,ROW(List2!$A$2:$A$307)),ROW($5:$5)),2),"")}
A5: 83075524 | B5: {=IFERROR(INDEX(List2!$A$1:$B$307,SMALL(IF(List2!$A$2:$A$307=$A5,ROW(List2!$A$2:$A$307)),ROW($1:$1)),2),"")} | C5: {=IFERROR(INDEX(List2!$A$1:$B$307,SMALL(IF(List2!$A$2:$A$307=$A5,ROW(List2!$A$2:$A$307)),ROW($2:$2)),2),"")} | D5: {=IFERROR(INDEX(List2!$A$1:$B$307,SMALL(IF(List2!$A$2:$A$307=$A5,ROW(List2!$A$2:$A$307)),ROW($3:$3)),2),"")} | E5: {=IFERROR(INDEX(List2!$A$1:$B$307,SMALL(IF(List2!$A$2:$A$307=$A5,ROW(List2!$A$2:$A$307)),ROW($4:$4)),2),"")} | F5: {=IFERROR(INDEX(List2!$A$1:$B$307,SMALL(IF(List2!$A$2:$A$307=$A5,ROW(List2!$A$2:$A$307)),ROW($5:$5)),2),"")}
A6: 83038520 | B6: {=IFERROR(INDEX(List2!$A$1:$B$307,SMALL(IF(List2!$A$2:$A$307=$A6,ROW(List2!$A$2:$A$307)),ROW($1:$1)),2),"")} | C6: {=IFERROR(INDEX(List2!$A$1:$B$307,SMALL(IF(List2!$A$2:$A$307=$A6,ROW(List2!$A$2:$A$307)),ROW($2:$2)),2),"")} | D6: {=IFERROR(INDEX(List2!$A$1:$B$307,SMALL(IF(List2!$A$2:$A$307=$A6,ROW(List2!$A$2:$A$307)),ROW($3:$3)),2),"")} | E6: {=IFERROR(INDEX(List2!$A$1:$B$307,SMALL(IF(List2!$A$2:$A$307=$A6,ROW(List2!$A$2:$A$307)),ROW($4:$4)),2),"")} | F6: {=IFERROR(INDEX(List2!$A$1:$B$307,SMALL(IF(List2!$A$2:$A$307=$A6,ROW(List2!$A$2:$A$307)),ROW($5:$5)),2),"")}
A7: 82052254 | B7: {=IFERROR(INDEX(List2!$A$1:$B$307,SMALL(IF(List2!$A$2:$A$307=$A7,ROW(List2!$A$2:$A$307)),ROW($1:$1)),2),"")} -> 201834 | C7: {=IFERROR(INDEX(List2!$A$1:$B$307,SMALL(IF(List2!$A$2:$A$307=$A7,ROW(List2!$A$2:$A$307)),ROW($2:$2)),2),"")} | D7: {=IFERROR(INDEX(List2!$A$1:$B$307,SMALL(IF(List2!$A$2:$A$307=$A7,ROW(List2!$A$2:$A$307)),ROW($3:$3)),2),"")} | E7: {=IFERROR(INDEX(List2!$A$1:$B$307,SMALL(IF(List2!$A$2:$A$307=$A7,ROW(List2!$A$2:$A$307)),ROW($4:$4)),2),"")} | F7: {=IFERROR(INDEX(List2!$A$1:$B$307,SMALL(IF(List2!$A$2:$A$307=$A7,ROW(List2!$A$2:$A$307)),ROW($5:$5)),2),"")}
A8: 82052224 | B8: {=IFERROR(INDEX(List2!$A$1:$B$307,SMALL(IF(List2!$A$2:$A$307=$A8,ROW(List2!$A$2:$A$307)),ROW($1:$1)),2),"")} -> 201834 | C8: {=IFERROR(INDEX(List2!$A$1:$B$307,SMALL(IF(List2!$A$2:$A$307=$A8,ROW(List2!$A$2:$A$307)),ROW($2:$2)),2),"")} | D8: {=IFERROR(INDEX(List2!$A$1:$B$307,SMALL(IF(List2!$A$2:$A$307=$A8,ROW(List2!$A$2:$A$307)),ROW($3:$3)),2),"")} | E8: {=IFERROR(INDEX(List2!$A$1:$B$307,SMALL(IF(List2!$A$2:$A$307=$A8,ROW(List2!$A$2:$A$307)),ROW($4:$4)),2),"")} | F8: {=IFERROR(INDEX(List2!$A$1:$B$307,SMALL(IF(List2!$A$2:$A$307=$A8,ROW(List2!$A$2:$A$307)),ROW($5:$5)),2),"")}
A9: 82063224 | B9: {=IFERROR(INDEX(List2!$A$1:$B$307,SMALL(IF(List2!$A$2:$A$307=$A9,ROW(List2!$A$2:$A$307)),ROW($1:$1)),2),"")} -> 201722 | C9: {=IFERROR(INDEX(List2!$A$1:$B$307,SMALL(IF(List2!$A$2:$A$307=$A9,ROW(List2!$A$2:$A$307)),ROW($2:$2)),2),"")} -> 201748 | D9: {=IFERROR(INDEX(List2!$A$1:$B$307,SMALL(IF(List2!$A$2:$A$307=$A9,ROW(List2!$A$2:$A$307)),ROW($3:$3)),2),"")} -> 201803 | E9: {=IFERROR(INDEX(List2!$A$1:$B$307,SMALL(IF(List2!$A$2:$A$307=$A9,ROW(List2!$A$2:$A$307)),ROW($4:$4)),2),"")} -> 201834 | F9: {=IFERROR(INDEX(List2!$A$1:$B$307,SMALL(IF(List2!$A$2:$A$307=$A9,ROW(List2!$A$2:$A$307)),ROW($5:$5)),2),"")}
A10: 82073224 | B10: {=IFERROR(INDEX(List2!$A$1:$B$307,SMALL(IF(List2!$A$2:$A$307=$A10,ROW(List2!$A$2:$A$307)),ROW($1:$1)),2),"")} -> 201722 | C10: {=IFERROR(INDEX(List2!$A$1:$B$307,SMALL(IF(List2!$A$2:$A$307=$A10,ROW(List2!$A$2:$A$307)),ROW($2:$2)),2),"")} -> 201734 | D10: {=IFERROR(INDEX(List2!$A$1:$B$307,SMALL(IF(List2!$A$2:$A$307=$A10,ROW(List2!$A$2:$A$307)),ROW($3:$3)),2),"")} -> 201834 | E10: {=IFERROR(INDEX(List2!$A$1:$B$307,SMALL(IF(List2!$A$2:$A$307=$A10,ROW(List2!$A$2:$A$307)),ROW($4:$4)),2),"")} | F10: {=IFERROR(INDEX(List2!$A$1:$B$307,SMALL(IF(List2!$A$2:$A$307=$A10,ROW(List2!$A$2:$A$307)),ROW($5:$5)),2),"")}
A11: 90008000 | B11: {=IFERROR(INDEX(List2!$A$1:$B$307,SMALL(IF(List2!$A$2:$A$307=$A11,ROW(List2!$A$2:$A$307)),ROW($1:$1)),2),"")} -> 201708 | C11: {=IFERROR(INDEX(List2!$A$1:$B$307,SMALL(IF(List2!$A$2:$A$307=$A11,ROW(List2!$A$2:$A$307)),ROW($2:$2)),2),"")} | D11: {=IFERROR(INDEX(List2!$A$1:$B$307,SMALL(IF(List2!$A$2:$A$307=$A11,ROW(List2!$A$2:$A$307)),ROW($3:$3)),2),"")} | E11: {=IFERROR(INDEX(List2!$A$1:$B$307,SMALL(IF(List2!$A$2:$A$307=$A11,ROW(List2!$A$2:$A$307)),ROW($4:$4)),2),"")} | F11: {=IFERROR(INDEX(List2!$A$1:$B$307,SMALL(IF(List2!$A$2:$A$307=$A11,ROW(List2!$A$2:$A$307)),ROW($5:$5)),2),"")}
A12: 90009000 | B12: {=IFERROR(INDEX(List2!$A$1:$B$307,SMALL(IF(List2!$A$2:$A$307=$A12,ROW(List2!$A$2:$A$307)),ROW($1:$1)),2),"")} -> 201708 | C12: {=IFERROR(INDEX(List2!$A$1:$B$307,SMALL(IF(List2!$A$2:$A$307=$A12,ROW(List2!$A$2:$A$307)),ROW($2:$2)),2),"")} -> 201712 | D12: {=IFERROR(INDEX(List2!$A$1:$B$307,SMALL(IF(List2!$A$2:$A$307=$A12,ROW(List2!$A$2:$A$307)),ROW($3:$3)),2),"")} | E12: {=IFERROR(INDEX(List2!$A$1:$B$307,SMALL(IF(List2!$A$2:$A$307=$A12,ROW(List2!$A$2:$A$307)),ROW($4:$4)),2),"")} | F12: {=IFERROR(INDEX(List2!$A$1:$B$307,SMALL(IF(List2!$A$2:$A$307=$A12,ROW(List2!$A$2:$A$307)),ROW($5:$5)),2),"")}
A13: 90012000 | B13: {=IFERROR(INDEX(List2!$A$1:$B$307,SMALL(IF(List2!$A$2:$A$307=$A13,ROW(List2!$A$2:$A$307)),ROW($1:$1)),2),"")} -> 201708 | C13: {=IFERROR(INDEX(List2!$A$1:$B$307,SMALL(IF(List2!$A$2:$A$307=$A13,ROW(List2!$A$2:$A$307)),ROW($2:$2)),2),"")} -> 201712 | D13: {=IFERROR(INDEX(List2!$A$1:$B$307,SMALL(IF(List2!$A$2:$A$307=$A13,ROW(List2!$A$2:$A$307)),ROW($3:$3)),2),"")} | E13: {=IFERROR(INDEX(List2!$A$1:$B$307,SMALL(IF(List2!$A$2:$A$307=$A13,ROW(List2!$A$2:$A$307)),ROW($4:$4)),2),"")} | F13: {=IFERROR(INDEX(List2!$A$1:$B$307,SMALL(IF(List2!$A$2:$A$307=$A13,ROW(List2!$A$2:$A$307)),ROW($5:$5)),2),"")}
... A423: 92477035 | B423: {=IFERROR(INDEX(List2!$A$1:$B$307,SMALL(IF(List2!$A$2:$A$307=$A423,ROW(List2!$A$2:$A$307)),ROW($1:$1)),2),"")} | C423: {=IFERROR(INDEX(List2!$A$1:$B$307,SMALL(IF(List2!$A$2:$A$307=$A423,ROW(List2!$A$2:$A$307)),ROW($2:$2)),2),"")} | D423: {=IFERROR(INDEX(List2!$A$1:$B$307,SMALL(IF(List2!$A$2:$A$307=$A423,ROW(List2!$A$2:$A$307)),ROW($3:$3)),2),"")} | E423: {=IFERROR(INDEX(List2!$A$1:$B$307,SMALL(IF(List2!$A$2:$A$307=$A423,ROW(List2!$A$2:$A$307)),ROW($4:$4)),2),"")} | F423: {=IFERROR(INDEX(List2!$A$1:$B$307,SMALL(IF(List2!$A$2:$A$307=$A423,ROW(List2!$A$2:$A$307)),ROW($5:$5)),2),"")}

Sheet List2
A1: KOD | B1: TYDEN | C1: MESIC
A2: 81040324 | B2: 201819 | C2: 2
A3: 81040324 | B3: 201910 | C3: 3
A4: 81053144 | B4: 201811 | C4: 3
A5: 81053144 | B5: 201819 | C5: 4
A6: 81053324 | B6: 201733 | C6: 3
A7: 81053324 | B7: 201819 | C7: 3
A8: 81053384 | B8: 201819 | C8: 2
A9: 81053394 | B9: 201733 | C9: 2
A10: 81053394 | B10: 201811 | C10: 2
A11: 81163145 | B11: 201744 | C11: 3
A12: 81163145 | B12: 201811 | C12: 3
A13: 81163145 | B13: 201811 | C13: 1
... A307: 97177004 | B307: 201736 | C307: 2

Sheet List3
