Workbook

Sheet List1
B1: Org | E1: Mnozstvo1 | I1: Gener | J1: Mnozstvo2
B2: ID1 | I2: ID2
B3: 121 | E3: 1.5 | I3: 321 | J3: 1.6
B4: 122 | E4: 2.1
B5: 123 | E5: 1.85 | I5: 323 | J5: 1.9
B6: 124 | E6: 2
B7: 125 | E7: 1.5 | I7: 325 | J7: 1.6
B8: 126 | E8: 2.2
B9: 127 | E9: 1.5 | I9: 327 | J9: 1.65
B10: 128 | E10: 1.8
B11: 129 | E11: 1.5 | I11: 329 | J11: 1.7
B12: 130 | E12: 1.8 | I12: 330 | J12: 1.9
B13: 131 | E13: 1.4
B14: 132 | E14: 3.9

Sheet List2
B1: O1 | E1: O2 | H1: O3 | K1: O4
B2: ID1 | D2: Mnozstvo1 | E2: ID1 | G2: Mnozstvo1 | H2: ID3 | J2: Mnozstvo3 | K2: ID1 | M2: Mnozstvo1
B3: 122 | D3: =List1!E4 -> 2.1 | E3: 121 | G3: =List1!E3 -> 1.5 | H3: 121 | J3: =List1!E3 -> 1.5 | K3: 122 | M3: =List1!E4 -> 2.1
B4: 123 | D4: =List1!E5 -> 1.85 | E4: 123 | G4: =List1!E5 -> 1.85 | H4: 123 | J4: =List1!E5 -> 1.85 | K4: 124 | M4: =List1!E6 -> 2
B5: 124 | D5: =List1!E6 -> 2 | E5: 125 | G5: =List1!E7 -> 1.5 | H5: 124 | J5: =List1!E6 -> 2 | K5: 126 | M5: =List1!E8 -> 2.2
B6: 126 | D6: =List1!E8 -> 2.2 | E6: 126 | G6: =List1!E8 -> 2.2 | H6: 125 | J6: =List1!E7 -> 1.5 | K6: 131 | M6: =List1!E13 -> 1.4
B7: 130 | D7: =List1!E12 -> 1.8 | E7: 132 | G7: =List1!E11 -> 1.5 | H7: 126 | J7: =List1!E8 -> 2.2 | K7: 132 | M7: =List1!E11 -> 1.5
C11: Najmensia hodnota v danom stlpci

Sheet List3
B1: Gen1 | E1: Gen2 | H1: Gen3 | K1: Gen4
B2: ID3 | D2: Mnozstvo3 | E2: ID3 | G2: Mnozstvo3 | H2: ID3 | J2: Mnozstvo3 | K2: ID3 | M2: Mnozstvo3
B3: =List2!B3 -> 122 | D3: =List2!D3 -> 2.1 | E3: =List2!E3 -> 121 | G3: =List2!G3 -> 1.5 | H3: =List1!I3 -> 321 | J3: =List1!J3 -> 1.6 | K3: =List2!K3 -> 122 | M3: =List2!M3 -> 2.1
B4: =List2!B4 -> 123 | D4: =List2!D4 -> 1.85 | E4: =List2!E4 -> 123 | G4: =List2!G4 -> 1.85 | H4: =List2!H4 -> 123 | J4: =List2!J4 -> 1.85 | K4: =List2!K4 -> 124 | M4: =List2!M4 -> 2
B5: =List2!B5 -> 124 | D5: =List2!D5 -> 2 | E5: =List2!E5 -> 125 | G5: =List2!G5 -> 1.5 | H5: =List2!H5 -> 124 | J5: =List2!J5 -> 2 | K5: =List2!K5 -> 126 | M5: =List2!M5 -> 2.2
B6: =List2!B6 -> 126 | D6: =List2!D6 -> 2.2 | E6: =List2!E6 -> 126 | G6: =List2!G6 -> 2.2 | H6: =List2!H6 -> 125 | J6: =List2!J6 -> 1.5 | K6: =List2!K6 -> 131 | M6: =List2!M6 -> 1.4
B7: =List1!I12 -> 330 | D7: =List1!J12 -> 1.9 | E7: =List1!I11 -> 329 | G7: =List1!J11 -> 1.7 | H7: =List2!H7 -> 126 | J7: =List2!J7 -> 2.2 | K7: =List2!K7 -> 132 | M7: =List2!M7 -> 1.5
C11: Najmensia hodnota zo stlpca na liste 2 nahradena zodpovedajucou maximalnou hodnotou z listu 1
C12: Hodnote zeleneho kriteria zodpovedajuci ID kod z listu 1
H14: Gen3
H15: ID3 | J15: Mnozstvo3
H16: =List2!H3 -> 121 | J16: =List2!J3 -> 1.5
H17: =List2!H4 -> 123 | J17: =List2!J4 -> 1.85
H18: =List2!H5 -> 124 | J18: =List2!J5 -> 2
H19: =List1!I7 -> 325 | J19: =List1!J7 -> 1.6
H20: =List2!H7 -> 126 | J20: =List2!J7 -> 2.2
