Workbook
Name FUNTAXI: '1.pololetí 2011'!$C$1:$C$2

Sheet absolutní pořadí
A1: ABSOLUTNÍ POŘADÍ OD LEDNA 2010
C2: jméno | D2: body | E2: her | N2: 2011
B3: 1 | C3: Igor | D3: =SUMIF('1.pololetí 2010'!$B$9:$B$20,C3,'1.pololetí 2010'!$C$9:$C$20)+SUMIF('2.pololetí 2010'!$B$9:$B$25,C3,'2.pololetí 2010'!$C$9:$C$25)+SUMIF('1.pololetí 2011'!$C$11:$C$31,C3,'1.pololetí 2011'!$D$11:$D$31)+SUMIF($R$6:$R$27,C3,$S$6:$S$27) -> 333 | E3: =SUMIF('1.pololetí 2010'!$B$9:$B$20,C3,'1.pololetí 2010'!$E$9:$E$20)+SUMIF('2.pololetí 2010'!$B$9:$B$25,C3,'2.pololetí 2010'!$E$9:$E$25)+SUMIF('1.pololetí 2011'!$C$11:$C$31,C3,'1.pololetí 2011'!$F$11:$F$31)+SUMIF($R$6:$R$27,C3,$U$6:$U$27) -> 61
B4: 2 | C4: Jáchym | D4: =SUMIF('1.pololetí 2010'!$B$9:$B$20,C4,'1.pololetí 2010'!$C$9:$C$20)+SUMIF('2.pololetí 2010'!$B$9:$B$25,C4,'2.pololetí 2010'!$C$9:$C$25)+SUMIF('1.pololetí 2011'!$C$11:$C$31,C4,'1.pololetí 2011'!$D$11:$D$31)+SUMIF($R$6:$R$27,C4,$S$6:$S$27) -> 288 | E4: =SUMIF('1.pololetí 2010'!$B$9:$B$20,C4,'1.pololetí 2010'!$E$9:$E$20)+SUMIF('2.pololetí 2010'!$B$9:$B$25,C4,'2.pololetí 2010'!$E$9:$E$25)+SUMIF('1.pololetí 2011'!$C$11:$C$31,C4,'1.pololetí 2011'!$F$11:$F$31)+SUMIF($R$6:$R$27,C4,$U$6:$U$27) -> 65 | I4: I. Pololetí | Q4: II. Pololetí
B5: 3 | C5: Ludwa | D5: =SUMIF('1.pololetí 2010'!$B$9:$B$20,C5,'1.pololetí 2010'!$C$9:$C$20)+SUMIF('2.pololetí 2010'!$B$9:$B$25,C5,'2.pololetí 2010'!$C$9:$C$25)+SUMIF('1.pololetí 2011'!$C$11:$C$31,C5,'1.pololetí 2011'!$D$11:$D$31)+SUMIF($R$6:$R$27,C5,$S$6:$S$27) -> 224 | E5: =SUMIF('1.pololetí 2010'!$B$9:$B$20,C5,'1.pololetí 2010'!$E$9:$E$20)+SUMIF('2.pololetí 2010'!$B$9:$B$25,C5,'2.pololetí 2010'!$E$9:$E$25)+SUMIF('1.pololetí 2011'!$C$11:$C$31,C5,'1.pololetí 2011'!$F$11:$F$31)+SUMIF($R$6:$R$27,C5,$U$6:$U$27) -> 64 | J5: Jméno: | K5: Body | L5: dokup | M5: odehráno | N5: Q body | O5: Q pořadí | R5: Jméno: | S5: Body | T5: dokup | U5: odehráno | V5: Q body | W5: Q pořadí
B6: 4 | C6: Mira | D6: =SUMIF('1.pololetí 2010'!$B$9:$B$20,C6,'1.pololetí 2010'!$C$9:$C$20)+SUMIF('2.pololetí 2010'!$B$9:$B$25,C6,'2.pololetí 2010'!$C$9:$C$25)+SUMIF('1.pololetí 2011'!$C$11:$C$31,C6,'1.pololetí 2011'!$D$11:$D$31)+SUMIF($R$6:$R$27,C6,$S$6:$S$27) -> 182 | E6: =SUMIF('1.pololetí 2010'!$B$9:$B$20,C6,'1.pololetí 2010'!$E$9:$E$20)+SUMIF('2.pololetí 2010'!$B$9:$B$25,C6,'2.pololetí 2010'!$E$9:$E$25)+SUMIF('1.pololetí 2011'!$C$11:$C$31,C6,'1.pololetí 2011'!$F$11:$F$31)+SUMIF($R$6:$R$27,C6,$U$6:$U$27) -> 37 | I6: 1 | J6: Igor | K6: 125 | L6: 25 | M6: 22 | N6: 5.6818182 | O6: 2.7727273 | Q6: 1 | R6: ='2.pololetí 2011'!C11 -> Igor | S6: ='2.pololetí 2011'!D11 -> 33 | T6: ='2.pololetí 2011'!E11 -> 2 | U6: ='2.pololetí 2011'!G11 -> 4 | V6: ='2.pololetí 2011'!H11 -> 7.75 | W6: ='2.pololetí 2011'!I11 -> 2.75
B7: 5 | C7: Dominik | D7: =SUMIF('1.pololetí 2010'!$B$9:$B$20,C7,'1.pololetí 2010'!$C$9:$C$20)+SUMIF('2.pololetí 2010'!$B$9:$B$25,C7,'2.pololetí 2010'!$C$9:$C$25)+SUMIF('1.pololetí 2011'!$C$11:$C$31,C7,'1.pololetí 2011'!$D$11:$D$31)+SUMIF($R$6:$R$27,C7,$S$6:$S$27) -> 133 | E7: =SUMIF('1.pololetí 2010'!$B$9:$B$20,C7,'1.pololetí 2010'!$E$9:$E$20)+SUMIF('2.pololetí 2010'!$B$9:$B$25,C7,'2.pololetí 2010'!$E$9:$E$25)+SUMIF('1.pololetí 2011'!$C$11:$C$31,C7,'1.pololetí 2011'!$F$11:$F$31)+SUMIF($R$6:$R$27,C7,$U$6:$U$27) -> 23 | I7: 2 | J7: Ludwa | K7: 104 | L7: 14 | M7: 22 | N7: 4.7272727 | O7: 3.5909091 | P7: T | Q7: 2 | R7: ='2.pololetí 2011'!C12 -> Mira | S7: ='2.pololetí 2011'!D12 -> 19 | T7: ='2.pololetí 2011'!E12 -> 5 | U7: ='2.pololetí 2011'!G12 -> 3 | V7: ='2.pololetí 2011'!H12 -> 6 | W7: ='2.pololetí 2011'!I12 -> 4.6666667
B8: 6 | C8: Jara hotel | D8: =SUMIF('1.pololetí 2010'!$B$9:$B$20,C8,'1.pololetí 2010'!$C$9:$C$20)+SUMIF('2.pololetí 2010'!$B$9:$B$25,C8,'2.pololetí 2010'!$C$9:$C$25)+SUMIF('1.pololetí 2011'!$C$11:$C$31,C8,'1.pololetí 2011'!$D$11:$D$31)+SUMIF($R$6:$R$27,C8,$S$6:$S$27) -> 113 | E8: =SUMIF('1.pololetí 2010'!$B$9:$B$20,C8,'1.pololetí 2010'!$E$9:$E$20)+SUMIF('2.pololetí 2010'!$B$9:$B$25,C8,'2.pololetí 2010'!$E$9:$E$25)+SUMIF('1.pololetí 2011'!$C$11:$C$31,C8,'1.pololetí 2011'!$F$11:$F$31)+SUMIF($R$6:$R$27,C8,$U$6:$U$27) -> 23 | I8: 3 | J8: Jáchym | K8: 101 | L8: 26 | M8: 21 | N8: 4.8095238 | O8: 3.4761905 | P8: U | Q8: 3 | R8: ='2.pololetí 2011'!C13 -> Ludwa | S8: ='2.pololetí 2011'!D13 -> 19 | T8: ='2.pololetí 2011'!E13 -> 2 | U8: ='2.pololetí 2011'!G13 -> 4 | V8: ='2.pololetí 2011'!H13 -> 4.75 | W8: ='2.pololetí 2011'!I13 -> 4.5
B9: 7 | C9: Markéta | D9: =SUMIF('1.pololetí 2010'!$B$9:$B$20,C9,'1.pololetí 2010'!$C$9:$C$20)+SUMIF('2.pololetí 2010'!$B$9:$B$25,C9,'2.pololetí 2010'!$C$9:$C$25)+SUMIF('1.pololetí 2011'!$C$11:$C$31,C9,'1.pololetí 2011'!$D$11:$D$31)+SUMIF($R$6:$R$27,C9,$S$6:$S$27) -> 111 | E9: =SUMIF('1.pololetí 2010'!$B$9:$B$20,C9,'1.pololetí 2010'!$E$9:$E$20)+SUMIF('2.pololetí 2010'!$B$9:$B$25,C9,'2.pololetí 2010'!$E$9:$E$25)+SUMIF('1.pololetí 2011'!$C$11:$C$31,C9,'1.pololetí 2011'!$F$11:$F$31)+SUMIF($R$6:$R$27,C9,$U$6:$U$27) -> 45 | H9: T | I9: 4 | J9: Mira | K9: 46 | L9: 20 | M9: 10 | N9: 4.6 | O9: 3.2 | P9: R | Q9: 4 | R9: ='2.pololetí 2011'!C14 -> Jáchym | S9: ='2.pololetí 2011'!D14 -> 15 | T9: ='2.pololetí 2011'!E14 -> 6 | U9: ='2.pololetí 2011'!G14 -> 3 | V9: ='2.pololetí 2011'!H14 -> 5.3333333 | W9: ='2.pololetí 2011'!I14 -> 4.6666667
B10: 8 | C10: Pecen | D10: =SUMIF('1.pololetí 2010'!$B$9:$B$20,C10,'1.pololetí 2010'!$C$9:$C$20)+SUMIF('2.pololetí 2010'!$B$9:$B$25,C10,'2.pololetí 2010'!$C$9:$C$25)+SUMIF('1.pololetí 2011'!$C$11:$C$31,C10,'1.pololetí 2011'!$D$11:$D$31)+SUMIF($R$6:$R$27,C10,$S$6:$S$27) -> 72 | E10: =SUMIF('1.pololetí 2010'!$B$9:$B$20,C10,'1.pololetí 2010'!$E$9:$E$20)+SUMIF('2.pololetí 2010'!$B$9:$B$25,C10,'2.pololetí 2010'!$E$9:$E$25)+SUMIF('1.pololetí 2011'!$C$11:$C$31,C10,'1.pololetí 2011'!$F$11:$F$31)+SUMIF($R$6:$R$27,C10,$U$6:$U$27) -> 17 | H10: U | I10: 5 | J10: Pecen | K10: 41 | L10: 2 | M10: 6 | N10: 6.8333333 | O10: 2.5 | P10: N | Q10: 5 | R10: ='2.pololetí 2011'!C15 -> Markéta | S10: ='2.pololetí 2011'!D15 -> 12 | T10: ='2.pololetí 2011'!E15 -> 2 | U10: ='2.pololetí 2011'!G15 -> 4 | V10: ='2.pololetí 2011'!H15 -> 3 | W10: ='2.pololetí 2011'!I15 -> 6.25
B11: 9 | C11: Tomáš Konečný | D11: =SUMIF('1.pololetí 2010'!$B$9:$B$20,C11,'1.pololetí 2010'!$C$9:$C$20)+SUMIF('2.pololetí 2010'!$B$9:$B$25,C11,'2.pololetí 2010'!$C$9:$C$25)+SUMIF('1.pololetí 2011'!$C$11:$C$31,C11,'1.pololetí 2011'!$D$11:$D$31)+SUMIF($R$6:$R$27,C11,$S$6:$S$27) -> 58 | E11: =SUMIF('1.pololetí 2010'!$B$9:$B$20,C11,'1.pololetí 2010'!$E$9:$E$20)+SUMIF('2.pololetí 2010'!$B$9:$B$25,C11,'2.pololetí 2010'!$E$9:$E$25)+SUMIF('1.pololetí 2011'!$C$11:$C$31,C11,'1.pololetí 2011'!$F$11:$F$31)+SUMIF($R$6:$R$27,C11,$U$6:$U$27) -> 12 | H11: R | I11: 6 | J11: Markéta | K11: 33 | L11: 6 | M11: 15 | N11: 2.2 | O11: 5.4666667 | P11: A | Q11: 6 | R11: ='2.pololetí 2011'!C16 -> Špelec | S11: ='2.pololetí 2011'!D16 -> 5 | T11: ='2.pololetí 2011'!E16 -> 0 | U11: ='2.pololetí 2011'!G16 -> 1 | V11: ='2.pololetí 2011'!H16 -> 5 | W11: ='2.pololetí 2011'!I16 -> 4
B12: 10 | C12: Špelec | D12: =SUMIF('1.pololetí 2010'!$B$9:$B$20,C12,'1.pololetí 2010'!$C$9:$C$20)+SUMIF('2.pololetí 2010'!$B$9:$B$25,C12,'2.pololetí 2010'!$C$9:$C$25)+SUMIF('1.pololetí 2011'!$C$11:$C$31,C12,'1.pololetí 2011'!$D$11:$D$31)+SUMIF($R$6:$R$27,C12,$S$6:$S$27) -> 58 | E12: =SUMIF('1.pololetí 2010'!$B$9:$B$20,C12,'1.pololetí 2010'!$E$9:$E$20)+SUMIF('2.pololetí 2010'!$B$9:$B$25,C12,'2.pololetí 2010'!$E$9:$E$25)+SUMIF('1.pololetí 2011'!$C$11:$C$31,C12,'1.pololetí 2011'!$F$11:$F$31)+SUMIF($R$6:$R$27,C12,$U$6:$U$27) -> 15 | H12: N | I12: 7 | J12: Jara hotel | K12: 29 | L12: 9 | M12: 6 | N12: 4.8333333 | O12: 3.6666667 | P12: J | Q12: 7 | R12: ='2.pololetí 2011'!C17 -> Jara | S12: ='2.pololetí 2011'!D17 -> 5 | T12: ='2.pololetí 2011'!E17 -> 2 | U12: ='2.pololetí 2011'!G17 -> 1 | V12: ='2.pololetí 2011'!H17 -> 5 | W12: ='2.pololetí 2011'!I17 -> 6
B13: 11 | C13: Minis | D13: =SUMIF('1.pololetí 2010'!$B$9:$B$20,C13,'1.pololetí 2010'!$C$9:$C$20)+SUMIF('2.pololetí 2010'!$B$9:$B$25,C13,'2.pololetí 2010'!$C$9:$C$25)+SUMIF('1.pololetí 2011'!$C$11:$C$31,C13,'1.pololetí 2011'!$D$11:$D$31)+SUMIF($R$6:$R$27,C13,$S$6:$S$27) -> 53 | E13: =SUMIF('1.pololetí 2010'!$B$9:$B$20,C13,'1.pololetí 2010'!$E$9:$E$20)+SUMIF('2.pololetí 2010'!$B$9:$B$25,C13,'2.pololetí 2010'!$E$9:$E$25)+SUMIF('1.pololetí 2011'!$C$11:$C$31,C13,'1.pololetí 2011'!$F$11:$F$31)+SUMIF($R$6:$R$27,C13,$U$6:$U$27) -> 10 | H13: A | I13: 8 | J13: Broňa Uher | K13: 17 | L13: 5 | M13: 5 | N13: 3.4 | O13: 5.4 | Q13: 8 | R13: ='2.pololetí 2011'!C18 -> Ondra | S13: ='2.pololetí 2011'!D18 -> 4 | T13: ='2.pololetí 2011'!E18 -> 0 | U13: ='2.pololetí 2011'!G18 -> 1 | V13: ='2.pololetí 2011'!H18 -> 4 | W13: ='2.pololetí 2011'!I18 -> 7
B14: 12 | C14: Karel | D14: =SUMIF('1.pololetí 2010'!$B$9:$B$20,C14,'1.pololetí 2010'!$C$9:$C$20)+SUMIF('2.pololetí 2010'!$B$9:$B$25,C14,'2.pololetí 2010'!$C$9:$C$25)+SUMIF('1.pololetí 2011'!$C$11:$C$31,C14,'1.pololetí 2011'!$D$11:$D$31)+SUMIF($R$6:$R$27,C14,$S$6:$S$27) -> 36 | E14: =SUMIF('1.pololetí 2010'!$B$9:$B$20,C14,'1.pololetí 2010'!$E$9:$E$20)+SUMIF('2.pololetí 2010'!$B$9:$B$25,C14,'2.pololetí 2010'!$E$9:$E$25)+SUMIF('1.pololetí 2011'!$C$11:$C$31,C14,'1.pololetí 2011'!$F$11:$F$31)+SUMIF($R$6:$R$27,C14,$U$6:$U$27) -> 7 | H14: J | I14: 9 | J14: Radek Pecl | K14: 9 | L14: 1 | M14: 2 | N14: 4.5 | O14: 3.5 | Q14: 9 | R14: ='2.pololetí 2011'!C19 -> Broňa | S14: ='2.pololetí 2011'!D19 -> 2 | T14: ='2.pololetí 2011'!E19 -> 2 | U14: ='2.pololetí 2011'!G19 -> 1 | V14: ='2.pololetí 2011'!H19 -> 2 | W14: ='2.pololetí 2011'!I19 -> 4
B15: 13 | C15: Filip | D15: =SUMIF('1.pololetí 2010'!$B$9:$B$20,C15,'1.pololetí 2010'!$C$9:$C$20)+SUMIF('2.pololetí 2010'!$B$9:$B$25,C15,'2.pololetí 2010'!$C$9:$C$25)+SUMIF('1.pololetí 2011'!$C$11:$C$31,C15,'1.pololetí 2011'!$D$11:$D$31)+SUMIF($R$6:$R$27,C15,$S$6:$S$27) -> 30 | E15: =SUMIF('1.pololetí 2010'!$B$9:$B$20,C15,'1.pololetí 2010'!$E$9:$E$20)+SUMIF('2.pololetí 2010'!$B$9:$B$25,C15,'2.pololetí 2010'!$E$9:$E$25)+SUMIF('1.pololetí 2011'!$C$11:$C$31,C15,'1.pololetí 2011'!$F$11:$F$31)+SUMIF($R$6:$R$27,C15,$U$6:$U$27) -> 4 | I15: 10 | J15: Špelec | K15: 9 | L15: 3 | M15: 2 | N15: 4.5 | O15: 5.5 | R15: ='2.pololetí 2011'!C20 -> Piňus | S15: ='2.pololetí 2011'!D20 -> 18 | T15: ='2.pololetí 2011'!E20 -> 0 | U15: ='2.pololetí 2011'!G20 -> 3 | V15: ='2.pololetí 2011'!H20 -> 5.6666667 | W15: ='2.pololetí 2011'!I20 -> 5
B16: 14 | C16: Miloš Bednář | D16: =SUMIF('1.pololetí 2010'!$B$9:$B$20,C16,'1.pololetí 2010'!$C$9:$C$20)+SUMIF('2.pololetí 2010'!$B$9:$B$25,C16,'2.pololetí 2010'!$C$9:$C$25)+SUMIF('1.pololetí 2011'!$C$11:$C$31,C16,'1.pololetí 2011'!$D$11:$D$31)+SUMIF($R$6:$R$27,C16,$S$6:$S$27) -> 29 | E16: =SUMIF('1.pololetí 2010'!$B$9:$B$20,C16,'1.pololetí 2010'!$E$9:$E$20)+SUMIF('2.pololetí 2010'!$B$9:$B$25,C16,'2.pololetí 2010'!$E$9:$E$25)+SUMIF('1.pololetí 2011'!$C$11:$C$31,C16,'1.pololetí 2011'!$F$11:$F$31)+SUMIF($R$6:$R$27,C16,$U$6:$U$27) -> 7 | I16: 11 | J16: Miloš Bednář | K16: 6 | L16: 2 | M16: 3 | N16: 2 | O16: 6.6666667 | R16: ='2.pololetí 2011'!C21 -> Karel | S16: ='2.pololetí 2011'!D21 -> 17 | T16: ='2.pololetí 2011'!E21 -> 4 | U16: ='2.pololetí 2011'!G21 -> 3 | V16: ='2.pololetí 2011'!H21 -> 5.6666667 | W16: ='2.pololetí 2011'!I21 -> 5.3333333
B17: 15 | C17: Broňa Uher | D17: =SUMIF('1.pololetí 2010'!$B$9:$B$20,C17,'1.pololetí 2010'!$C$9:$C$20)+SUMIF('2.pololetí 2010'!$B$9:$B$25,C17,'2.pololetí 2010'!$C$9:$C$25)+SUMIF('1.pololetí 2011'!$C$11:$C$31,C17,'1.pololetí 2011'!$D$11:$D$31)+SUMIF($R$6:$R$27,C17,$S$6:$S$27) -> 29 | E17: =SUMIF('1.pololetí 2010'!$B$9:$B$20,C17,'1.pololetí 2010'!$E$9:$E$20)+SUMIF('2.pololetí 2010'!$B$9:$B$25,C17,'2.pololetí 2010'!$E$9:$E$25)+SUMIF('1.pololetí 2011'!$C$11:$C$31,C17,'1.pololetí 2011'!$F$11:$F$31)+SUMIF($R$6:$R$27,C17,$U$6:$U$27) -> 11 | I17: 12 | J17: Dominik | K17: 2 | L17: 2 | M17: 1 | N17: 2 | O17: 6 | R17: ='2.pololetí 2011'!C22 -> Filip | S17: ='2.pololetí 2011'!D22 -> 10 | T17: ='2.pololetí 2011'!E22 -> 1 | U17: ='2.pololetí 2011'!G22 -> 1 | V17: ='2.pololetí 2011'!H22 -> 10 | W17: ='2.pololetí 2011'!I22 -> 2
B18: 16 | C18: Radek Pecl | D18: =SUMIF('1.pololetí 2010'!$B$9:$B$20,C18,'1.pololetí 2010'!$C$9:$C$20)+SUMIF('2.pololetí 2010'!$B$9:$B$25,C18,'2.pololetí 2010'!$C$9:$C$25)+SUMIF('1.pololetí 2011'!$C$11:$C$31,C18,'1.pololetí 2011'!$D$11:$D$31)+SUMIF($R$6:$R$27,C18,$S$6:$S$27) -> 24 | E18: =SUMIF('1.pololetí 2010'!$B$9:$B$20,C18,'1.pololetí 2010'!$E$9:$E$20)+SUMIF('2.pololetí 2010'!$B$9:$B$25,C18,'2.pololetí 2010'!$E$9:$E$25)+SUMIF('1.pololetí 2011'!$C$11:$C$31,C18,'1.pololetí 2011'!$F$11:$F$31)+SUMIF($R$6:$R$27,C18,$U$6:$U$27) -> 6 | J18: Minis | K18: 47 | L18: 9 | M18: 9 | N18: 5.2222222 | O18: 4 | R18: ='2.pololetí 2011'!C23 -> Staňa | S18: ='2.pololetí 2011'!D23 -> 9 | T18: ='2.pololetí 2011'!E23 -> 4 | U18: ='2.pololetí 2011'!G23 -> 2 | V18: ='2.pololetí 2011'!H23 -> 4.5 | W18: ='2.pololetí 2011'!I23 -> 5.5
B19: 17 | C19: Piňus | D19: =SUMIF('1.pololetí 2010'!$B$9:$B$20,C19,'1.pololetí 2010'!$C$9:$C$20)+SUMIF('2.pololetí 2010'!$B$9:$B$25,C19,'2.pololetí 2010'!$C$9:$C$25)+SUMIF('1.pololetí 2011'!$C$11:$C$31,C19,'1.pololetí 2011'!$D$11:$D$31)+SUMIF($R$6:$R$27,C19,$S$6:$S$27) -> 28 | E19: =SUMIF('1.pololetí 2010'!$B$9:$B$20,C19,'1.pololetí 2010'!$E$9:$E$20)+SUMIF('2.pololetí 2010'!$B$9:$B$25,C19,'2.pololetí 2010'!$E$9:$E$25)+SUMIF('1.pololetí 2011'!$C$11:$C$31,C19,'1.pololetí 2011'!$F$11:$F$31)+SUMIF($R$6:$R$27,C19,$U$6:$U$27) -> 7 | J19: Filip | K19: 20 | L19: 8 | M19: 3 | N19: 6.6666667 | O19: 2.6666667 | R19: ='2.pololetí 2011'!C24 -> Minis | S19: ='2.pololetí 2011'!D24 -> 6 | T19: ='2.pololetí 2011'!E24 -> 3 | U19: ='2.pololetí 2011'!G24 -> 1 | V19: ='2.pololetí 2011'!H24 -> 6 | W19: ='2.pololetí 2011'!I24 -> 5
B20: 18 | C20: Jirka Hrabec | D20: =SUMIF('1.pololetí 2010'!$B$9:$B$20,C20,'1.pololetí 2010'!$C$9:$C$20)+SUMIF('2.pololetí 2010'!$B$9:$B$25,C20,'2.pololetí 2010'!$C$9:$C$25)+SUMIF('1.pololetí 2011'!$C$11:$C$31,C20,'1.pololetí 2011'!$D$11:$D$31)+SUMIF($R$6:$R$27,C20,$S$6:$S$27) -> 15 | E20: =SUMIF('1.pololetí 2010'!$B$9:$B$20,C20,'1.pololetí 2010'!$E$9:$E$20)+SUMIF('2.pololetí 2010'!$B$9:$B$25,C20,'2.pololetí 2010'!$E$9:$E$25)+SUMIF('1.pololetí 2011'!$C$11:$C$31,C20,'1.pololetí 2011'!$F$11:$F$31)+SUMIF($R$6:$R$27,C20,$U$6:$U$27) -> 5 | J20: Karel | K20: 19 | L20: 5 | M20: 4 | N20: 4.75 | O20: 4.75 | R20: ='2.pololetí 2011'!C25 -> Lukáš | S20: ='2.pololetí 2011'!D25 -> 2 | T20: ='2.pololetí 2011'!E25 -> 0 | U20: ='2.pololetí 2011'!G25 -> 1 | V20: ='2.pololetí 2011'!H25 -> 2 | W20: ='2.pololetí 2011'!I25 -> 9
B21: 19 | C21: Ondra Herich | D21: =SUMIF('1.pololetí 2010'!$B$9:$B$20,C21,'1.pololetí 2010'!$C$9:$C$20)+SUMIF('2.pololetí 2010'!$B$9:$B$25,C21,'2.pololetí 2010'!$C$9:$C$25)+SUMIF('1.pololetí 2011'!$C$11:$C$31,C21,'1.pololetí 2011'!$D$11:$D$31)+SUMIF($R$6:$R$27,C21,$S$6:$S$27) -> 13 | E21: =SUMIF('1.pololetí 2010'!$B$9:$B$20,C21,'1.pololetí 2010'!$E$9:$E$20)+SUMIF('2.pololetí 2010'!$B$9:$B$25,C21,'2.pololetí 2010'!$E$9:$E$25)+SUMIF('1.pololetí 2011'!$C$11:$C$31,C21,'1.pololetí 2011'!$F$11:$F$31)+SUMIF($R$6:$R$27,C21,$U$6:$U$27) -> 5 | J21: Ondra Herich | K21: 13 | L21: 1 | M21: 5 | N21: 2.6 | O21: 5.4
B22: 20 | C22: Zbyňa | D22: =SUMIF('1.pololetí 2010'!$B$9:$B$20,C22,'1.pololetí 2010'!$C$9:$C$20)+SUMIF('2.pololetí 2010'!$B$9:$B$25,C22,'2.pololetí 2010'!$C$9:$C$25)+SUMIF('1.pololetí 2011'!$C$11:$C$31,C22,'1.pololetí 2011'!$D$11:$D$31)+SUMIF($R$6:$R$27,C22,$S$6:$S$27) -> 12 | E22: =SUMIF('1.pololetí 2010'!$B$9:$B$20,C22,'1.pololetí 2010'!$E$9:$E$20)+SUMIF('2.pololetí 2010'!$B$9:$B$25,C22,'2.pololetí 2010'!$E$9:$E$25)+SUMIF('1.pololetí 2011'!$C$11:$C$31,C22,'1.pololetí 2011'!$F$11:$F$31)+SUMIF($R$6:$R$27,C22,$U$6:$U$27) -> 2 | J22: Zbyňa | K22: 12 | L22: 0 | M22: 2 | N22: 6 | O22: 3.5
B23: 21 | C23: Staňa | D23: =SUMIF('1.pololetí 2010'!$B$9:$B$20,C23,'1.pololetí 2010'!$C$9:$C$20)+SUMIF('2.pololetí 2010'!$B$9:$B$25,C23,'2.pololetí 2010'!$C$9:$C$25)+SUMIF('1.pololetí 2011'!$C$11:$C$31,C23,'1.pololetí 2011'!$D$11:$D$31)+SUMIF($R$6:$R$27,C23,$S$6:$S$27) -> 16 | E23: =SUMIF('1.pololetí 2010'!$B$9:$B$20,C23,'1.pololetí 2010'!$E$9:$E$20)+SUMIF('2.pololetí 2010'!$B$9:$B$25,C23,'2.pololetí 2010'!$E$9:$E$25)+SUMIF('1.pololetí 2011'!$C$11:$C$31,C23,'1.pololetí 2011'!$F$11:$F$31)+SUMIF($R$6:$R$27,C23,$U$6:$U$27) -> 4 | J23: Piňus | K23: 10 | L23: 0 | M23: 4 | N23: 2.5 | O23: 7
B24: 22 | C24: Dušan | D24: =SUMIF('1.pololetí 2010'!$B$9:$B$20,C24,'1.pololetí 2010'!$C$9:$C$20)+SUMIF('2.pololetí 2010'!$B$9:$B$25,C24,'2.pololetí 2010'!$C$9:$C$25)+SUMIF('1.pololetí 2011'!$C$11:$C$31,C24,'1.pololetí 2011'!$D$11:$D$31)+SUMIF($R$6:$R$27,C24,$S$6:$S$27) -> 9 | E24: =SUMIF('1.pololetí 2010'!$B$9:$B$20,C24,'1.pololetí 2010'!$E$9:$E$20)+SUMIF('2.pololetí 2010'!$B$9:$B$25,C24,'2.pololetí 2010'!$E$9:$E$25)+SUMIF('1.pololetí 2011'!$C$11:$C$31,C24,'1.pololetí 2011'!$F$11:$F$31)+SUMIF($R$6:$R$27,C24,$U$6:$U$27) -> 3 | J24: Dušan | K24: 9 | L24: 3 | M24: 3 | N24: 3 | O24: 5.6666667
B25: 23 | C25: Mira Hutter | D25: =SUMIF('1.pololetí 2010'!$B$9:$B$20,C25,'1.pololetí 2010'!$C$9:$C$20)+SUMIF('2.pololetí 2010'!$B$9:$B$25,C25,'2.pololetí 2010'!$C$9:$C$25)+SUMIF('1.pololetí 2011'!$C$11:$C$31,C25,'1.pololetí 2011'!$D$11:$D$31)+SUMIF($R$6:$R$27,C25,$S$6:$S$27) -> 5 | E25: =SUMIF('1.pololetí 2010'!$B$9:$B$20,C25,'1.pololetí 2010'!$E$9:$E$20)+SUMIF('2.pololetí 2010'!$B$9:$B$25,C25,'2.pololetí 2010'!$E$9:$E$25)+SUMIF('1.pololetí 2011'!$C$11:$C$31,C25,'1.pololetí 2011'!$F$11:$F$31)+SUMIF($R$6:$R$27,C25,$U$6:$U$27) -> 1 | J25: Staňa | K25: 7 | L25: 3 | M25: 2 | N25: 3.5 | O25: 5.5
B26: 24 | C26: Tomáš | D26: =SUMIF('1.pololetí 2010'!$B$9:$B$20,C26,'1.pololetí 2010'!$C$9:$C$20)+SUMIF('2.pololetí 2010'!$B$9:$B$25,C26,'2.pololetí 2010'!$C$9:$C$25)+SUMIF('1.pololetí 2011'!$C$11:$C$31,C26,'1.pololetí 2011'!$D$11:$D$31)+SUMIF($R$6:$R$27,C26,$S$6:$S$27) -> 4 | E26: =SUMIF('1.pololetí 2010'!$B$9:$B$20,C26,'1.pololetí 2010'!$E$9:$E$20)+SUMIF('2.pololetí 2010'!$B$9:$B$25,C26,'2.pololetí 2010'!$E$9:$E$25)+SUMIF('1.pololetí 2011'!$C$11:$C$31,C26,'1.pololetí 2011'!$F$11:$F$31)+SUMIF($R$6:$R$27,C26,$U$6:$U$27) -> 1 | J26: Škaris | K26: 2 | L26: 0 | M26: 1 | N26: 2 | O26: 6
B27: 25 | C27: Aleš | D27: =SUMIF('1.pololetí 2010'!$B$9:$B$20,C27,'1.pololetí 2010'!$C$9:$C$20)+SUMIF('2.pololetí 2010'!$B$9:$B$25,C27,'2.pololetí 2010'!$C$9:$C$25)+SUMIF('1.pololetí 2011'!$C$11:$C$31,C27,'1.pololetí 2011'!$D$11:$D$31)+SUMIF($R$6:$R$27,C27,$S$6:$S$27) -> 4 | E27: =SUMIF('1.pololetí 2010'!$B$9:$B$20,C27,'1.pololetí 2010'!$E$9:$E$20)+SUMIF('2.pololetí 2010'!$B$9:$B$25,C27,'2.pololetí 2010'!$E$9:$E$25)+SUMIF('1.pololetí 2011'!$C$11:$C$31,C27,'1.pololetí 2011'!$F$11:$F$31)+SUMIF($R$6:$R$27,C27,$U$6:$U$27) -> 1
B28: 26 | C28: Škaris | D28: =SUMIF('1.pololetí 2010'!$B$9:$B$20,C28,'1.pololetí 2010'!$C$9:$C$20)+SUMIF('2.pololetí 2010'!$B$9:$B$25,C28,'2.pololetí 2010'!$C$9:$C$25)+SUMIF('1.pololetí 2011'!$C$11:$C$31,C28,'1.pololetí 2011'!$D$11:$D$31)+SUMIF($R$6:$R$27,C28,$S$6:$S$27) -> 2 | E28: =SUMIF('1.pololetí 2010'!$B$9:$B$20,C28,'1.pololetí 2010'!$E$9:$E$20)+SUMIF('2.pololetí 2010'!$B$9:$B$25,C28,'2.pololetí 2010'!$E$9:$E$25)+SUMIF('1.pololetí 2011'!$C$11:$C$31,C28,'1.pololetí 2011'!$F$11:$F$31)+SUMIF($R$6:$R$27,C28,$U$6:$U$27) -> 1 | N28: 2010
B29: 27 | C29: Martin Lukl | D29: =SUMIF('1.pololetí 2010'!$B$9:$B$20,C29,'1.pololetí 2010'!$C$9:$C$20)+SUMIF('2.pololetí 2010'!$B$9:$B$25,C29,'2.pololetí 2010'!$C$9:$C$25)+SUMIF('1.pololetí 2011'!$C$11:$C$31,C29,'1.pololetí 2011'!$D$11:$D$31)+SUMIF($R$6:$R$27,C29,$S$6:$S$27) -> 2 | E29: =SUMIF('1.pololetí 2010'!$B$9:$B$20,C29,'1.pololetí 2010'!$E$9:$E$20)+SUMIF('2.pololetí 2010'!$B$9:$B$25,C29,'2.pololetí 2010'!$E$9:$E$25)+SUMIF('1.pololetí 2011'!$C$11:$C$31,C29,'1.pololetí 2011'!$F$11:$F$31)+SUMIF($R$6:$R$27,C29,$U$6:$U$27) -> 1
B30: 28 | C30: Lukáš | D30: =SUMIF('1.pololetí 2010'!$B$9:$B$20,C30,'1.pololetí 2010'!$C$9:$C$20)+SUMIF('2.pololetí 2010'!$B$9:$B$25,C30,'2.pololetí 2010'!$C$9:$C$25)+SUMIF('1.pololetí 2011'!$C$11:$C$31,C30,'1.pololetí 2011'!$D$11:$D$31)+SUMIF($R$6:$R$27,C30,$S$6:$S$27) -> 2 | E30: =SUMIF('1.pololetí 2010'!$B$9:$B$20,C30,'1.pololetí 2010'!$E$9:$E$20)+SUMIF('2.pololetí 2010'!$B$9:$B$25,C30,'2.pololetí 2010'!$E$9:$E$25)+SUMIF('1.pololetí 2011'!$C$11:$C$31,C30,'1.pololetí 2011'!$F$11:$F$31)+SUMIF($R$6:$R$27,C30,$U$6:$U$27) -> 1 | I30: I. Pololetí | Q30: II. Pololetí
J31: Jméno: | K31: Body | L31: Dokup | M31: odehráno | N31: Q body | O31: Q pořadí | R31: Jméno: | S31: Body | T31: Dokup | U31: odehráno | V31: Q body | W31: Q pořadí
I32: 1 | J32: Igor | K32: 85 | L32: ='1.pololetí 2010'!D9 -> 9 | M32: 14 | N32: 6.0714286 | O32: 2.2142857 | Q32: 1 | R32: Jáchym | S32: 111 | T32: ='2.pololetí 2010'!D9 -> 21 | U32: 25 | V32: 4.44 | W32: 2.84
I33: 2 | J33: Jáchym | K33: 61 | L33: ='1.pololetí 2010'!D10 -> 11 | M33: 16 | N33: 3.8125 | O33: 3.5625 | Q33: 2 | R33: Dominik | S33: 99 | T33: ='2.pololetí 2010'!D10 -> 15 | U33: 16 | V33: 6.1875 | W33: 2.3125
I34: 3 | J34: Mira | K34: 60 | L34: ='1.pololetí 2010'!D11 -> 2 | M34: 11 | N34: 5.4545455 | O34: 2.6363636 | Q34: 3 | R34: Igor | S34: 90 | T34: ='2.pololetí 2010'!D11 -> 20 | U34: 21 | V34: 4.2857143 | W34: 3.2857143
I35: 4 | J35: Jara Hotel | K35: 39 | L35: ='1.pololetí 2010'!D12 -> 1 | M35: 8 | N35: 4.875 | O35: 2.75 | Q35: 4 | R35: Ludwa | S35: 67 | T35: ='2.pololetí 2010'!D12 -> 14 | U35: 22 | V35: 3.0454545 | W35: 4.1818182
I36: 5 | J36: Ludwa | K36: 34 | L36: ='1.pololetí 2010'!D13 -> 1 | M36: 16 | N36: 2.125 | O36: 5.0625 | Q36: 5 | R36: Mira | S36: 57 | T36: ='2.pololetí 2010'!D13 -> 14 | U36: 13 | V36: 4.3846154 | W36: 3.3846154
I37: 6 | J37: Dominik | K37: 32 | L37: ='1.pololetí 2010'!D14 -> 1 | M37: 6 | N37: 5.3333333 | O37: 2.8333333 | Q37: 6 | R37: Jara hotel | S37: 45 | T37: ='2.pololetí 2010'!D14 -> 12 | U37: 9 | V37: 5 | W37: 2.5555556
I38: 7 | J38: Tomáš Konečný | K38: 29 | L38: ='1.pololetí 2010'!D15 -> 0 | M38: 6 | N38: 4.8333333 | O38: 3.3333333 | Q38: 7 | R38: Markéta | S38: 38 | T38: ='2.pololetí 2010'!D15 -> 7 | U38: 16 | V38: 2.375 | W38: 5
I39: 8 | J39: Markéta | K39: 28 | L39: ='1.pololetí 2010'!D16 -> 2 | M39: 10 | N39: 2.8 | O39: 4.4 | Q39: 8 | R39: Tomáš Konečný | S39: 29 | T39: ='2.pololetí 2010'!D16 -> 4 | U39: 6 | V39: 4.8333333 | W39: 3.1666667
I40: 9 | J40: Špelec | K40: 21 | L40: ='1.pololetí 2010'!D17 -> 2 | M40: 6 | N40: 3.5 | O40: 4 | Q40: 9 | R40: Miloš Bednář | S40: 23 | T40: ='2.pololetí 2010'!D17 -> 4 | U40: 4 | V40: 5.75 | W40: 1.75
...

Sheet 2.pololetí 2011
C1: Aktualizováno | D1: 1 | E1: =C11 -> Igor | G1: =C5*0.5 -> 220
C2: =NOW() -> 40767.839 | D2: 2 | E2: =C12 -> Mira | G2: =C5*0.3 -> 132
C3: BANK | D3: 3 | E3: =C13 -> Ludwa | G3: =C5*0.2 -> 88
C4: =účtování!D4 -> 4317 | D4: extra bank
C5: =SUM(J5:AS5) -> 440 | D5: půlroční bank | J5: =(COUNTIF(K11:K19,">0"))*20 -> 100 | N5: =(COUNTIF(O11:O19,">0"))*20 -> 140 | R5: =(COUNTIF(S11:S19,">0"))*20 -> 100 | V5: =(COUNTIF(W11:W19,">0"))*20 -> 100 | Z5: =(COUNTIF(AA11:AA19,">0"))*20 -> 0 | AD5: =(COUNTIF(AE11:AE19,">0"))*20 -> 0 | AH5: =(COUNTIF(AI11:AI19,">0"))*20 -> 0 | AL5: =(COUNTIF(AM11:AM19,">0"))*20 -> 0 | AP5: =(COUNTIF(AQ11:AQ19,">0"))*20 -> 0
D6: Hráčů | J6: =(COUNTIF(J11:J25,">0")) -> 10 | N6: =(COUNTIF(N11:N25,">0")) -> 10 | R6: =(COUNTIF(R11:R25,">0")) -> 8 | V6: =(COUNTIF(V11:V25,">0")) -> 5 | Z6: =(COUNTIF(Z11:Z25,">0")) -> 0 | AD6: =(COUNTIF(AD11:AD25,">0")) -> 0 | AH6: =(COUNTIF(AH11:AH25,">0")) -> 0 | AL6: =(COUNTIF(AL11:AL25,">0")) -> 0 | AP6: =(COUNTIF(AP11:AP25,">0")) -> 0
C7: Denní výhry | I7: 1. | J7: =(((COUNTIF(K11:K37,">0"))*100)+((SUM(M11:M25)/2)*100))-100 -> 1450 | N7: =(((COUNTIF(O11:O37,">0"))*100)+((SUM(Q11:Q25)/2)*100))-100 -> 1450 | R7: =(((COUNTIF(S11:S37,">0"))*100)+((SUM(U11:U25)/2)*100))-100 -> 1000 | V7: =(((COUNTIF(W11:W37,">0"))*100)+((SUM(Y11:Y25)/2)*100))-100 -> 650
I8: 2. | J8: =100+(SUM(M11:M25)/2)*100 -> 650 | N8: =100+(SUM(Q11:Q25)/2)*100 -> 650 | R8: =100+(SUM(U11:U25)/2)*100 -> 400 | V8: =100+(SUM(Y11:Y25)/2)*100 -> 350
J9: 40739 | N9: 40753 | R9: 40760 | V9: 40761
C10: Jméno: | D10: Body | E10: dokup | F10: ± body | G10: odehráno | H10: Q body | I10: Q pořadí | J10: P | K10: B | L10: ± | M10: R | N10: P | O10: B | P10: ± | Q10: R | R10: P | S10: B | T10: ± | U10: R | V10: P | W10: B | X10: ± | Y10: R | Z10: P | AA10: B | AB10: ± | AC10: R | AD10: P | AE10: B | AF10: ± | AG10: R | AH10: P | AI10: B | AJ10: ± | AK10: R | AL10: P | AM10: B | AN10: ± | AO10: R | AP10: P | AQ10: B | AR10: ± | AS10: R
B11: =IF(D11<>"",RANK(D11,$D$11:$D$19),"") -> 1 | C11: Igor | D11: =SUMIF($J$10:$AS$10,"B",J11:AS11)+SUMIF($J$10:$AS$10,$L$10,J11:AS11) -> 33 | E11: =SUMIF($J$10:$AS$10,"R",J11:AS11) -> 2 | F11: =SUMIF($J$10:$AS$10,$L$10,J11:AS11) -> 2 | G11: =COUNT(J11,N11,R11,V11,Z11,AD11,AH11,AL11,AP11) -> 4 | H11: =SUMIF($J$10:$AS$10,"B",J11:AS11)/G11 -> 7.75 | I11: =AVERAGE(J11,N11,R11,V11,Z11,AD11,AH11,AL11,AP11) -> 2.75 | J11: 7 | K11: 4 | M11: 1 | N11: 1 | O11: 12 | P11: 1 | R11: 1 | S11: 10 | T11: 1 | V11: 2 | W11: 5 | Y11: 1
A12: T | B12: =IF(D12<>"",RANK(D12,$D$11:$D$19),"") -> 2 | C12: Mira | D12: =SUMIF($J$10:$AS$10,"B",J12:AS12)+SUMIF($J$10:$AS$10,$L$10,J12:AS12) -> 19 | E12: =SUMIF($J$10:$AS$10,"R",J12:AS12) -> 5 | F12: =SUMIF($J$10:$AS$10,$L$10,J12:AS12) -> 1 | G12: =COUNT(J12,N12,R12,V12,Z12,AD12,AH12,AL12,AP12) -> 3 | H12: =SUMIF($J$10:$AS$10,"B",J12:AS12)/G12 -> 6 | I12: =AVERAGE(J12,N12,R12,V12,Z12,AD12,AH12,AL12,AP12) -> 4.6666667 | J12: 9 | K12: 2 | M12: 1 | N12: 3 | O12: 8 | Q12: 4 | R12: 2 | S12: 8 | T12: 1
A13: U | B13: =IF(D13<>"",RANK(D13,$D$11:$D$19),"") -> 2 | C13: Ludwa | D13: =SUMIF($J$10:$AS$10,"B",J13:AS13)+SUMIF($J$10:$AS$10,$L$10,J13:AS13) -> 19 | E13: =SUMIF($J$10:$AS$10,"R",J13:AS13) -> 2 | F13: =SUMIF($J$10:$AS$10,$L$10,J13:AS13) -> 0 | G13: =COUNT(J13,N13,R13,V13,Z13,AD13,AH13,AL13,AP13) -> 4 | H13: =SUMIF($J$10:$AS$10,"B",J13:AS13)/G13 -> 4.75 | I13: =AVERAGE(J13,N13,R13,V13,Z13,AD13,AH13,AL13,AP13) -> 4.5 | J13: 3 | K13: 8 | L13: 0 | M13: 0 | N13: 4 | O13: 7 | P13: 0 | Q13: 1 | R13: 6 | S13: 3 | U13: 1 | V13: 5 | W13: 1
A14: R | B14: =IF(D14<>"",RANK(D14,$D$11:$D$19),"") -> 4 | C14: Jáchym | D14: =SUMIF($J$10:$AS$10,"B",J14:AS14)+SUMIF($J$10:$AS$10,$L$10,J14:AS14) -> 15 | E14: =SUMIF($J$10:$AS$10,"R",J14:AS14) -> 6 | F14: =SUMIF($J$10:$AS$10,$L$10,J14:AS14) -> -1 | G14: =COUNT(J14,N14,R14,V14,Z14,AD14,AH14,AL14,AP14) -> 3 | H14: =SUMIF($J$10:$AS$10,"B",J14:AS14)/G14 -> 5.3333333 | I14: =AVERAGE(J14,N14,R14,V14,Z14,AD14,AH14,AL14,AP14) -> 4.6666667 | J14: 8 | K14: 3 | M14: 2 | N14: 5 | O14: 6 | Q14: 2 | V14: 1 | W14: 7 | X14: -1 | Y14: 2
A15: N | B15: =IF(D15<>"",RANK(D15,$D$11:$D$19),"") -> 5 | C15: Markéta | D15: =SUMIF($J$10:$AS$10,"B",J15:AS15)+SUMIF($J$10:$AS$10,$L$10,J15:AS15) -> 12 | E15: =SUMIF($J$10:$AS$10,"R",J15:AS15) -> 2 | F15: =SUMIF($J$10:$AS$10,$L$10,J15:AS15) -> 0 | G15: =COUNT(J15,N15,R15,V15,Z15,AD15,AH15,AL15,AP15) -> 4 | H15: =SUMIF($J$10:$AS$10,"B",J15:AS15)/G15 -> 3 | I15: =AVERAGE(J15,N15,R15,V15,Z15,AD15,AH15,AL15,AP15) -> 6.25 | J15: 4 | K15: 7 | N15: 10 | O15: 1 | Q15: 1 | R15: 8 | S15: 1 | U15: 1 | V15: 3 | W15: 3
A16: A | B16: =IF(D16<>"",RANK(D16,$D$11:$D$19),"") -> 6 | C16: Špelec | D16: =SUMIF($J$10:$AS$10,"B",J16:AS16)+SUMIF($J$10:$AS$10,$L$10,J16:AS16) -> 5 | E16: =SUMIF($J$10:$AS$10,"R",J16:AS16) -> 0 | F16: =SUMIF($J$10:$AS$10,$L$10,J16:AS16) -> 0 | G16: =COUNT(J16,N16,R16,V16,Z16,AD16,AH16,AL16,AP16) -> 1 | H16: =SUMIF($J$10:$AS$10,"B",J16:AS16)/G16 -> 5 | I16: =AVERAGE(J16,N16,R16,V16,Z16,AD16,AH16,AL16,AP16) -> 4 | R16: 4 | S16: 5
A17: J | B17: =IF(D17<>"",RANK(D17,$D$11:$D$19),"") -> 6 | C17: Jara | D17: =SUMIF($J$10:$AS$10,"B",J17:AS17)+SUMIF($J$10:$AS$10,$L$10,J17:AS17) -> 5 | E17: =SUMIF($J$10:$AS$10,"R",J17:AS17) -> 2 | F17: =SUMIF($J$10:$AS$10,$L$10,J17:AS17) -> 0 | G17: =COUNT(J17,N17,R17,V17,Z17,AD17,AH17,AL17,AP17) -> 1 | H17: =SUMIF($J$10:$AS$10,"B",J17:AS17)/G17 -> 5 | I17: =AVERAGE(J17,N17,R17,V17,Z17,AD17,AH17,AL17,AP17) -> 6 | N17: 6 | O17: 5 | Q17: 2
B18: =IF(D18<>"",RANK(D18,$D$11:$D$19),"") -> 8 | C18: Ondra | D18: =SUMIF($J$10:$AS$10,"B",J18:AS18)+SUMIF($J$10:$AS$10,$L$10,J18:AS18) -> 4 | E18: =SUMIF($J$10:$AS$10,"R",J18:AS18) -> 0 | F18: =SUMIF($J$10:$AS$10,$L$10,J18:AS18) -> 0 | G18: =COUNT(J18,N18,R18,V18,Z18,AD18,AH18,AL18,AP18) -> 1 | H18: =SUMIF($J$10:$AS$10,"B",J18:AS18)/G18 -> 4 | I18: =AVERAGE(J18,N18,R18,V18,Z18,AD18,AH18,AL18,AP18) -> 7 | N18: 7 | O18: 4
B19: =IF(D19<>"",RANK(D19,$D$11:$D$19),"") -> 9 | C19: Broňa | D19: =SUMIF($J$10:$AS$10,"B",J19:AS19)+SUMIF($J$10:$AS$10,$L$10,J19:AS19) -> 2 | E19: =SUMIF($J$10:$AS$10,"R",J19:AS19) -> 2 | F19: =SUMIF($J$10:$AS$10,$L$10,J19:AS19) -> 0 | G19: =COUNT(J19,N19,R19,V19,Z19,AD19,AH19,AL19,AP19) -> 1 | H19: =SUMIF($J$10:$AS$10,"B",J19:AS19)/G19 -> 2 | I19: =AVERAGE(J19,N19,R19,V19,Z19,AD19,AH19,AL19,AP19) -> 4 | V19: 4 | W19: 2 | Y19: 2
C20: Piňus | D20: =SUMIF($J$10:$AS$10,"B",J20:AS20)+SUMIF($J$10:$AS$10,$L$10,J20:AS20) -> 18 | E20: =SUMIF($J$10:$AS$10,"R",J20:AS20) -> 0 | F20: =SUMIF($J$10:$AS$10,$L$10,J20:AS20) -> 1 | G20: =COUNT(J20,N20,R20,V20,Z20,AD20,AH20,AL20,AP20) -> 3 | H20: =SUMIF($J$10:$AS$10,"B",J20:AS20)/G20 -> 5.6666667 | I20: =AVERAGE(J20,N20,R20,V20,Z20,AD20,AH20,AL20,AP20) -> 5 | J20: 10 | K20: 1 | N20: 2 | O20: 10 | P20: 1 | R20: 3 | S20: 6
C21: Karel | D21: =SUMIF($J$10:$AS$10,"B",J21:AS21)+SUMIF($J$10:$AS$10,$L$10,J21:AS21) -> 17 | E21: =SUMIF($J$10:$AS$10,"R",J21:AS21) -> 4 | F21: =SUMIF($J$10:$AS$10,$L$10,J21:AS21) -> 0 | G21: =COUNT(J21,N21,R21,V21,Z21,AD21,AH21,AL21,AP21) -> 3 | H21: =SUMIF($J$10:$AS$10,"B",J21:AS21)/G21 -> 5.6666667 | I21: =AVERAGE(J21,N21,R21,V21,Z21,AD21,AH21,AL21,AP21) -> 5.3333333 | J21: 1 | K21: 12 | M21: 1 | N21: 8 | O21: 3 | Q21: 1 | R21: 7 | S21: 2 | U21: 2
C22: Filip | D22: =SUMIF($J$10:$AS$10,"B",J22:AS22)+SUMIF($J$10:$AS$10,$L$10,J22:AS22) -> 10 | E22: =SUMIF($J$10:$AS$10,"R",J22:AS22) -> 1 | F22: =SUMIF($J$10:$AS$10,$L$10,J22:AS22) -> 0 | G22: =COUNT(J22,N22,R22,V22,Z22,AD22,AH22,AL22,AP22) -> 1 | H22: =SUMIF($J$10:$AS$10,"B",J22:AS22)/G22 -> 10 | I22: =AVERAGE(J22,N22,R22,V22,Z22,AD22,AH22,AL22,AP22) -> 2 | J22: 2 | K22: 10 | M22: 1
C23: Staňa | D23: =SUMIF($J$10:$AS$10,"B",J23:AS23)+SUMIF($J$10:$AS$10,$L$10,J23:AS23) -> 9 | E23: =SUMIF($J$10:$AS$10,"R",J23:AS23) -> 4 | F23: =SUMIF($J$10:$AS$10,$L$10,J23:AS23) -> 0 | G23: =COUNT(J23,N23,R23,V23,Z23,AD23,AH23,AL23,AP23) -> 2 | H23: =SUMIF($J$10:$AS$10,"B",J23:AS23)/G23 -> 4.5 | I23: =AVERAGE(J23,N23,R23,V23,Z23,AD23,AH23,AL23,AP23) -> 5.5 | J23: 6 | K23: 5 | M23: 2 | R23: 5 | S23: 4 | U23: 2
C24: Minis | D24: =SUMIF($J$10:$AS$10,"B",J24:AS24)+SUMIF($J$10:$AS$10,$L$10,J24:AS24) -> 6 | E24: =SUMIF($J$10:$AS$10,"R",J24:AS24) -> 3 | F24: =SUMIF($J$10:$AS$10,$L$10,J24:AS24) -> 0 | G24: =COUNT(J24,N24,R24,V24,Z24,AD24,AH24,AL24,AP24) -> 1 | H24: =SUMIF($J$10:$AS$10,"B",J24:AS24)/G24 -> 6 | I24: =AVERAGE(J24,N24,R24,V24,Z24,AD24,AH24,AL24,AP24) -> 5 | J24: 5 | K24: 6 | M24: 3
C25: Lukáš | D25: =SUMIF($J$10:$AS$10,"B",J25:AS25)+SUMIF($J$10:$AS$10,$L$10,J25:AS25) -> 2 | E25: =SUMIF($J$10:$AS$10,"R",J25:AS25) -> 0 | F25: =SUMIF($J$10:$AS$10,$L$10,J25:AS25) -> 0 | G25: =COUNT(J25,N25,R25,V25,Z25,AD25,AH25,AL25,AP25) -> 1 | H25: =SUMIF($J$10:$AS$10,"B",J25:AS25)/G25 -> 2 | I25: =AVERAGE(J25,N25,R25,V25,Z25,AD25,AH25,AL25,AP25) -> 9 | N25: 9 | O25: 2
C27: Vysvětlivky: | D27: mimořádná událost :-)
D28: P | G28: - Pořadí
D29: B | G29: - Body
D30: R | G30: - Re-buy
C32: Vyúčtování

Sheet 1.pololetí 2011
D1: 1 | F1: =C6*0.5 -> 1120
D2: 2 | F2: =C6*0.3 -> 672
C3: BANK | D3: 3 | F3: =C6*0.2 -> 448
D4: Kufr | G4: =SUM(I4:BY4)-1600 -> 0 | I4: 70 | L4: 70 | O4: 70 | R4: 70 | U4: 0 | X4: 70 | AA4: 70 | AD4: 70 | AG4: 70 | AJ4: 70 | AM4: 70 | AP4: 70 | AS4: 70 | AV4: 70 | AY4: 70 | BB4: 620
C5: =účtování!D4 -> 4317 | D5: extra bank | I5: =(COUNTIF(J11:J43,">0"))*30+(SUM(K11:K31))*30 -> 540 | L5: =(COUNTIF(M11:M31,">0"))*30+(SUM(N11:N31))*30 -> 360 | O5: =(COUNTIF(P11:P43,">0"))*30+(SUM(Q11:Q31))*30 -> 210 | R5: =(COUNTIF(S11:S43,">0"))*30+(SUM(T11:T31))*30 -> 420 | U5: =(COUNTIF(V11:V43,">0"))*30+(SUM(W11:W31))*30 -> 360 | X5: =(COUNTIF(Y11:Y43,">0"))*30+(SUM(Z11:Z31))*30 -> 450 | AA5: =(COUNTIF(AB11:AB43,">0"))*30+(SUM(AC11:AC31))*30 -> 330 | AD5: =(COUNTIF(AE11:AE43,">0"))*30+(SUM(AF11:AF31))*30 -> 570 | AG5: =(COUNTIF(AH11:AH43,">0"))*30+(SUM(AI11:AI31))*30 -> 390 | AJ5: =(COUNTIF(AK11:AK43,">0"))*30+(SUM(AL11:AL31))*30 -> 510 | AM5: =(COUNTIF(AN11:AN43,">0"))*30+(SUM(AO11:AO31))*30 -> 360 | AP5: =(COUNTIF(AQ11:AQ43,">0"))*30+(SUM(AR11:AR31))*30 -> 330 | AS5: =(COUNTIF(AT11:AT43,">0"))*30+(SUM(AU11:AU31))*30 -> 360 | AV5: =(COUNTIF(AW11:AW43,">0"))*30+(SUM(AX11:AX31))*30 -> 450 | AY5: =(COUNTIF(AZ11:AZ43,">0"))*30+(SUM(BA11:BA31))*30 -> 510 | BB5: 0 | BE5: 0 | BH5: 0 | BK5: 0 | BN5: 0 | BQ5: 0 | BT5: 0 | BW5: =(COUNTIF(BX11:BX43,">0"))*30+(SUM(BY11:BY31))*30 -> 0
C6: =SUM(I6:BY6)-20-20-20 -> 2240 | D6: půlroční bank | I6: =(COUNTIF(J11:J22,">0"))*20 -> 140 | L6: =(COUNTIF(M11:M22,">0"))*20 -> 80 | O6: =(COUNTIF(P11:P22,">0"))*20 -> 100 | R6: =(COUNTIF(S11:S22,">0"))*20 -> 140 | U6: =(COUNTIF(V11:V22,">0"))*20 -> 80 | X6: =(COUNTIF(Y11:Y22,">0"))*20 -> 120 | AA6: =(COUNTIF(AB11:AB22,">0"))*20 -> 100 | AD6: =(COUNTIF(AE11:AE22,">0"))*20 -> 140 | AG6: =(COUNTIF(AH11:AH22,">0"))*20 -> 120 | AJ6: =(COUNTIF(AK11:AK22,">0"))*20 -> 140 | AM6: =(COUNTIF(AN11:AN22,">0"))*20 -> 100 | AP6: =(COUNTIF(AQ11:AQ22,">0"))*20 -> 100 | AS6: =(COUNTIF(AT11:AT22,">0"))*20 -> 100 | AV6: =(COUNTIF(AW11:AW22,">0"))*20 -> 80 | AY6: =(COUNTIF(AZ11:AZ22,">0"))*20 -> 60 | BB6: =(COUNTIF(BC11:BC22,">0"))*20 -> 120 | BE6: =(COUNTIF(BF11:BF22,">0"))*20 -> 100 | BH6: =(COUNTIF(BI11:BI22,">0"))*20 -> 80 | BK6: =(COUNTIF(BL11:BL22,">0"))*20 -> 100 | BN6: =(COUNTIF(BO11:BO22,">0"))*20 -> 120 | BQ6: =(COUNTIF(BR11:BR22,">0"))*20 -> 80 | BT6: =(COUNTIF(BU11:BU22,">0"))*20 -> 100 | BW6: =(COUNTIF(BX11:BX22,">0"))*20 -> 0
C7: Denní výhry | H7: 1. | I7: =(((COUNTIF(J11:J43,">0"))*70-70)+((SUM(K11:K31)/2)*70))-70 -> 735 | L7: =(((COUNTIF(M11:M43,">0"))*70-70)+((SUM(N11:N31)/2)*70))-70 -> 560 | O7: =(((COUNTIF(P11:P43,">0"))*70-70)+((SUM(Q11:Q31)/2)*70))-70 -> 280 | R7: =(((COUNTIF(S11:S43,">0"))*70-70)+((SUM(T11:T31)/2)*70))-70 -> 595 | U7: =(((COUNTIF(V11:V43,">0"))*70-70)+((SUM(W11:W31)/2)*70)) -> 595 | X7: =(((COUNTIF(Y11:Y43,">0"))*70-70)+((SUM(Z11:Z31)/2)*70))-70 -> 665 | AA7: =(((COUNTIF(AB11:AB43,">0"))*70-70)+((SUM(AC11:AC31)/2)*70))-70 -> 490 | AD7: =(((COUNTIF(AE11:AE43,">0"))*70-70)+((SUM(AF11:AF31)/2)*70))-70 -> 875 | AG7: =(((COUNTIF(AH11:AH43,">0"))*70-70)+((SUM(AI11:AI31)/2)*70))-70 -> 525 | AJ7: =(((COUNTIF(AK11:AK43,">0"))*70-70)+((SUM(AL11:AL31)/2)*70))-70 -> 770 | AM7: =(((COUNTIF(AN11:AN43,">0"))*70-70)+((SUM(AO11:AO31)/2)*70))-70 -> 455 | AP7: =(((COUNTIF(AQ11:AQ43,">0"))*70-70)+((SUM(AR11:AR31)/2)*70))-70 -> 420 | AS7: =(((COUNTIF(AT11:AT43,">0"))*70-70)+((SUM(AU11:AU31)/2)*70))-70 -> 490 | AV7: =(((COUNTIF(AW11:AW43,">0"))*70-70)+((SUM(AX11:AX31)/2)*70))-70 -> 700 | AY7: =(((COUNTIF(AZ11:AZ43,">0"))*70-70)+((SUM(BA11:BA31)/2)*70))-70 -> 700 | BB7: =(((COUNTIF(BC11:BC43,">0"))*100)+((SUM(BD11:BD31)/2)*100))-100 -> 850 | BE7: =(((COUNTIF(BF11:BF43,">0"))*100)+((SUM(BG11:BG31)/2)*100))-100 -> 550 | BH7: =(((COUNTIF(BI11:BI43,">0"))*100)+((SUM(BJ11:BJ31)/2)*100))-100 -> 600 | BK7: =(((COUNTIF(BL11:BL43,">0"))*100)+((SUM(BM11:BM31)/2)*100))-100 -> 600 | BN7: =(((COUNTIF(BO11:BO43,">0"))*100)+((SUM(BP11:BP31)/2)*100))-100 -> 1050 | BQ7: =(((COUNTIF(BR11:BR43,">0"))*100)+((SUM(BS11:BS31)/2)*100))-100 -> 750 | BT7: =(((COUNTIF(BU11:BU31,">0"))*100)+((SUM(BV11:BV31)/2)*100))-100 -> 1350 | BW7: 0
H8: 2. | I8: =70+(SUM(K11:K31)/2)*70 -> 455 | L8: =70+(SUM(N11:N31)/2)*70 -> 210 | O8: =70+(SUM(Q11:Q31)/2)*70 -> 140 | R8: =70+(SUM(T11:T31)/2)*70 -> 315 | U8: =70+(SUM(W11:W31)/2)*70 -> 245 | X8: =70+(SUM(Z11:Z31)/2)*70 -> 315 | AA8: =70+(SUM(AC11:AC31)/2)*70 -> 210 | AD8: =70+(SUM(AF11:AF31)/2)*70 -> 385 | AG8: =70+(SUM(AI11:AI31)/2)*70 -> 315 | AJ8: =70+(SUM(AL11:AL31)/2)*70 -> 350 | AM8: =70+(SUM(AO11:AO31)/2)*70 -> 315 | AP8: =70+(SUM(AR11:AR31)/2)*70 -> 280 | AS8: =70+(SUM(AU11:AU31)/2)*70 -> 280 | AV8: =70+(SUM(AX11:AX31)/2)*70 -> 280 | AY8: =70+(SUM(BA11:BA31)/2)*70 -> 420 | BB8: =100+(SUM(BD11:BD31)/2)*100 -> 350 | BE8: =100+(SUM(BG11:BG31)/2)*100 -> 250 | BH8: =100+(SUM(BJ11:BJ31)/2)*100 -> 300 | BK8: =100+(SUM(BM11:BM31)/2)*100 -> 300 | BN8: =100+(SUM(BP11:BP31)/2)*100 -> 550 | BQ8: =100+(SUM(BS11:BS31)/2)*100 -> 350 | BT8: =100+(SUM(BV11:BV31)/2)*100 -> 850 | BW8: 0
I9: 40551 | L9: 40558 | O9: 40565 | R9: 40572 | U9: 40578 | X9: 40584 | AA9: 40586 | AD9: 40592 | AG9: 40600 | AJ9: 40613 | AM9: 40620 | AP9: 40628 | AS9: 40634 | AV9: 40642 | AY9: 40649 | BB9: 40662 | BE9: 40670 | BH9: 40677 | BK9: 40684 | BN9: 40690 | BQ9: 40696 | BT9: 40705
C10: Jméno: | D10: Body | E10: dokup | F10: odehráno | G10: Q body | H10: Q pořadí | I10: P | J10: B | K10: R | L10: P | M10: B | N10: R | O10: P | P10: B | Q10: R | R10: P | S10: B | T10: R | U10: P | V10: B | W10: R | X10: P | Y10: B | Z10: R | AA10: P | AB10: B | AC10: R | AD10: P | AE10: B | AF10: R | AG10: P | AH10: B | AI10: R | AJ10: P | AK10: B | AL10: R | AM10: P | AN10: B | AO10: R | AP10: P | AQ10: B | AR10: R | AS10: P | AT10: B | AU10: R | AV10: P | AW10: B | AX10: R | AY10: P | AZ10: B | BA10: R | BB10: P | BC10: B | BD10: R | BE10: P | BF10: B | BG10: R | BH10: P | BI10: B | BJ10: R | BK10: P | BL10: B | BM10: R | BN10: P | BO10: B | BP10: R | BQ10: P | BR10: B | BS10: R | BT10: P | BU10: B | BV10: R | BW10: P | BX10: B | BY10: R
B11: 1 | C11: Igor | D11: =SUMIF($I$10:$BY$10,"B",I11:BY11) -> 125 | E11: =SUMIF($I$10:$BY$10,"R",I11:BY11) -> 25 | F11: =COUNT(I11,L11,O11,R11,U11,X11,AA11,AD11,AG11,BW11,AJ11,AM11,AP11,AS11,AV11,AY11,BB11,BE11,BH11,BK11,BN11,BQ11,BT11) -> 22 | G11: =AVERAGE(J11,M11,P11,S11,V11,Y11,AB11,AE11,AH11,BX11,AK11,AN11,AQ11,AT11,AW11,AZ11,BC11,BF11,BI11,BL11,BO11,BR11,BU11) -> 5.6818182 | H11: =AVERAGE(I11,L11,O11,R11,U11,X11,AA11,AD11,AG11,BW11,AJ11,AM11,AP11,AS11,AV11,AY11,BB11,BE11,BH11,BK11,BN11,BQ11,BT11) -> 2.7727273 | I11: 3 | J11: 5 | K11: 3 | L11: 2 | M11: 8 | N11: 1 | O11: 2 | P11: 5 | R11: 3 | S11: 5 | U11: 7 | V11: 1 | X11: 4 | Y11: 5 | AA11: 5 | AB11: 3 | AC11: 1 | AD11: 1 | AE11: 12 | AG11: 1 | AH11: 8 | AI11: 3 | AJ11: 1 | AK11: 11 | AL11: 3 | AM11: 4 | AN11: 2 | AO11: 1 | AP11: 1 | AQ11: 7 | AS11: 3 | AT11: 4 | AU11: 1 | AV11: 2 | AW11: 9 | AX11: 1 | AY11: 5 | AZ11: 3 | BA11: 3 | BB11: 1 | BC11: 9 | BD11: 2 | BE11: 3 | BF11: 3 | BG11: 2 | BH11: 4 | BI11: 2 | BJ11: 1 | BK11: 2 | BL11: 5 | BM11: 1 | BN11: 2 | BO11: 7 | BP11: 2 | BQ11: 3 | BR11: 4 | BT11: 2 | BU11: 7
B12: 2 | C12: Ludwa | D12: =SUMIF($I$10:$BY$10,"B",I12:BY12) -> 104 | E12: =SUMIF($I$10:$BY$10,"R",I12:BY12) -> 14 | F12: =COUNT(I12,L12,O12,R12,U12,X12,AA12,AD12,AG12,BW12,AJ12,AM12,AP12,AS12,AV12,AY12,BB12,BE12,BH12,BK12,BN12,BQ12,BT12) -> 22 | G12: =AVERAGE(J12,M12,P12,S12,V12,Y12,AB12,AE12,AH12,BX12,AK12,AN12,AQ12,AT12,AW12,AZ12,BC12,BF12,BI12,BL12,BO12,BR12,BU12) -> 4.7272727 | H12: =AVERAGE(I12,L12,O12,R12,U12,X12,AA12,AD12,AG12,BW12,AJ12,AM12,AP12,AS12,AV12,AY12,BB12,BE12,BH12,BK12,BN12,BQ12,BT12) -> 3.5909091 | I12: 2 | J12: 7 | L12: 6 | M12: 3 | N12: 1 | O12: 1 | P12: 7 | Q12: 1 | R12: 6 | S12: 2 | T12: 1 | U12: 2 | V12: 7 | X12: 7 | Y12: 2 | AA12: 7 | AB12: 1 | AD12: 5 | AE12: 6 | AG12: 5 | AH12: 2 | AI12: 1 | AJ12: 4 | AK12: 6 | AL12: 1 | AM12: 1 | AN12: 7 | AP12: 4 | AQ12: 2 | AR12: 1 | AS12: 5 | AT12: 2 | AU12: 1 | AV12: 3 | AW12: 7 | AX12: 1 | AY12: 1 | AZ12: 9 | BB12: 3 | BC12: 5 | BD12: 1 | BE12: 4 | BF12: 2 | BH12: 5 | BI12: 1 | BJ12: 1 | BK12: 1 | BL12: 7 | BM12: 2 | BN12: 1 | BO12: 9 | BQ12: 2 | BR12: 6 | BT12: 4 | BU12: 4 | BV12: 2
B13: 3 | C13: Jáchym | D13: =SUMIF($I$10:$BY$10,"B",I13:BY13) -> 101 | E13: =SUMIF($I$10:$BY$10,"R",I13:BY13) -> 26 | F13: =COUNT(I13,L13,O13,R13,U13,X13,AA13,AD13,AG13,BW13,AJ13,AM13,AP13,AS13,AV13,AY13,BB13,BE13,BH13,BK13,BN13,BQ13,BT13) -> 21 | G13: =AVERAGE(J13,M13,P13,S13,V13,Y13,AB13,AE13,AH13,BX13,AK13,AN13,AQ13,AT13,AW13,AZ13,BC13,BF13,BI13,BL13,BO13,BR13,BU13) -> 4.8095238 | H13: =AVERAGE(I13,L13,O13,R13,U13,X13,AA13,AD13,AG13,BW13,AJ13,AM13,AP13,AS13,AV13,AY13,BB13,BE13,BH13,BK13,BN13,BQ13,BT13) -> 3.4761905 | I13: 1 | J13: 9 | K13: 2 | L13: 5 | M13: 4 | O13: 3 | P13: 3 | R13: 4 | S13: 4 | T13: 1 | X13: 2 | Y13: 8 | Z13: 2 | AA13: 1 | AB13: 9 | AC13: 2 | AD13: 9 | AE13: 2 | AF13: 2 | AG13: 4 | AH13: 3 | AI13: 2 | AJ13: 5 | AK13: 5 | AL13: 1 | AM13: 5 | AN13: 1 | AO13: 1 | AP13: 3 | AQ13: 3 | AR13: 3 | AS13: 1 | AT13: 8 | AV13: 5 | AW13: 5 | AX13: 2 | AY13: 2 | AZ13: 7 | BA13: 2 | BB13: 5 | BC13: 3 | BD13: 1 | BE13: 1 | BF13: 7 | BG13: 1 | BH13: 1 | BI13: 7 | BJ13: 1 | BK13: 4 | BL13: 2 | BN13: 3 | BO13: 5 | BP13: 1 | BQ13: 6 | BR13: 1 | BS13: 1 | BT13: 3 | BU13: 5 | BV13: 1
A14: T | B14: 4 | C14: Mira | D14: =SUMIF($I$10:$BY$10,"B",I14:BY14) -> 46 | E14: =SUMIF($I$10:$BY$10,"R",I14:BY14) -> 20 | F14: =COUNT(I14,L14,O14,R14,U14,X14,AA14,AD14,AG14,BW14,AJ14,AM14,AP14,AS14,AV14,AY14,BB14,BE14,BH14,BK14,BN14,BQ14,BT14) -> 10 | G14: =AVERAGE(J14,M14,P14,S14,V14,Y14,AB14,AE14,AH14,BX14,AK14,AN14,AQ14,AT14,AW14,AZ14,BC14,BF14,BI14,BL14,BO14,BR14,BU14) -> 4.6 | H14: =AVERAGE(I14,L14,O14,R14,U14,X14,AA14,AD14,AG14,BW14,AJ14,AM14,AP14,AS14,AV14,AY14,BB14,BE14,BH14,BK14,BN14,BQ14,BT14) -> 3.2 | O14: 5 | P14: 1 | R14: 2 | S14: 7 | T14: 2 | U14: 1 | V14: 9 | W14: 2 | AG14: 3 | AH14: 4 | AJ14: 3 | AK14: 7 | AM14: 2 | AN14: 5 | AO14: 2 | AP14: 2 | AQ14: 5 | AR14: 2 | BK14: 3 | BL14: 3 | BM14: 1 | BN14: 5 | BO14: 3 | BP14: 2 | BT14: 6 | BU14: 2 | BV14: 9
A15: U | B15: 5 | C15: Pecen | D15: =SUMIF($I$10:$BY$10,"B",I15:BY15) -> 41 | E15: =SUMIF($I$10:$BY$10,"R",I15:BY15) -> 2 | F15: =COUNT(I15,L15,O15,R15,U15,X15,AA15,AD15,AG15,BW15,AJ15,AM15,AP15,AS15,AV15,AY15,BB15,BE15,BH15,BK15,BN15,BQ15,BT15) -> 6 | G15: =AVERAGE(J15,M15,P15,S15,V15,Y15,AB15,AE15,AH15,BX15,AK15,AN15,AQ15,AT15,AW15,AZ15,BC15,BF15,BI15,BL15,BO15,BR15,BU15) -> 6.8333333 | H15: =AVERAGE(I15,L15,O15,R15,U15,X15,AA15,AD15,AG15,BW15,AJ15,AM15,AP15,AS15,AV15,AY15,BB15,BE15,BH15,BK15,BN15,BQ15,BT15) -> 2.5 | R15: 1 | S15: 9 | AD15: 2 | AE15: 10 | AJ15: 2 | AK15: 9 | AS15: 2 | AT15: 6 | AU15: 2 | BE15: 2 | BF15: 5 | BN15: 6 | BO15: 2
A16: R | B16: 6 | C16: Markéta | D16: =SUMIF($I$10:$BY$10,"B",I16:BY16) -> 33 | E16: =SUMIF($I$10:$BY$10,"R",I16:BY16) -> 6 | F16: =COUNT(I16,L16,O16,R16,U16,X16,AA16,AD16,AG16,BW16,AJ16,AM16,AP16,AS16,AV16,AY16,BB16,BE16,BH16,BK16,BN16,BQ16,BT16) -> 15 | G16: =AVERAGE(J16,M16,P16,S16,V16,Y16,AB16,AE16,AH16,BX16,AK16,AN16,AQ16,AT16,AW16,AZ16,BC16,BF16,BI16,BL16,BO16,BR16,BU16) -> 2.2 | H16: =AVERAGE(I16,L16,O16,R16,U16,X16,AA16,AD16,AG16,BW16,AJ16,AM16,AP16,AS16,AV16,AY16,BB16,BE16,BH16,BK16,BN16,BQ16,BT16) -> 5.4666667 | I16: 5 | J16: 3 | K16: 1 | L16: 8 | M16: 1 | O16: 4 | P16: 2 | Q16: 1 | R16: 7 | S16: 1 | X16: 3 | Y16: 6 | AA16: 3 | AB16: 5 | AC16: 1 | AG16: 6 | AH16: 1 | AJ16: 9 | AK16: 1 | AL16: 1 | AP16: 5 | AQ16: 1 | AV16: 8 | AW16: 2 | BB16: 6 | BC16: 2 | BD16: 1 | BE16: 5 | BF16: 1 | BH16: 3 | BI16: 3 | BJ16: 1 | BK16: 5 | BL16: 1 | BT16: 5 | BU16: 3
A17: N | B17: 7 | C17: Jara hotel | D17: =SUMIF($I$10:$BY$10,"B",I17:BY17) -> 29 | E17: =SUMIF($I$10:$BY$10,"R",I17:BY17) -> 9 | F17: =COUNT(I17,L17,O17,R17,U17,X17,AA17,AD17,AG17,BW17,AJ17,AM17,AP17,AS17,AV17,AY17,BB17,BE17,BH17,BK17,BN17,BQ17,BT17) -> 6 | G17: =AVERAGE(J17,M17,P17,S17,V17,Y17,AB17,AE17,AH17,BX17,AK17,AN17,AQ17,AT17,AW17,AZ17,BC17,BF17,BI17,BL17,BO17,BR17,BU17) -> 4.8333333 | H17: =AVERAGE(I17,L17,O17,R17,U17,X17,AA17,AD17,AG17,BW17,AJ17,AM17,AP17,AS17,AV17,AY17,BB17,BE17,BH17,BK17,BN17,BQ17,BT17) -> 3.6666667 | I17: 4 | J17: 4 | K17: 2 | X17: 1 | Y17: 10 | AD17: 6 | AE17: 5 | AF17: 3 | AM17: 3 | AN17: 3 | AO17: 3 | AS17: 4 | AT17: 3 | AU17: 1 | BB17: 4 | BC17: 4
A18: A | B18: 8 | C18: Broňa Uher | D18: =SUMIF($I$10:$BY$10,"B",I18:BY18) -> 17 | E18: =SUMIF($I$10:$BY$10,"R",I18:BY18) -> 5 | F18: =COUNT(I18,L18,O18,R18,U18,X18,AA18,AD18,AG18,BW18,AJ18,AM18,AP18,AS18,AV18,AY18,BB18,BE18,BH18,BK18,BN18,BQ18,BT18) -> 5 | G18: =AVERAGE(J18,M18,P18,S18,V18,Y18,AB18,AE18,AH18,BX18,AK18,AN18,AQ18,AT18,AW18,AZ18,BC18,BF18,BI18,BL18,BO18,BR18,BU18) -> 3.4 | H18: =AVERAGE(I18,L18,O18,R18,U18,X18,AA18,AD18,AG18,BW18,AJ18,AM18,AP18,AS18,AV18,AY18,BB18,BE18,BH18,BK18,BN18,BQ18,BT18) -> 5.4 | R18: 5 | S18: 3 | T18: 3 | U18: 4 | V18: 4 | X18: 8 | Y18: 1 | Z18: 1 | AD18: 8 | AE18: 3 | AG18: 2 | AH18: 6 | AI18: 1
A19: J | B19: 9 | C19: Radek Pecl | D19: =SUMIF($I$10:$BY$10,"B",I19:BY19) -> 9 | E19: =SUMIF($I$10:$BY$10,"R",I19:BY19) -> 1 | F19: =COUNT(I19,L19,O19,R19,U19,X19,AA19,AD19,AG19,BW19,AJ19,AM19,AP19,AS19,AV19,AY19,BB19,BE19,BH19,BK19,BN19,BQ19,BT19) -> 2 | G19: =AVERAGE(J19,M19,P19,S19,V19,Y19,AB19,AE19,AH19,BX19,AK19,AN19,AQ19,AT19,AW19,AZ19,BC19,BF19,BI19,BL19,BO19,BR19,BU19) -> 4.5 | H19: =AVERAGE(I19,L19,O19,R19,U19,X19,AA19,AD19,AG19,BW19,AJ19,AM19,AP19,AS19,AV19,AY19,BB19,BE19,BH19,BK19,BN19,BQ19,BT19) -> 3.5 | AA19: 2 | AB19: 7 | BQ19: 5 | BR19: 2 | BS19: 1
B20: 10 | C20: Špelec | D20: =SUMIF($I$10:$BY$10,"B",I20:BY20) -> 9 | E20: =SUMIF($I$10:$BY$10,"R",I20:BY20) -> 3 | F20: =COUNT(I20,L20,O20,R20,U20,X20,AA20,AD20,AG20,BW20,AJ20,AM20,AP20,AS20,AV20,AY20,BB20,BE20,BH20,BK20,BN20,BQ20,BT20) -> 2 | G20: =AVERAGE(J20,M20,P20,S20,V20,Y20,AB20,AE20,AH20,BX20,AK20,AN20,AQ20,AT20,AW20,AZ20,BC20,BF20,BI20,BL20,BO20,BR20,BU20) -> 4.5 | H20: =AVERAGE(I20,L20,O20,R20,U20,X20,AA20,AD20,AG20,BW20,AJ20,AM20,AP20,AS20,AV20,AY20,BB20,BE20,BH20,BK20,BN20,BQ20,BT20) -> 5.5 | I20: 7 | J20: 1 | K20: 1 | AD20: 4 | AE20: 8 | AF20: 2
B21: 11 | C21: Miloš Bednář | D21: =SUMIF($I$10:$BY$10,"B",I21:BY21) -> 6 | E21: =SUMIF($I$10:$BY$10,"R",I21:BY21) -> 2 | F21: =COUNT(I21,L21,O21,R21,U21,X21,AA21,AD21,AG21,BW21,AJ21,AM21,AP21,AS21,AV21,AY21,BB21,BE21,BH21,BK21,BN21,BQ21,BT21) -> 3 | G21: =AVERAGE(J21,M21,P21,S21,V21,Y21,AB21,AE21,AH21,BX21,AK21,AN21,AQ21,AT21,AW21,AZ21,BC21,BF21,BI21,BL21,BO21,BR21,BU21) -> 2 | H21: =AVERAGE(I21,L21,O21,R21,U21,X21,AA21,AD21,AG21,BW21,AJ21,AM21,AP21,AS21,AV21,AY21,BB21,BE21,BH21,BK21,BN21,BQ21,BT21) -> 6.6666667 | AJ21: 6 | AK21: 4 | AL21: 1 | BB21: 7 | BC21: 1 | BN21: 7 | BO21: 1 | BP21: 1
B22: 12 | C22: Dominik | D22: =SUMIF($I$10:$BY$10,"B",I22:BY22) -> 2 | E22: =SUMIF($I$10:$BY$10,"R",I22:BY22) -> 2 | F22: =COUNT(I22,L22,O22,R22,U22,X22,AA22,AD22,AG22,BW22,AJ22,AM22,AP22,AS22,AV22,AY22,BB22,BE22,BH22,BK22,BN22,BQ22,BT22) -> 1 | G22: =AVERAGE(J22,M22,P22,S22,V22,Y22,AB22,AE22,AH22,BX22,AK22,AN22,AQ22,AT22,AW22,AZ22,BC22,BF22,BI22,BL22,BO22,BR22,BU22) -> 2 | H22: =AVERAGE(I22,L22,O22,R22,U22,X22,AA22,AD22,AG22,BW22,AJ22,AM22,AP22,AS22,AV22,AY22,BB22,BE22,BH22,BK22,BN22,BQ22,BT22) -> 6 | I22: 6 | J22: 2 | K22: 2
C23: Minis | D23: =SUMIF($I$10:$BY$10,"B",I23:BY23) -> 47 | E23: =SUMIF($I$10:$BY$10,"R",I23:BY23) -> 9 | F23: =COUNT(I23,L23,O23,R23,U23,X23,AA23,AD23,AG23,BW23,AJ23,AM23,AP23,AS23,AV23,AY23,BB23,BE23,BH23,BK23,BN23,BQ23,BT23) -> 9 | G23: =AVERAGE(J23,M23,P23,S23,V23,Y23,AB23,AE23,AH23,BX23,AK23,AN23,AQ23,AT23,AW23,AZ23,BC23,BF23,BI23,BL23,BO23,BR23,BU23) -> 5.2222222 | H23: =AVERAGE(I23,L23,O23,R23,U23,X23,AA23,AD23,AG23,BW23,AJ23,AM23,AP23,AS23,AV23,AY23,BB23,BE23,BH23,BK23,BN23,BQ23,BT23) -> 4 | L23: 4 | M23: 5 | U23: 3 | V23: 5 | W23: 2 | AA23: 4 | AB23: 4 | AD23: 7 | AE23: 4 | AF23: 1 | AJ23: 7 | AK23: 3 | AV23: 1 | AW23: 11 | AY23: 4 | AZ23: 4 | BA23: 3 | BB23: 2 | BC23: 7 | BN23: 4 | BO23: 4 | BP23: 3
C24: Filip | D24: =SUMIF($I$10:$BY$10,"B",I24:BY24) -> 20 | E24: =SUMIF($I$10:$BY$10,"R",I24:BY24) -> 8 | F24: =COUNT(I24,L24,O24,R24,U24,X24,AA24,AD24,AG24,BW24,AJ24,AM24,AP24,AS24,AV24,AY24,BB24,BE24,BH24,BK24,BN24,BQ24,BT24) -> 3 | G24: =AVERAGE(J24,M24,P24,S24,V24,Y24,AB24,AE24,AH24,BX24,AK24,AN24,AQ24,AT24,AW24,AZ24,BC24,BF24,BI24,BL24,BO24,BR24,BU24) -> 6.6666667 | H24: =AVERAGE(I24,L24,O24,R24,U24,X24,AA24,AD24,AG24,BW24,AJ24,AM24,AP24,AS24,AV24,AY24,BB24,BE24,BH24,BK24,BN24,BQ24,BT24) -> 2.6666667 | X24: 6 | Y24: 3 | Z24: 2 | BQ24: 1 | BR24: 8 | BS24: 3 | BT24: 1 | BU24: 9 | BV24: 3
C25: Karel | D25: =SUMIF($I$10:$BY$10,"B",I25:BY25) -> 19 | E25: =SUMIF($I$10:$BY$10,"R",I25:BY25) -> 5 | F25: =COUNT(I25,L25,O25,R25,U25,X25,AA25,AD25,AG25,BW25,AJ25,AM25,AP25,AS25,AV25,AY25,BB25,BE25,BH25,BK25,BN25,BQ25,BT25) -> 4 | G25: =AVERAGE(J25,M25,P25,S25,V25,Y25,AB25,AE25,AH25,BX25,AK25,AN25,AQ25,AT25,AW25,AZ25,BC25,BF25,BI25,BL25,BO25,BR25,BU25) -> 4.75 | H25: =AVERAGE(I25,L25,O25,R25,U25,X25,AA25,AD25,AG25,BW25,AJ25,AM25,AP25,AS25,AV25,AY25,BB25,BE25,BH25,BK25,BN25,BQ25,BT25) -> 4.75 | L25: 3 | M25: 6 | N25: 2 | U25: 6 | V25: 2 | W25: 1 | AD25: 3 | AE25: 8 | AF25: 1 | AV25: 7 | AW25: 3 | AX25: 1
C26: Ondra Herich | D26: =SUMIF($I$10:$BY$10,"B",I26:BY26) -> 13 | E26: =SUMIF($I$10:$BY$10,"R",I26:BY26) -> 1 | F26: =COUNT(I26,L26,O26,R26,U26,X26,AA26,AD26,AG26,BW26,AJ26,AM26,AP26,AS26,AV26,AY26,BB26,BE26,BH26,BK26,BN26,BQ26,BT26) -> 5 | G26: =AVERAGE(J26,M26,P26,S26,V26,Y26,AB26,AE26,AH26,BX26,AK26,AN26,AQ26,AT26,AW26,AZ26,BC26,BF26,BI26,BL26,BO26,BR26,BU26) -> 2.6 | H26: =AVERAGE(I26,L26,O26,R26,U26,X26,AA26,AD26,AG26,BW26,AJ26,AM26,AP26,AS26,AV26,AY26,BB26,BE26,BH26,BK26,BN26,BQ26,BT26) -> 5.4 | AS26: 6 | AT26: 1 | AU26: 1 | AV26: 9 | AW26: 1 | AY26: 3 | AZ26: 5 | BH26: 2 | BI26: 5 | BT26: 7 | BU26: 1
C27: Zbyňa | D27: =SUMIF($I$10:$BY$10,"B",I27:BY27) -> 12 | E27: =SUMIF($I$10:$BY$10,"R",I27:BY27) -> 0 | F27: =COUNT(I27,L27,O27,R27,U27,X27,AA27,AD27,AG27,BW27,AJ27,AM27,AP27,AS27,AV27,AY27,BB27,BE27,BH27,BK27,BN27,BQ27,BT27) -> 2 | G27: =AVERAGE(J27,M27,P27,S27,V27,Y27,AB27,AE27,AH27,BX27,AK27,AN27,AQ27,AT27,AW27,AZ27,BC27,BF27,BI27,BL27,BO27,BR27,BU27) -> 6 | H27: =AVERAGE(I27,L27,O27,R27,U27,X27,AA27,AD27,AG27,BW27,AJ27,AM27,AP27,AS27,AV27,AY27,BB27,BE27,BH27,BK27,BN27,BQ27,BT27) -> 3.5 | L27: 1 | M27: 10 | AA27: 6 | AB27: 2
C28: Piňus | D28: =SUMIF($I$10:$BY$10,"B",I28:BY28) -> 10 | E28: =SUMIF($I$10:$BY$10,"R",I28:BY28) -> 0 | F28: =COUNT(I28,L28,O28,R28,U28,X28,AA28,AD28,AG28,BW28,AJ28,AM28,AP28,AS28,AV28,AY28,BB28,BE28,BH28,BK28,BN28,BQ28,BT28) -> 4 | G28: =AVERAGE(J28,M28,P28,S28,V28,Y28,AB28,AE28,AH28,BX28,AK28,AN28,AQ28,AT28,AW28,AZ28,BC28,BF28,BI28,BL28,BO28,BR28,BU28) -> 2.5 | H28: =AVERAGE(I28,L28,O28,R28,U28,X28,AA28,AD28,AG28,BW28,AJ28,AM28,AP28,AS28,AV28,AY28,BB28,BE28,BH28,BK28,BN28,BQ28,BT28) -> 7 | L28: 7 | M28: 2 | U28: 5 | V28: 3 | AD28: 10 | AE28: 1 | AV28: 6 | AW28: 4
C29: Dušan | D29: =SUMIF($I$10:$BY$10,"B",I29:BY29) -> 9 | E29: =SUMIF($I$10:$BY$10,"R",I29:BY29) -> 3 | F29: =COUNT(I29,L29,O29,R29,U29,X29,AA29,AD29,AG29,BW29,AJ29,AM29,AP29,AS29,AV29,AY29,BB29,BE29,BH29,BK29,BN29,BQ29,BT29) -> 3 | G29: =AVERAGE(J29,M29,P29,S29,V29,Y29,AB29,AE29,AH29,BX29,AK29,AN29,AQ29,AT29,AW29,AZ29,BC29,BF29,BI29,BL29,BO29,BR29,BU29) -> 3 | H29: =AVERAGE(I29,L29,O29,R29,U29,X29,AA29,AD29,AG29,BW29,AJ29,AM29,AP29,AS29,AV29,AY29,BB29,BE29,BH29,BK29,BN29,BQ29,BT29) -> 5.6666667 | X29: 5 | Y29: 4 | Z29: 2 | AJ29: 8 | AK29: 2 | AL29: 1 | BQ29: 4 | BR29: 3
C30: Staňa | D30: =SUMIF($I$10:$BY$10,"B",I30:BY30) -> 7 | E30: =SUMIF($I$10:$BY$10,"R",I30:BY30) -> 3 | F30: =COUNT(I30,L30,O30,R30,U30,X30,AA30,AD30,AG30,BW30,AJ30,AM30,AP30,AS30,AV30,AY30,BB30,BE30,BH30,BK30,BN30,BQ30,BT30) -> 2 | G30: =AVERAGE(J30,M30,P30,S30,V30,Y30,AB30,AE30,AH30,BX30,AK30,AN30,AQ30,AT30,AW30,AZ30,BC30,BF30,BI30,BL30,BO30,BR30,BU30) -> 3.5 | H30: =AVERAGE(I30,L30,O30,R30,U30,X30,AA30,AD30,AG30,BW30,AJ30,AM30,AP30,AS30,AV30,AY30,BB30,BE30,BH30,BK30,BN30,BQ30,BT30) -> 5.5 | AV30: 4 | AW30: 6 | AX30: 1 | AY30: 7 | AZ30: 1 | BA30: 2
C31: Škaris | D31: =SUMIF($I$10:$BY$10,"B",I31:BY31) -> 2 | E31: =SUMIF($I$10:$BY$10,"R",I31:BY31) -> 0 | F31: =COUNT(I31,L31,O31,R31,U31,X31,AA31,AD31,AG31,BW31,AJ31,AM31,AP31,AS31,AV31,AY31,BB31,BE31,BH31,BK31,BN31,BQ31,BT31) -> 1 | G31: =AVERAGE(J31,M31,P31,S31,V31,Y31,AB31,AE31,AH31,BX31,AK31,AN31,AQ31,AT31,AW31,AZ31,BC31,BF31,BI31,BL31,BO31,BR31,BU31) -> 2 | H31: =AVERAGE(I31,L31,O31,R31,U31,X31,AA31,AD31,AG31,BW31,AJ31,AM31,AP31,AS31,AV31,AY31,BB31,BE31,BH31,BK31,BN31,BQ31,BT31) -> 6 | AY31: 6 | AZ31: 2
C33: Vysvětlivky: | D33: mimořádná událost :-)
D34: P | F34: - Pořadí
D35: B | F35: - Body
D36: R | F36: - Re-buy
C38: Způsob vyplácení výher

Sheet 2.pololetí 2010
B1: Odcizeno :-( | C1: 1 | E1: =B4*0.5 -> 490 | G1: 0.5
B2: 2200 | C2: 2 | E2: =B4*0.3 -> 294 | G2: 0.3 | BP2: Kufr | BS2: =SUM(BS3:CM3)-2600 -> -1600
B3: BANK | C3: 3 | E3: =B4*0.2 -> 196 | G3: 0.2 | BS3: 100 | BV3: 100 | BY3: 100 | CB3: 100 | CE3: 0 | CH3: 200 | CK3: 400
B4: =SUM(H4:CM4)-B2 -> 980 | H4: =(COUNTIF(I9:I37,">0"))*20 -> 140 | K4: =(COUNTIF(L9:L37,">0"))*20 -> 100 | N4: =(COUNTIF(O9:O37,">0"))*20 -> 80 | Q4: =(COUNTIF(R9:R37,">0"))*20 -> 100 | T4: =(COUNTIF(U9:U37,">0"))*20 -> 120 | W4: =(COUNTIF(X9:X37,">0"))*20 -> 120 | Z4: =(COUNTIF(AA9:AA37,">0"))*20 -> 120 | AC4: =(COUNTIF(AD9:AD37,">0"))*20 -> 120 | AF4: =(COUNTIF(AG9:AG37,">0"))*20 -> 60 | AI4: =(COUNTIF(AJ9:AJ37,">0"))*20 -> 80 | AL4: =(COUNTIF(AM9:AM37,">0"))*20 -> 100 | AO4: =(COUNTIF(AP9:AP37,">0"))*20 -> 80 | AR4: =(COUNTIF(AS9:AS37,">0"))*20 -> 140 | AU4: =(COUNTIF(AV9:AV37,">0"))*20 -> 80 | AX4: =(COUNTIF(AY9:AY37,">0"))*20 -> 120 | BA4: =(COUNTIF(BB9:BB37,">0"))*20 -> 120 | BD4: =(COUNTIF(BE9:BE37,">0"))*20 -> 120 | BG4: =(COUNTIF(BH9:BH37,">0"))*20 -> 100 | BJ4: =(COUNTIF(BK9:BK37,">0"))*20 -> 120 | BM4: =(COUNTIF(BN9:BN37,">0"))*20 -> 180 | BP4: =(COUNTIF(BQ9:BQ37,">0"))*20 -> 120 | BS4: =(COUNTIF(BT9:BT37,">0"))*20 -> 100 | BV4: =(COUNTIF(BW9:BW37,">0"))*20 -> 80 | BY4: =(COUNTIF(BZ9:BZ37,">0"))*20 -> 120 | CB4: =(COUNTIF(CC9:CC37,">0"))*20 -> 100 | CE4: =(COUNTIF(CF9:CF37,">0"))*20 -> 140 | CH4: =(COUNTIF(CI9:CI37,">0"))*20 -> 140 | CK4: =(COUNTIF(CL9:CL37,">0"))*20 -> 180
B5: Denní výhry | G5: 1. | H5: =((COUNTIF(I9:I37,">0"))*100-200)+(SUM(J9:J21)/2)*100 -> 650 | K5: =((COUNTIF(L9:L37,">0"))*100-200)+(SUM(M9:M21)/2)*100 -> 450 | N5: =((COUNTIF(O9:O37,">0"))*100-200)+(SUM(P9:P21)/2)*100 -> 350 | Q5: =((COUNTIF(R9:R37,">0"))*100-200)+(SUM(S9:S21)/2)*100 -> 400 | T5: =((COUNTIF(U9:U37,">0"))*100-100)+(SUM(V9:V25)/2)*100 -> 800 | W5: =((COUNTIF(X9:X37,">0"))*100-100)+(SUM(Y9:Y25)/2)*100 -> 800 | Z5: =((COUNTIF(AA9:AA37,">0"))*100-100)+(SUM(AB9:AB25)/2)*100 -> 700 | AC5: =((COUNTIF(AD9:AD37,">0"))*100-100)+(SUM(AE9:AE25)/2)*100 -> 650 | AF5: =((COUNTIF(AG9:AG37,">0"))*100-100)+(SUM(AH9:AH25)/2)*100 -> 300 | AI5: =((COUNTIF(AJ9:AJ37,">0"))*100-100)+(SUM(AK9:AK25)/2)*100 -> 500 | AL5: =((COUNTIF(AM9:AM37,">0"))*100-100)+(SUM(AN9:AN25)/2)*100 -> 400 | AO5: =((COUNTIF(AP9:AP37,">0"))*100-100)+(SUM(AQ9:AQ25)/2)*100 -> 450 | AR5: =((COUNTIF(AS9:AS37,">0"))*100-100)+(SUM(AT9:AT25)/2)*100 -> 850 | AU5: =((COUNTIF(AV9:AV37,">0"))*100-100)+(SUM(AW9:AW25)/2)*100 -> 550 | AX5: =((COUNTIF(AY9:AY37,">0"))*100-100)+(SUM(AZ9:AZ25)/2)*100 -> 700 | BA5: =((COUNTIF(BB9:BB37,">0"))*100-100)+(SUM(BC9:BC25)/2)*100 -> 700 | BD5: =((COUNTIF(BE9:BE37,">0"))*100-100)+(SUM(BF9:BF25)/2)*100 -> 850 | BG5: =((COUNTIF(BH9:BH37,">0"))*100-100)+(SUM(BI9:BI25)/2)*100 -> 700 | BJ5: =((COUNTIF(BK9:BK37,">0"))*100-100)+(SUM(BL9:BL25)/2)*100 -> 800 | BM5: =((COUNTIF(BN9:BN37,">0"))*100-100)+(SUM(BO9:BO25)/2)*100 -> 1200 | BP5: =((COUNTIF(BQ9:BQ37,">0"))*100-100)+(SUM(BR9:BR25)/2)*100 -> 750 | BS5: =(((COUNTIF(BT9:BT37,">0"))*100-100)+(SUM(BU9:BU25)/2)*100)-100 -> 400 | BV5: =(((COUNTIF(BW9:BW37,">0"))*100-100)+(SUM(BX9:BX25)/2)*100)-100 -> 400 | BY5: =(((COUNTIF(BZ9:BZ37,">0"))*100-100)+(SUM(CA9:CA25)/2)*100)-100 -> 700 | CB5: =(((COUNTIF(CC9:CC37,">0"))*100-100)+(SUM(CD9:CD25)/2)*100)-100 -> 550 | CE5: =(((COUNTIF(CF9:CF37,">0"))*100-100)+(SUM(CG9:CG25)/2)*100)-100 -> 800 | CH5: =(((COUNTIF(CI9:CI37,">0"))*100-100)+(SUM(CJ9:CJ25)/2)*100)-100 -> 900 | CK5: =(((COUNTIF(CL9:CL37,">0"))*100-100)+(SUM(CM9:CM25)/2)*100)-100 -> 1300
G6: 2. | H6: =100+(SUM(J9:J25)/2)*100 -> 400 | K6: =100+(SUM(M9:M25)/2)*100 -> 250 | N6: =100+(SUM(P9:P25)/2)*100 -> 250 | Q6: =100+(SUM(S9:S25)/2)*100 -> 200 | T6: =100+(SUM(V9:V25)/2)*100 -> 400 | W6: =100+(SUM(Y9:Y25)/2)*100 -> 400 | Z6: =100+(SUM(AB9:AB25)/2)*100 -> 300 | AC6: =100+(SUM(AE9:AE25)/2)*100 -> 250 | AF6: =100+(SUM(AH9:AH25)/2)*100 -> 200 | AI6: =100+(SUM(AK9:AK25)/2)*100 -> 300 | AL6: =100+(SUM(AN9:AN25)/2)*100 -> 100 | AO6: =100+(SUM(AQ9:AQ25)/2)*100 -> 250 | AR6: =100+(SUM(AT9:AT25)/2)*100 -> 350 | AU6: =100+(SUM(AW9:AW25)/2)*100 -> 350 | AX6: =100+(SUM(AZ9:AZ25)/2)*100 -> 300 | BA6: =100+(SUM(BC9:BC25)/2)*100 -> 300 | BD6: =100+(SUM(BF9:BF25)/2)*100 -> 450 | BG6: =100+(SUM(BI9:BI25)/2)*100 -> 400 | BJ6: =100+(SUM(BL9:BL25)/2)*100 -> 400 | BM6: =100+(SUM(BO9:BO25)/2)*100 -> 500 | BP6: =100+(SUM(BR9:BR25)/2)*100 -> 350 | BS6: =100+(SUM(BU9:BU25)/2)*100 -> 200 | BV6: =100+(SUM(BX9:BX25)/2)*100 -> 300 | BY6: =100+(SUM(CA9:CA25)/2)*100 -> 400 | CB6: =100+(SUM(CD9:CD25)/2)*100 -> 350 | CE6: =100+(SUM(CG9:CG25)/2)*100 -> 400 | CH6: =100+(SUM(CJ9:CJ25)/2)*100 -> 500 | CK6: =100+(SUM(CM9:CM25)/2)*100 -> 700
K7: 40391 | N7: 40405 | Q7: 40408 | T7: 40410 | W7: 40417 | Z7: 40425 | AC7: 40431 | AF7: 40437 | AI7: 40445 | AL7: 40445 | AO7: 40449 | AR7: 40453 | AU7: 40460 | AX7: 40467 | BA7: 40473 | BD7: 40478 | BG7: 40481 | BJ7: 40488 | BM7: 40495 | BP7: 40510 | BS7: 40516 | BV7: 40522 | BY7: 40523 | CB7: 40533 | CE7: 40537 | CH7: 40540 | CK7: 40541
B8: Jméno: | C8: Body | D8: Dokup | E8: odehráno | F8: Q body | G8: Q pořadí | H8: P | I8: B | J8: R | K8: P | L8: B | M8: R | N8: P | O8: B | P8: R | Q8: P | R8: B | S8: R | T8: P | U8: B | V8: R | W8: P | X8: B | Y8: R | Z8: P | AA8: B | AB8: R | AC8: P | AD8: B | AE8: R | AF8: P | AG8: B | AH8: R | AI8: P | AJ8: B | AK8: R | AL8: P | AM8: B | AN8: R | AO8: P | AP8: B | AQ8: R | AR8: P | AS8: B | AT8: R | AU8: P | AV8: B | AW8: R | AX8: P | AY8: B | AZ8: R | BA8: P | BB8: B | BC8: R | BD8: P | BE8: B | BF8: R | BG8: P | BH8: B | BI8: R | BJ8: P | BK8: B | BL8: R | BM8: P | BN8: B | BO8: R | BP8: P | BQ8: B | BR8: R | BS8: P | BT8: B | BU8: R | BV8: P | BW8: B | BX8: R | BY8: P | BZ8: B | CA8: R | CB8: P | CC8: B | CD8: R | CE8: P | CF8: B | CG8: R | CH8: P | CI8: B | CJ8: R | CK8: P | CL8: B | CM8: R
A9: 1 | B9: Jáchym | C9: =SUM(I9,L9,O9,R9,U9,X9,AA9,AD9,AG9,AJ9,AM9,AP9,AS9,AV9,AY9,BB9,BE9,BH9,BK9,BN9,BQ9,BT9,BW9,BZ9,CC9,CF9,CI9,CL9) -> 111 | D9: =SUMIF($H$8:$CM$8,"R",H9:CM9) -> 21 | E9: =COUNT(H9,K9,N9,Q9,T9,W9,Z9,AC9,AF9,AI9,AL9,AO9,AR9,AU9,AX9,BA9,BD9,BG9,BJ9,BM9,BP9,BS9,BV9,BY9,CB9,CE9,CH9,CK9) -> 25 | F9: =AVERAGE(I9,L9,O9,R9,U9,X9,AA9,AD9,AG9,AJ9,AM9,AP9,AS9,AV9,AY9,BB9,BE9,BH9,BK9,BN9,BQ9,BT9,BW9,BZ9,CC9,CF9,CI9,CL9) -> 4.44 | G9: =AVERAGE(H9,K9,N9,Q9,T9,W9,Z9,AC9,AF9,AI9,AL9,AO9,AR9,AU9,AX9,BA9,BD9,BG9,BJ9,BM9,BP9,BS9,BV9,BY9,CB9,CE9,CH9,CK9) -> 2.84 | H9: 3 | I9: 5 | K9: 4 | L9: 2 | M9: 1 | N9: 2 | O9: 4 | P9: 1 | Q9: 1 | R9: 7 | T9: 4 | U9: 3 | Z9: 1 | AA9: 8 | AC9: 4 | AD9: 3 | AF9: 3 | AG9: 1 | AH9: 1 | AI9: 3 | AJ9: 2 | AK9: 1 | AL9: 2 | AM9: 5 | AO9: 4 | AP9: 1 | AQ9: 1 | AR9: 2 | AS9: 7 | AT9: 2 | AX9: 4 | AY9: 3 | BA9: 2 | BB9: 6 | BC9: 3 | BD9: 2 | BE9: 6 | BG9: 3 | BH9: 3 | BI9: 1 | BJ9: 1 | BK9: 8 | BM9: 4 | BN9: 6 | BO9: 3 | BP9: 1 | BQ9: 8 | BS9: 2 | BT9: 5 | BV9: 3 | BW9: 2 | BX9: 1 | BY9: 4 | BZ9: 3 | CB9: 2 | CC9: 5 | CD9: 3 | CH9: 6 | CI9: 2 | CJ9: 1 | CK9: 4 | CL9: 6 | CM9: 2
