Workbook
Name FUNTAXI: '1.pololetí 2011'!$C$1:$C$2

Sheet absolutní pořadí
A1: ABSOLUTNÍ POŘADÍ OD LEDNA 2010
C2: jméno | D2: body | E2: her | N2: 2011
B3: 1 | C3: Igor | D3: =SUMIF('1.pololetí 2010'!$B$9:$B$20,C3,'1.pololetí 2010'!$C$9:$C$20)+SUMIF('2.pololetí 2010'!$B$9:$B$25,C3,'2.pololetí 2010'!$C$9:$C$25)+SUMIF('1.pololetí 2011'!$C$11:$C$31,C3,'1.pololetí 2011'!$D$11:$D$31)+SUMIF($R$6:$R$27,C3,$S$6:$S$27) -> 333 | E3: =SUMIF('1.pololetí 2010'!$B$9:$B$20,C3,'1.pololetí 2010'!$E$9:$E$20)+SUMIF('2.pololetí 2010'!$B$9:$B$25,C3,'2.pololetí 2010'!$E$9:$E$25)+SUMIF('1.pololetí 2011'!$C$11:$C$31,C3,'1.pololetí 2011'!$F$11:$F$31)+SUMIF($R$6:$R$27,C3,$U$6:$U$27) -> 61
B4: 2 | C4: Jáchym | D4: =SUMIF('1.pololetí 2010'!$B$9:$B$20,C4,'1.pololetí 2010'!$C$9:$C$20)+SUMIF('2.pololetí 2010'!$B$9:$B$25,C4,'2.pololetí 2010'!$C$9:$C$25)+SUMIF('1.pololetí 2011'!$C$11:$C$31,C4,'1.pololetí 2011'!$D$11:$D$31)+SUMIF($R$6:$R$27,C4,$S$6:$S$27) -> 288 | E4: =SUMIF('1.pololetí 2010'!$B$9:$B$20,C4,'1.pololetí 2010'!$E$9:$E$20)+SUMIF('2.pololetí 2010'!$B$9:$B$25,C4,'2.pololetí 2010'!$E$9:$E$25)+SUMIF('1.pololetí 2011'!$C$11:$C$31,C4,'1.pololetí 2011'!$F$11:$F$31)+SUMIF($R$6:$R$27,C4,$U$6:$U$27) -> 65 | I4: I. Pololetí | Q4: II. Pololetí
B5: 3 | C5: Ludwa | D5: =SUMIF('1.pololetí 2010'!$B$9:$B$20,C5,'1.pololetí 2010'!$C$9:$C$20)+SUMIF('2.pololetí 2010'!$B$9:$B$25,C5,'2.pololetí 2010'!$C$9:$C$25)+SUMIF('1.pololetí 2011'!$C$11:$C$31,C5,'1.pololetí 2011'!$D$11:$D$31)+SUMIF($R$6:$R$27,C5,$S$6:$S$27) -> 224 | E5: =SUMIF('1.pololetí 2010'!$B$9:$B$20,C5,'1.pololetí 2010'!$E$9:$E$20)+SUMIF('2.pololetí 2010'!$B$9:$B$25,C5,'2.pololetí 2010'!$E$9:$E$25)+SUMIF('1.pololetí 2011'!$C$11:$C$31,C5,'1.pololetí 2011'!$F$11:$F$31)+SUMIF($R$6:$R$27,C5,$U$6:$U$27) -> 64 | J5: Jméno: | K5: Body | L5: dokup | M5: odehráno | N5: Q body | O5: Q pořadí | R5: Jméno: | S5: Body | T5: dokup | U5: odehráno | V5: Q body | W5: Q pořadí
B6: 4 | C6: Mira | D6: =SUMIF('1.pololetí 2010'!$B$9:$B$20,C6,'1.pololetí 2010'!$C$9:$C$20)+SUMIF('2.pololetí 2010'!$B$9:$B$25,C6,'2.pololetí 2010'!$C$9:$C$25)+SUMIF('1.pololetí 2011'!$C$11:$C$31,C6,'1.pololetí 2011'!$D$11:$D$31)+SUMIF($R$6:$R$27,C6,$S$6:$S$27) -> 182 | E6: =SUMIF('1.pololetí 2010'!$B$9:$B$20,C6,'1.pololetí 2010'!$E$9:$E$20)+SUMIF('2.pololetí 2010'!$B$9:$B$25,C6,'2.pololetí 2010'!$E$9:$E$25)+SUMIF('1.pololetí 2011'!$C$11:$C$31,C6,'1.pololetí 2011'!$F$11:$F$31)+SUMIF($R$6:$R$27,C6,$U$6:$U$27) -> 37 | I6: 1 | J6: Igor | K6: 125 | L6: 25 | M6: 22 | N6: 5.6818182 | O6: 2.7727273 | Q6: 1 | R6: ='2.pololetí 2011'!C11 -> Igor | S6: ='2.pololetí 2011'!D11 -> 33 | T6: ='2.pololetí 2011'!E11 -> 2 | U6: ='2.pololetí 2011'!G11 -> 4 | V6: ='2.pololetí 2011'!H11 -> 7.75 | W6: ='2.pololetí 2011'!I11 -> 2.75
B7: 5 | C7: Dominik | D7: =SUMIF('1.pololetí 2010'!$B$9:$B$20,C7,'1.pololetí 2010'!$C$9:$C$20)+SUMIF('2.pololetí 2010'!$B$9:$B$25,C7,'2.pololetí 2010'!$C$9:$C$25)+SUMIF('1.pololetí 2011'!$C$11:$C$31,C7,'1.pololetí 2011'!$D$11:$D$31)+SUMIF($R$6:$R$27,C7,$S$6:$S$27) -> 133 | E7: =SUMIF('1.pololetí 2010'!$B$9:$B$20,C7,'1.pololetí 2010'!$E$9:$E$20)+SUMIF('2.pololetí 2010'!$B$9:$B$25,C7,'2.pololetí 2010'!$E$9:$E$25)+SUMIF('1.pololetí 2011'!$C$11:$C$31,C7,'1.pololetí 2011'!$F$11:$F$31)+SUMIF($R$6:$R$27,C7,$U$6:$U$27) -> 23 | I7: 2 | J7: Ludwa | K7: 104 | L7: 14 | M7: 22 | N7: 4.7272727 | O7: 3.5909091 | P7: T | Q7: 2 | R7: ='2.pololetí 2011'!C12 -> Mira | S7: ='2.pololetí 2011'!D12 -> 19 | T7: ='2.pololetí 2011'!E12 -> 5 | U7: ='2.pololetí 2011'!G12 -> 3 | V7: ='2.pololetí 2011'!H12 -> 6 | W7: ='2.pololetí 2011'!I12 -> 4.6666667
B8: 6 | C8: Jara hotel | D8: =SUMIF('1.pololetí 2010'!$B$9:$B$20,C8,'1.pololetí 2010'!$C$9:$C$20)+SUMIF('2.pololetí 2010'!$B$9:$B$25,C8,'2.pololetí 2010'!$C$9:$C$25)+SUMIF('1.pololetí 2011'!$C$11:$C$31,C8,'1.pololetí 2011'!$D$11:$D$31)+SUMIF($R$6:$R$27,C8,$S$6:$S$27) -> 113 | E8: =SUMIF('1.pololetí 2010'!$B$9:$B$20,C8,'1.pololetí 2010'!$E$9:$E$20)+SUMIF('2.pololetí 2010'!$B$9:$B$25,C8,'2.pololetí 2010'!$E$9:$E$25)+SUMIF('1.pololetí 2011'!$C$11:$C$31,C8,'1.pololetí 2011'!$F$11:$F$31)+SUMIF($R$6:$R$27,C8,$U$6:$U$27) -> 23 | I8: 3 | J8: Jáchym | K8: 101 | L8: 26 | M8: 21 | N8: 4.8095238 | O8: 3.4761905 | P8: U | Q8: 3 | R8: ='2.pololetí 2011'!C13 -> Ludwa | S8: ='2.pololetí 2011'!D13 -> 19 | T8: ='2.pololetí 2011'!E13 -> 2 | U8: ='2.pololetí 2011'!G13 -> 4 | V8: ='2.pololetí 2011'!H13 -> 4.75 | W8: ='2.pololetí 2011'!I13 -> 4.5
B9: 7 | C9: Markéta | D9: =SUMIF('1.pololetí 2010'!$B$9:$B$20,C9,'1.pololetí 2010'!$C$9:$C$20)+SUMIF('2.pololetí 2010'!$B$9:$B$25,C9,'2.pololetí 2010'!$C$9:$C$25)+SUMIF('1.pololetí 2011'!$C$11:$C$31,C9,'1.pololetí 2011'!$D$11:$D$31)+SUMIF($R$6:$R$27,C9,$S$6:$S$27) -> 111 | E9: =SUMIF('1.pololetí 2010'!$B$9:$B$20,C9,'1.pololetí 2010'!$E$9:$E$20)+SUMIF('2.pololetí 2010'!$B$9:$B$25,C9,'2.pololetí 2010'!$E$9:$E$25)+SUMIF('1.pololetí 2011'!$C$11:$C$31,C9,'1.pololetí 2011'!$F$11:$F$31)+SUMIF($R$6:$R$27,C9,$U$6:$U$27) -> 45 | H9: T | I9: 4 | J9: Mira | K9: 46 | L9: 20 | M9: 10 | N9: 4.6 | O9: 3.2 | P9: R | Q9: 4 | R9: ='2.pololetí 2011'!C14 -> Jáchym | S9: ='2.pololetí 2011'!D14 -> 15 | T9: ='2.pololetí 2011'!E14 -> 6 | U9: ='2.pololetí 2011'!G14 -> 3 | V9: ='2.pololetí 2011'!H14 -> 5.3333333 | W9: ='2.pololetí 2011'!I14 -> 4.6666667
B10: 8 | C10: Pecen | D10: =SUMIF('1.pololetí 2010'!$B$9:$B$20,C10,'1.pololetí 2010'!$C$9:$C$20)+SUMIF('2.pololetí 2010'!$B$9:$B$25,C10,'2.pololetí 2010'!$C$9:$C$25)+SUMIF('1.pololetí 2011'!$C$11:$C$31,C10,'1.pololetí 2011'!$D$11:$D$31)+SUMIF($R$6:$R$27,C10,$S$6:$S$27) -> 72 | E10: =SUMIF('1.pololetí 2010'!$B$9:$B$20,C10,'1.pololetí 2010'!$E$9:$E$20)+SUMIF('2.pololetí 2010'!$B$9:$B$25,C10,'2.pololetí 2010'!$E$9:$E$25)+SUMIF('1.pololetí 2011'!$C$11:$C$31,C10,'1.pololetí 2011'!$F$11:$F$31)+SUMIF($R$6:$R$27,C10,$U$6:$U$27) -> 17 | H10: U | I10: 5 | J10: Pecen | K10: 41 | L10: 2 | M10: 6 | N10: 6.8333333 | O10: 2.5 | P10: N | Q10: 5 | R10: ='2.pololetí 2011'!C15 -> Markéta | S10: ='2.pololetí 2011'!D15 -> 12 | T10: ='2.pololetí 2011'!E15 -> 2 | U10: ='2.pololetí 2011'!G15 -> 4 | V10: ='2.pololetí 2011'!H15 -> 3 | W10: ='2.pololetí 2011'!I15 -> 6.25
B11: 9 | C11: Tomáš Konečný | D11: =SUMIF('1.pololetí 2010'!$B$9:$B$20,C11,'1.pololetí 2010'!$C$9:$C$20)+SUMIF('2.pololetí 2010'!$B$9:$B$25,C11,'2.pololetí 2010'!$C$9:$C$25)+SUMIF('1.pololetí 2011'!$C$11:$C$31,C11,'1.pololetí 2011'!$D$11:$D$31)+SUMIF($R$6:$R$27,C11,$S$6:$S$27) -> 58 | E11: =SUMIF('1.pololetí 2010'!$B$9:$B$20,C11,'1.pololetí 2010'!$E$9:$E$20)+SUMIF('2.pololetí 2010'!$B$9:$B$25,C11,'2.pololetí 2010'!$E$9:$E$25)+SUMIF('1.pololetí 2011'!$C$11:$C$31,C11,'1.pololetí 2011'!$F$11:$F$31)+SUMIF($R$6:$R$27,C11,$U$6:$U$27) -> 12 | H11: R | I11: 6 | J11: Markéta | K11: 33 | L11: 6 | M11: 15 | N11: 2.2 | O11: 5.4666667 | P11: A | Q11: 6 | R11: ='2.pololetí 2011'!C16 -> Špelec | S11: ='2.pololetí 2011'!D16 -> 5 | T11: ='2.pololetí 2011'!E16 -> 0 | U11: ='2.pololetí 2011'!G16 -> 1 | V11: ='2.pololetí 2011'!H16 -> 5 | W11: ='2.pololetí 2011'!I16 -> 4
B12: 10 | C12: Špelec | D12: =SUMIF('1.pololetí 2010'!$B$9:$B$20,C12,'1.pololetí 2010'!$C$9:$C$20)+SUMIF('2.pololetí 2010'!$B$9:$B$25,C12,'2.pololetí 2010'!$C$9:$C$25)+SUMIF('1.pololetí 2011'!$C$11:$C$31,C12,'1.pololetí 2011'!$D$11:$D$31)+SUMIF($R$6:$R$27,C12,$S$6:$S$27) -> 58 | E12: =SUMIF('1.pololetí 2010'!$B$9:$B$20,C12,'1.pololetí 2010'!$E$9:$E$20)+SUMIF('2.pololetí 2010'!$B$9:$B$25,C12,'2.pololetí 2010'!$E$9:$E$25)+SUMIF('1.pololetí 2011'!$C$11:$C$31,C12,'1.pololetí 2011'!$F$11:$F$31)+SUMIF($R$6:$R$27,C12,$U$6:$U$27) -> 15 | H12: N | I12: 7 | J12: Jara hotel | K12: 29 | L12: 9 | M12: 6 | N12: 4.8333333 | O12: 3.6666667 | P12: J | Q12: 7 | R12: ='2.pololetí 2011'!C17 -> Jara | S12: ='2.pololetí 2011'!D17 -> 5 | T12: ='2.pololetí 2011'!E17 -> 2 | U12: ='2.pololetí 2011'!G17 -> 1 | V12: ='2.pololetí 2011'!H17 -> 5 | W12: ='2.pololetí 2011'!I17 -> 6
B13: 11 | C13: Minis | D13: =SUMIF('1.pololetí 2010'!$B$9:$B$20,C13,'1.pololetí 2010'!$C$9:$C$20)+SUMIF('2.pololetí 2010'!$B$9:$B$25,C13,'2.pololetí 2010'!$C$9:$C$25)+SUMIF('1.pololetí 2011'!$C$11:$C$31,C13,'1.pololetí 2011'!$D$11:$D$31)+SUMIF($R$6:$R$27,C13,$S$6:$S$27) -> 53 | E13: =SUMIF('1.pololetí 2010'!$B$9:$B$20,C13,'1.pololetí 2010'!$E$9:$E$20)+SUMIF('2.pololetí 2010'!$B$9:$B$25,C13,'2.pololetí 2010'!$E$9:$E$25)+SUMIF('1.pololetí 2011'!$C$11:$C$31,C13,'1.pololetí 2011'!$F$11:$F$31)+SUMIF($R$6:$R$27,C13,$U$6:$U$27) -> 10 | H13: A | I13: 8 | J13: Broňa Uher | K13: 17 | L13: 5 | M13: 5 | N13: 3.4 | O13: 5.4 | Q13: 8 | R13: ='2.pololetí 2011'!C18 -> Ondra | S13: ='2.pololetí 2011'!D18 -> 4 | T13: ='2.pololetí 2011'!E18 -> 0 | U13: ='2.pololetí 2011'!G18 -> 1 | V13: ='2.pololetí 2011'!H18 -> 4 | W13: ='2.pololetí 2011'!I18 -> 7
B14: 12 | C14: Karel | D14: =SUMIF('1.pololetí 2010'!$B$9:$B$20,C14,'1.pololetí 2010'!$C$9:$C$20)+SUMIF('2.pololetí 2010'!$B$9:$B$25,C14,'2.pololetí 2010'!$C$9:$C$25)+SUMIF('1.pololetí 2011'!$C$11:$C$31,C14,'1.pololetí 2011'!$D$11:$D$31)+SUMIF($R$6:$R$27,C14,$S$6:$S$27) -> 36 | E14: =SUMIF('1.pololetí 2010'!$B$9:$B$20,C14,'1.pololetí 2010'!$E$9:$E$20)+SUMIF('2.pololetí 2010'!$B$9:$B$25,C14,'2.pololetí 2010'!$E$9:$E$25)+SUMIF('1.pololetí 2011'!$C$11:$C$31,C14,'1.pololetí 2011'!$F$11:$F$31)+SUMIF($R$6:$R$27,C14,$U$6:$U$27) -> 7 | H14: J | I14: 9 | J14: Radek Pecl | K14: 9 | L14: 1 | M14: 2 | N14: 4.5 | O14: 3.5 | Q14: 9 | R14: ='2.pololetí 2011'!C19 -> Broňa | S14: ='2.pololetí 2011'!D19 -> 2 | T14: ='2.pololetí 2011'!E19 -> 2 | U14: ='2.pololetí 2011'!G19 -> 1 | V14: ='2.pololetí 2011'!H19 -> 2 | W14: ='2.pololetí 2011'!I19 -> 4
B15: 13 | C15: Filip | D15: =SUMIF('1.pololetí 2010'!$B$9:$B$20,C15,'1.pololetí 2010'!$C$9:$C$20)+SUMIF('2.pololetí 2010'!$B$9:$B$25,C15,'2.pololetí 2010'!$C$9:$C$25)+SUMIF('1.pololetí 2011'!$C$11:$C$31,C15,'1.pololetí 2011'!$D$11:$D$31)+SUMIF($R$6:$R$27,C15,$S$6:$S$27) -> 30 | E15: =SUMIF('1.pololetí 2010'!$B$9:$B$20,C15,'1.pololetí 2010'!$E$9:$E$20)+SUMIF('2.pololetí 2010'!$B$9:$B$25,C15,'2.pololetí 2010'!$E$9:$E$25)+SUMIF('1.pololetí 2011'!$C$11:$C$31,C15,'1.pololetí 2011'!$F$11:$F$31)+SUMIF($R$6:$R$27,C15,$U$6:$U$27) -> 4 | I15: 10 | J15: Špelec | K15: 9 | L15: 3 | M15: 2 | N15: 4.5 | O15: 5.5 | R15: ='2.pololetí 2011'!C20 -> Piňus | S15: ='2.pololetí 2011'!D20 -> 18 | T15: ='2.pololetí 2011'!E20 -> 0 | U15: ='2.pololetí 2011'!G20 -> 3 | V15: ='2.pololetí 2011'!H20 -> 5.6666667 | W15: ='2.pololetí 2011'!I20 -> 5
B16: 14 | C16: Miloš Bednář | D16: =SUMIF('1.pololetí 2010'!$B$9:$B$20,C16,'1.pololetí 2010'!$C$9:$C$20)+SUMIF('2.pololetí 2010'!$B$9:$B$25,C16,'2.pololetí 2010'!$C$9:$C$25)+SUMIF('1.pololetí 2011'!$C$11:$C$31,C16,'1.pololetí 2011'!$D$11:$D$31)+SUMIF($R$6:$R$27,C16,$S$6:$S$27) -> 29 | E16: =SUMIF('1.pololetí 2010'!$B$9:$B$20,C16,'1.pololetí 2010'!$E$9:$E$20)+SUMIF('2.pololetí 2010'!$B$9:$B$25,C16,'2.pololetí 2010'!$E$9:$E$25)+SUMIF('1.pololetí 2011'!$C$11:$C$31,C16,'1.pololetí 2011'!$F$11:$F$31)+SUMIF($R$6:$R$27,C16,$U$6:$U$27) -> 7 | I16: 11 | J16: Miloš Bednář | K16: 6 | L16: 2 | M16: 3 | N16: 2 | O16: 6.6666667 | R16: ='2.pololetí 2011'!C21 -> Karel | S16: ='2.pololetí 2011'!D21 -> 17 | T16: ='2.pololetí 2011'!E21 -> 4 | U16: ='2.pololetí 2011'!G21 -> 3 | V16: ='2.pololetí 2011'!H21 -> 5.6666667 | W16: ='2.pololetí 2011'!I21 -> 5.3333333
B17: 15 | C17: Broňa Uher | D17: =SUMIF('1.pololetí 2010'!$B$9:$B$20,C17,'1.pololetí 2010'!$C$9:$C$20)+SUMIF('2.pololetí 2010'!$B$9:$B$25,C17,'2.pololetí 2010'!$C$9:$C$25)+SUMIF('1.pololetí 2011'!$C$11:$C$31,C17,'1.pololetí 2011'!$D$11:$D$31)+SUMIF($R$6:$R$27,C17,$S$6:$S$27) -> 29 | E17: =SUMIF('1.pololetí 2010'!$B$9:$B$20,C17,'1.pololetí 2010'!$E$9:$E$20)+SUMIF('2.pololetí 2010'!$B$9:$B$25,C17,'2.pololetí 2010'!$E$9:$E$25)+SUMIF('1.pololetí 2011'!$C$11:$C$31,C17,'1.pololetí 2011'!$F$11:$F$31)+SUMIF($R$6:$R$27,C17,$U$6:$U$27) -> 11 | I17: 12 | J17: Dominik | K17: 2 | L17: 2 | M17: 1 | N17: 2 | O17: 6 | R17: ='2.pololetí 2011'!C22 -> Filip | S17: ='2.pololetí 2011'!D22 -> 10 | T17: ='2.pololetí 2011'!E22 -> 1 | U17: ='2.pololetí 2011'!G22 -> 1 | V17: ='2.pololetí 2011'!H22 -> 10 | W17: ='2.pololetí 2011'!I22 -> 2
B18: 16 | C18: Radek Pecl | D18: =SUMIF('1.pololetí 2010'!$B$9:$B$20,C18,'1.pololetí 2010'!$C$9:$C$20)+SUMIF('2.pololetí 2010'!$B$9:$B$25,C18,'2.pololetí 2010'!$C$9:$C$25)+SUMIF('1.pololetí 2011'!$C$11:$C$31,C18,'1.pololetí 2011'!$D$11:$D$31)+SUMIF($R$6:$R$27,C18,$S$6:$S$27) -> 24 | E18: =SUMIF('1.pololetí 2010'!$B$9:$B$20,C18,'1.pololetí 2010'!$E$9:$E$20)+SUMIF('2.pololetí 2010'!$B$9:$B$25,C18,'2.pololetí 2010'!$E$9:$E$25)+SUMIF('1.pololetí 2011'!$C$11:$C$31,C18,'1.pololetí 2011'!$F$11:$F$31)+SUMIF($R$6:$R$27,C18,$U$6:$U$27) -> 6 | J18: Minis | K18: 47 | L18: 9 | M18: 9 | N18: 5.2222222 | O18: 4 | R18: ='2.pololetí 2011'!C23 -> Staňa | S18: ='2.pololetí 2011'!D23 -> 9 | T18: ='2.pololetí 2011'!E23 -> 4 | U18: ='2.pololetí 2011'!G23 -> 2 | V18: ='2.pololetí 2011'!H23 -> 4.5 | W18: ='2.pololetí 2011'!I23 -> 5.5
B19: 17 | C19: Piňus | D19: =SUMIF('1.pololetí 2010'!$B$9:$B$20,C19,'1.pololetí 2010'!$C$9:$C$20)+SUMIF('2.pololetí 2010'!$B$9:$B$25,C19,'2.pololetí 2010'!$C$9:$C$25)+SUMIF('1.pololetí 2011'!$C$11:$C$31,C19,'1.pololetí 2011'!$D$11:$D$31)+SUMIF($R$6:$R$27,C19,$S$6:$S$27) -> 28 | E19: =SUMIF('1.pololetí 2010'!$B$9:$B$20,C19,'1.pololetí 2010'!$E$9:$E$20)+SUMIF('2.pololetí 2010'!$B$9:$B$25,C19,'2.pololetí 2010'!$E$9:$E$25)+SUMIF('1.pololetí 2011'!$C$11:$C$31,C19,'1.pololetí 2011'!$F$11:$F$31)+SUMIF($R$6:$R$27,C19,$U$6:$U$27) -> 7 | J19: Filip | K19: 20 | L19: 8 | M19: 3 | N19: 6.6666667 | O19: 2.6666667 | R19: ='2.pololetí 2011'!C24 -> Minis | S19: ='2.pololetí 2011'!D24 -> 6 | T19: ='2.pololetí 2011'!E24 -> 3 | U19: ='2.pololetí 2011'!G24 -> 1 | V19: ='2.pololetí 2011'!H24 -> 6 | W19: ='2.pololetí 2011'!I24 -> 5
B20: 18 | C20: Jirka Hrabec | D20: =SUMIF('1.pololetí 2010'!$B$9:$B$20,C20,'1.pololetí 2010'!$C$9:$C$20)+SUMIF('2.pololetí 2010'!$B$9:$B$25,C20,'2.pololetí 2010'!$C$9:$C$25)+SUMIF('1.pololetí 2011'!$C$11:$C$31,C20,'1.pololetí 2011'!$D$11:$D$31)+SUMIF($R$6:$R$27,C20,$S$6:$S$27) -> 15 | E20: =SUMIF('1.pololetí 2010'!$B$9:$B$20,C20,'1.pololetí 2010'!$E$9:$E$20)+SUMIF('2.pololetí 2010'!$B$9:$B$25,C20,'2.pololetí 2010'!$E$9:$E$25)+SUMIF('1.pololetí 2011'!$C$11:$C$31,C20,'1.pololetí 2011'!$F$11:$F$31)+SUMIF($R$6:$R$27,C20,$U$6:$U$27) -> 5 | J20: Karel | K20: 19 | L20: 5 | M20: 4 | N20: 4.75 | O20: 4.75 | R20: ='2.pololetí 2011'!C25 -> Lukáš | S20: ='2.pololetí 2011'!D25 -> 2 | T20: ='2.pololetí 2011'!E25 -> 0 | U20: ='2.pololetí 2011'!G25 -> 1 | V20: ='2.pololetí 2011'!H25 -> 2 | W20: ='2.pololetí 2011'!I25 -> 9
B21: 19 | C21: Ondra Herich | D21: =SUMIF('1.pololetí 2010'!$B$9:$B$20,C21,'1.pololetí 2010'!$C$9:$C$20)+SUMIF('2.pololetí 2010'!$B$9:$B$25,C21,'2.pololetí 2010'!$C$9:$C$25)+SUMIF('1.pololetí 2011'!$C$11:$C$31,C21,'1.pololetí 2011'!$D$11:$D$31)+SUMIF($R$6:$R$27,C21,$S$6:$S$27) -> 13 | E21: =SUMIF('1.pololetí 2010'!$B$9:$B$20,C21,'1.pololetí 2010'!$E$9:$E$20)+SUMIF('2.pololetí 2010'!$B$9:$B$25,C21,'2.pololetí 2010'!$E$9:$E$25)+SUMIF('1.pololetí 2011'!$C$11:$C$31,C21,'1.pololetí 2011'!$F$11:$F$31)+SUMIF($R$6:$R$27,C21,$U$6:$U$27) -> 5 | J21: Ondra Herich | K21: 13 | L21: 1 | M21: 5 | N21: 2.6 | O21: 5.4
B22: 20 | C22: Zbyňa | D22: =SUMIF('1.pololetí 2010'!$B$9:$B$20,C22,'1.pololetí 2010'!$C$9:$C$20)+SUMIF('2.pololetí 2010'!$B$9:$B$25,C22,'2.pololetí 2010'!$C$9:$C$25)+SUMIF('1.pololetí 2011'!$C$11:$C$31,C22,'1.pololetí 2011'!$D$11:$D$31)+SUMIF($R$6:$R$27,C22,$S$6:$S$27) -> 12 | E22: =SUMIF('1.pololetí 2010'!$B$9:$B$20,C22,'1.pololetí 2010'!$E$9:$E$20)+SUMIF('2.pololetí 2010'!$B$9:$B$25,C22,'2.pololetí 2010'!$E$9:$E$25)+SUMIF('1.pololetí 2011'!$C$11:$C$31,C22,'1.pololetí 2011'!$F$11:$F$31)+SUMIF($R$6:$R$27,C22,$U$6:$U$27) -> 2 | J22: Zbyňa | K22: 12 | L22: 0 | M22: 2 | N22: 6 | O22: 3.5
B23: 21 | C23: Staňa | D23: =SUMIF('1.pololetí 2010'!$B$9:$B$20,C23,'1.pololetí 2010'!$C$9:$C$20)+SUMIF('2.pololetí 2010'!$B$9:$B$25,C23,'2.pololetí 2010'!$C$9:$C$25)+SUMIF('1.pololetí 2011'!$C$11:$C$31,C23,'1.pololetí 2011'!$D$11:$D$31)+SUMIF($R$6:$R$27,C23,$S$6:$S$27) -> 16 | E23: =SUMIF('1.pololetí 2010'!$B$9:$B$20,C23,'1.pololetí 2010'!$E$9:$E$20)+SUMIF('2.pololetí 2010'!$B$9:$B$25,C23,'2.pololetí 2010'!$E$9:$E$25)+SUMIF('1.pololetí 2011'!$C$11:$C$31,C23,'1.pololetí 2011'!$F$11:$F$31)+SUMIF($R$6:$R$27,C23,$U$6:$U$27) -> 4 | J23: Piňus | K23: 10 | L23: 0 | M23: 4 | N23: 2.5 | O23: 7
B24: 22 | C24: Dušan | D24: =SUMIF('1.pololetí 2010'!$B$9:$B$20,C24,'1.pololetí 2010'!$C$9:$C$20)+SUMIF('2.pololetí 2010'!$B$9:$B$25,C24,'2.pololetí 2010'!$C$9:$C$25)+SUMIF('1.pololetí 2011'!$C$11:$C$31,C24,'1.pololetí 2011'!$D$11:$D$31)+SUMIF($R$6:$R$27,C24,$S$6:$S$27) -> 9 | E24: =SUMIF('1.pololetí 2010'!$B$9:$B$20,C24,'1.pololetí 2010'!$E$9:$E$20)+SUMIF('2.pololetí 2010'!$B$9:$B$25,C24,'2.pololetí 2010'!$E$9:$E$25)+SUMIF('1.pololetí 2011'!$C$11:$C$31,C24,'1.pololetí 2011'!$F$11:$F$31)+SUMIF($R$6:$R$27,C24,$U$6:$U$27) -> 3 | J24: Dušan | K24: 9 | L24: 3 | M24: 3 | N24: 3 | O24: 5.6666667
B25: 23 | C25: Mira Hutter | D25: =SUMIF('1.pololetí 2010'!$B$9:$B$20,C25,'1.pololetí 2010'!$C$9:$C$20)+SUMIF('2.pololetí 2010'!$B$9:$B$25,C25,'2.pololetí 2010'!$C$9:$C$25)+SUMIF('1.pololetí 2011'!$C$11:$C$31,C25,'1.pololetí 2011'!$D$11:$D$31)+SUMIF($R$6:$R$27,C25,$S$6:$S$27) -> 5 | E25: =SUMIF('1.pololetí 2010'!$B$9:$B$20,C25,'1.pololetí 2010'!$E$9:$E$20)+SUMIF('2.pololetí 2010'!$B$9:$B$25,C25,'2.pololetí 2010'!$E$9:$E$25)+SUMIF('1.pololetí 2011'!$C$11:$C$31,C25,'1.pololetí 2011'!$F$11:$F$31)+SUMIF($R$6:$R$27,C25,$U$6:$U$27) -> 1 | J25: Staňa | K25: 7 | L25: 3 | M25: 2 | N25: 3.5 | O25: 5.5
B26: 24 | C26: Tomáš | D26: =SUMIF('1.pololetí 2010'!$B$9:$B$20,C26,'1.pololetí 2010'!$C$9:$C$20)+SUMIF('2.pololetí 2010'!$B$9:$B$25,C26,'2.pololetí 2010'!$C$9:$C$25)+SUMIF('1.pololetí 2011'!$C$11:$C$31,C26,'1.pololetí 2011'!$D$11:$D$31)+SUMIF($R$6:$R$27,C26,$S$6:$S$27) -> 4 | E26: =SUMIF('1.pololetí 2010'!$B$9:$B$20,C26,'1.pololetí 2010'!$E$9:$E$20)+SUMIF('2.pololetí 2010'!$B$9:$B$25,C26,'2.pololetí 2010'!$E$9:$E$25)+SUMIF('1.pololetí 2011'!$C$11:$C$31,C26,'1.pololetí 2011'!$F$11:$F$31)+SUMIF($R$6:$R$27,C26,$U$6:$U$27) -> 1 | J26: Škaris | K26: 2 | L26: 0 | M26: 1 | N26: 2 | O26: 6
B27: 25 | C27: Aleš | D27: =SUMIF('1.pololetí 2010'!$B$9:$B$20,C27,'1.pololetí 2010'!$C$9:$C$20)+SUMIF('2.pololetí 2010'!$B$9:$B$25,C27,'2.pololetí 2010'!$C$9:$C$25)+SUMIF('1.pololetí 2011'!$C$11:$C$31,C27,'1.pololetí 2011'!$D$11:$D$31)+SUMIF($R$6:$R$27,C27,$S$6:$S$27) -> 4 | E27: =SUMIF('1.pololetí 2010'!$B$9:$B$20,C27,'1.pololetí 2010'!$E$9:$E$20)+SUMIF('2.pololetí 2010'!$B$9:$B$25,C27,'2.pololetí 2010'!$E$9:$E$25)+SUMIF('1.pololetí 2011'!$C$11:$C$31,C27,'1.pololetí 2011'!$F$11:$F$31)+SUMIF($R$6:$R$27,C27,$U$6:$U$27) -> 1
B28: 26 | C28: Škaris | D28: =SUMIF('1.pololetí 2010'!$B$9:$B$20,C28,'1.pololetí 2010'!$C$9:$C$20)+SUMIF('2.pololetí 2010'!$B$9:$B$25,C28,'2.pololetí 2010'!$C$9:$C$25)+SUMIF('1.pololetí 2011'!$C$11:$C$31,C28,'1.pololetí 2011'!$D$11:$D$31)+SUMIF($R$6:$R$27,C28,$S$6:$S$27) -> 2 | E28: =SUMIF('1.pololetí 2010'!$B$9:$B$20,C28,'1.pololetí 2010'!$E$9:$E$20)+SUMIF('2.pololetí 2010'!$B$9:$B$25,C28,'2.pololetí 2010'!$E$9:$E$25)+SUMIF('1.pololetí 2011'!$C$11:$C$31,C28,'1.pololetí 2011'!$F$11:$F$31)+SUMIF($R$6:$R$27,C28,$U$6:$U$27) -> 1 | N28: 2010
B29: 27 | C29: Martin Lukl | D29: =SUMIF('1.pololetí 2010'!$B$9:$B$20,C29,'1.pololetí 2010'!$C$9:$C$20)+SUMIF('2.pololetí 2010'!$B$9:$B$25,C29,'2.pololetí 2010'!$C$9:$C$25)+SUMIF('1.pololetí 2011'!$C$11:$C$31,C29,'1.pololetí 2011'!$D$11:$D$31)+SUMIF($R$6:$R$27,C29,$S$6:$S$27) -> 2 | E29: =SUMIF('1.pololetí 2010'!$B$9:$B$20,C29,'1.pololetí 2010'!$E$9:$E$20)+SUMIF('2.pololetí 2010'!$B$9:$B$25,C29,'2.pololetí 2010'!$E$9:$E$25)+SUMIF('1.pololetí 2011'!$C$11:$C$31,C29,'1.pololetí 2011'!$F$11:$F$31)+SUMIF($R$6:$R$27,C29,$U$6:$U$27) -> 1
B30: 28 | C30: Lukáš | D30: =SUMIF('1.pololetí 2010'!$B$9:$B$20,C30,'1.pololetí 2010'!$C$9:$C$20)+SUMIF('2.pololetí 2010'!$B$9:$B$25,C30,'2.pololetí 2010'!$C$9:$C$25)+SUMIF('1.pololetí 2011'!$C$11:$C$31,C30,'1.pololetí 2011'!$D$11:$D$31)+SUMIF($R$6:$R$27,C30,$S$6:$S$27) -> 2 | E30: =SUMIF('1.pololetí 2010'!$B$9:$B$20,C30,'1.pololetí 2010'!$E$9:$E$20)+SUMIF('2.pololetí 2010'!$B$9:$B$25,C30,'2.pololetí 2010'!$E$9:$E$25)+SUMIF('1.pololetí 2011'!$C$11:$C$31,C30,'1.pololetí 2011'!$F$11:$F$31)+SUMIF($R$6:$R$27,C30,$U$6:$U$27) -> 1 | I30: I. Pololetí | Q30: II. Pololetí
J31: Jméno: | K31: Body | L31: Dokup | M31: odehráno | N31: Q body | O31: Q pořadí | R31: Jméno: | S31: Body | T31: Dokup | U31: odehráno | V31: Q body | W31: Q pořadí
I32: 1 | J32: Igor | K32: 85 | L32: ='1.pololetí 2010'!D9 -> 9 | M32: 14 | N32: 6.0714286 | O32: 2.2142857 | Q32: 1 | R32: Jáchym | S32: 111 | T32: ='2.pololetí 2010'!D9 -> 21 | U32: 25 | V32: 4.44 | W32: 2.84
I33: 2 | J33: Jáchym | K33: 61 | L33: ='1.pololetí 2010'!D10 -> 11 | M33: 16 | N33: 3.8125 | O33: 3.5625 | Q33: 2 | R33: Dominik | S33: 99 | T33: ='2.pololetí 2010'!D10 -> 15 | U33: 16 | V33: 6.1875 | W33: 2.3125
I34: 3 | J34: Mira | K34: 60 | L34: ='1.pololetí 2010'!D11 -> 2 | M34: 11 | N34: 5.4545455 | O34: 2.6363636 | Q34: 3 | R34: Igor | S34: 90 | T34: ='2.pololetí 2010'!D11 -> 20 | U34: 21 | V34: 4.2857143 | W34: 3.2857143
I35: 4 | J35: Jara Hotel | K35: 39 | L35: ='1.pololetí 2010'!D12 -> 1 | M35: 8 | N35: 4.875 | O35: 2.75 | Q35: 4 | R35: Ludwa | S35: 67 | T35: ='2.pololetí 2010'!D12 -> 14 | U35: 22 | V35: 3.0454545 | W35: 4.1818182
I36: 5 | J36: Ludwa | K36: 34 | L36: ='1.pololetí 2010'!D13 -> 1 | M36: 16 | N36: 2.125 | O36: 5.0625 | Q36: 5 | R36: Mira | S36: 57 | T36: ='2.pololetí 2010'!D13 -> 14 | U36: 13 | V36: 4.3846154 | W36: 3.3846154
I37: 6 | J37: Dominik | K37: 32 | L37: ='1.pololetí 2010'!D14 -> 1 | M37: 6 | N37: 5.3333333 | O37: 2.8333333 | Q37: 6 | R37: Jara hotel | S37: 45 | T37: ='2.pololetí 2010'!D14 -> 12 | U37: 9 | V37: 5 | W37: 2.5555556
I38: 7 | J38: Tomáš Konečný | K38: 29 | L38: ='1.pololetí 2010'!D15 -> 0 | M38: 6 | N38: 4.8333333 | O38: 3.3333333 | Q38: 7 | R38: Markéta | S38: 38 | T38: ='2.pololetí 2010'!D15 -> 7 | U38: 16 | V38: 2.375 | W38: 5
I39: 8 | J39: Markéta | K39: 28 | L39: ='1.pololetí 2010'!D16 -> 2 | M39: 10 | N39: 2.8 | O39: 4.4 | Q39: 8 | R39: Tomáš Konečný | S39: 29 | T39: ='2.pololetí 2010'!D16 -> 4 | U39: 6 | V39: 4.8333333 | W39: 3.1666667
I40: 9 | J40: Špelec | K40: 21 | L40: ='1.pololetí 2010'!D17 -> 2 | M40: 6 | N40: 3.5 | O40: 4 | Q40: 9 | R40: Miloš Bednář | S40: 23 | T40: ='2.pololetí 2010'!D17 -> 4 | U40: 4 | V40: 5.75 | W40: 1.75
I41: 10 | J41: Pecen | K41: 16 | L41: ='1.pololetí 2010'!D18 -> 0 | M41: 5 | N41: 3.2 | O41: 5 | Q41: 10 | R41: Špelec | S41: 23 | T41: ='2.pololetí 2010'!D18 -> 4 | U41: 6 | V41: 3.8333333 | W41: 4.5
I42: 11 | J42: Jirka Hrabec | K42: 9 | L42: ='1.pololetí 2010'!D19 -> 0 | M42: 3 | N42: 3 | O42: 4.6666667 | Q42: 11 | R42: Radek Pecl | S42: 15 | T42: ='2.pololetí 2010'!D19 -> 5 | U42: 4 | V42: 3.75 | W42: 3.5
I43: 12 | J43: Aleš | K43: 4 | L43: ='1.pololetí 2010'!D20 -> 0 | M43: 1 | N43: 4 | O43: 3 | Q43: 12 | R43: Pecen | S43: 15 | T43: ='2.pololetí 2010'!D20 -> 2 | U43: 6 | V43: 2.5 | W43: 4.1666667
Q44: 13 | R44: Broňa Uher | S44: 12 | T44: ='2.pololetí 2010'!D21 -> 8 | U44: 6 | V44: 2 | W44: 4.3333333
Q45: 14 | R45: Jirka Hrabec | S45: 6 | T45: ='2.pololetí 2010'!D22 -> 2 | U45: 2 | V45: 3 | W45: 6
Q46: 15 | R46: Mira Hutter | S46: 5 | T46: ='2.pololetí 2010'!D23 -> 1 | U46: 1 | V46: 5 | W46: 3
Q47: 16 | R47: Tomáš | S47: 4 | T47: ='2.pololetí 2010'!D24 -> 2 | U47: 1 | V47: 4 | W47: 4
Q48: 17 | R48: Martin Lukl | S48: 2 | T48: ='2.pololetí 2010'!D25 -> 0 | U48: 1 | V48: 2 | W48: 5

Sheet 2.pololetí 2011
C1: Aktualizováno | D1: 1 | E1: =C11 -> Igor | G1: =C5*0.5 -> 220
C2: =NOW() -> 40767.839 | D2: 2 | E2: =C12 -> Mira | G2: =C5*0.3 -> 132
C3: BANK | D3: 3 | E3: =C13 -> Ludwa | G3: =C5*0.2 -> 88
C4: =účtování!D4 -> 4317 | D4: extra bank
C5: =SUM(J5:AS5) -> 440 | D5: půlroční bank | J5: =(COUNTIF(K11:K19,">0"))*20 -> 100 | N5: =(COUNTIF(O11:O19,">0"))*20 -> 140 | R5: =(COUNTIF(S11:S19,">0"))*20 -> 100 | V5: =(COUNTIF(W11:W19,">0"))*20 -> 100 | Z5: =(COUNTIF(AA11:AA19,">0"))*20 -> 0 | AD5: =(COUNTIF(AE11:AE19,">0"))*20 -> 0 | AH5: =(COUNTIF(AI11:AI19,">0"))*20 -> 0 | AL5: =(COUNTIF(AM11:AM19,">0"))*20 -> 0 | AP5: =(COUNTIF(AQ11:AQ19,">0"))*20 -> 0
D6: Hráčů | J6: =(COUNTIF(J11:J25,">0")) -> 10 | N6: =(COUNTIF(N11:N25,">0")) -> 10 | R6: =(COUNTIF(R11:R25,">0")) -> 8 | V6: =(COUNTIF(V11:V25,">0")) -> 5 | Z6: =(COUNTIF(Z11:Z25,">0")) -> 0 | AD6: =(COUNTIF(AD11:AD25,">0")) -> 0 | AH6: =(COUNTIF(AH11:AH25,">0")) -> 0 | AL6: =(COUNTIF(AL11:AL25,">0")) -> 0 | AP6: =(COUNTIF(AP11:AP25,">0")) -> 0
C7: Denní výhry | I7: 1. | J7: =(((COUNTIF(K11:K37,">0"))*100)+((SUM(M11:M25)/2)*100))-100 -> 1450 | N7: =(((COUNTIF(O11:O37,">0"))*100)+((SUM(Q11:Q25)/2)*100))-100 -> 1450 | R7: =(((COUNTIF(S11:S37,">0"))*100)+((SUM(U11:U25)/2)*100))-100 -> 1000 | V7: =(((COUNTIF(W11:W37,">0"))*100)+((SUM(Y11:Y25)/2)*100))-100 -> 650
I8: 2. | J8: =100+(SUM(M11:M25)/2)*100 -> 650 | N8: =100+(SUM(Q11:Q25)/2)*100 -> 650 | R8: =100+(SUM(U11:U25)/2)*100 -> 400 | V8: =100+(SUM(Y11:Y25)/2)*100 -> 350
J9: 40739 | N9: 40753 | R9: 40760 | V9: 40761
C10: Jméno: | D10: Body | E10: dokup | F10: ± body | G10: odehráno | H10: Q body | I10: Q pořadí | J10: P | K10: B | L10: ± | M10: R | N10: P | O10: B | P10: ± | Q10: R | R10: P | S10: B | T10: ± | U10: R | V10: P | W10: B | X10: ± | Y10: R | Z10: P | AA10: B | AB10: ± | AC10: R | AD10: P | AE10: B | AF10: ± | AG10: R | AH10: P | AI10: B | AJ10: ± | AK10: R | AL10: P | AM10: B | AN10: ± | AO10: R | AP10: P | AQ10: B | AR10: ± | AS10: R
B11: =IF(D11<>"",RANK(D11,$D$11:$D$19),"") -> 1 | C11: Igor | D11: =SUMIF($J$10:$AS$10,"B",J11:AS11)+SUMIF($J$10:$AS$10,$L$10,J11:AS11) -> 33 | E11: =SUMIF($J$10:$AS$10,"R",J11:AS11) -> 2 | F11: =SUMIF($J$10:$AS$10,$L$10,J11:AS11) -> 2 | G11: =COUNT(J11,N11,R11,V11,Z11,AD11,AH11,AL11,AP11) -> 4 | H11: =SUMIF($J$10:$AS$10,"B",J11:AS11)/G11 -> 7.75 | I11: =AVERAGE(J11,N11,R11,V11,Z11,AD11,AH11,AL11,AP11) -> 2.75 | J11: 7 | K11: 4 | M11: 1 | N11: 1 | O11: 12 | P11: 1 | R11: 1 | S11: 10 | T11: 1 | V11: 2 | W11: 5 | Y11: 1
A12: T | B12: =IF(D12<>"",RANK(D12,$D$11:$D$19),"") -> 2 | C12: Mira | D12: =SUMIF($J$10:$AS$10,"B",J12:AS12)+SUMIF($J$10:$AS$10,$L$10,J12:AS12) -> 19 | E12: =SUMIF($J$10:$AS$10,"R",J12:AS12) -> 5 | F12: =SUMIF($J$10:$AS$10,$L$10,J12:AS12) -> 1 | G12: =COUNT(J12,N12,R12,V12,Z12,AD12,AH12,AL12,AP12) -> 3 | H12: =SUMIF($J$10:$AS$10,"B",J12:AS12)/G12 -> 6 | I12: =AVERAGE(J12,N12,R12,V12,Z12,AD12,AH12,AL12,AP12) -> 4.6666667 | J12: 9 | K12: 2 | M12: 1 | N12: 3 | O12: 8 | Q12: 4 | R12: 2 | S12: 8 | T12: 1
A13: U | B13: =IF(D13<>"",RANK(D13,$D$11:$D$19),"") -> 2 | C13: Ludwa | D13: =SUMIF($J$10:$AS$10,"B",J13:AS13)+SUMIF($J$10:$AS$10,$L$10,J13:AS13) -> 19 | E13: =SUMIF($J$10:$AS$10,"R",J13:AS13) -> 2 | F13: =SUMIF($J$10:$AS$10,$L$10,J13:AS13) -> 0 | G13: =COUNT(J13,N13,R13,V13,Z13,AD13,AH13,AL13,AP13) -> 4 | H13: =SUMIF($J$10:$AS$10,"B",J13:AS13)/G13 -> 4.75 | I13: =AVERAGE(J13,N13,R13,V13,Z13,AD13,AH13,AL13,AP13) -> 4.5 | J13: 3 | K13: 8 | L13: 0 | M13: 0 | N13: 4 | O13: 7 | P13: 0 | Q13: 1 | R13: 6 | S13: 3 | U13: 1 | V13: 5 | W13: 1
A14: R | B14: =IF(D14<>"",RANK(D14,$D$11:$D$19),"") -> 4 | C14: Jáchym | D14: =SUMIF($J$10:$AS$10,"B",J14:AS14)+SUMIF($J$10:$AS$10,$L$10,J14:AS14) -> 15 | E14: =SUMIF($J$10:$AS$10,"R",J14:AS14) -> 6 | F14: =SUMIF($J$10:$AS$10,$L$10,J14:AS14) -> -1 | G14: =COUNT(J14,N14,R14,V14,Z14,AD14,AH14,AL14,AP14) -> 3 | H14: =SUMIF($J$10:$AS$10,"B",J14:AS14)/G14 -> 5.3333333 | I14: =AVERAGE(J14,N14,R14,V14,Z14,AD14,AH14,AL14,AP14) -> 4.6666667 | J14: 8 | K14: 3 | M14: 2 | N14: 5 | O14: 6 | Q14: 2 | V14: 1 | W14: 7 | X14: -1 | Y14: 2
A15: N | B15: =IF(D15<>"",RANK(D15,$D$11:$D$19),"") -> 5 | C15: Markéta | D15: =SUMIF($J$10:$AS$10,"B",J15:AS15)+SUMIF($J$10:$AS$10,$L$10,J15:AS15) -> 12 | E15: =SUMIF($J$10:$AS$10,"R",J15:AS15) -> 2 | F15: =SUMIF($J$10:$AS$10,$L$10,J15:AS15) -> 0 | G15: =COUNT(J15,N15,R15,V15,Z15,AD15,AH15,AL15,AP15) -> 4 | H15: =SUMIF($J$10:$AS$10,"B",J15:AS15)/G15 -> 3 | I15: =AVERAGE(J15,N15,R15,V15,Z15,AD15,AH15,AL15,AP15) -> 6.25 | J15: 4 | K15: 7 | N15: 10 | O15: 1 | Q15: 1 | R15: 8 | S15: 1 | U15: 1 | V15: 3 | W15: 3
A16: A | B16: =IF(D16<>"",RANK(D16,$D$11:$D$19),"") -> 6 | C16: Špelec | D16: =SUMIF($J$10:$AS$10,"B",J16:AS16)+SUMIF($J$10:$AS$10,$L$10,J16:AS16) -> 5 | E16: =SUMIF($J$10:$AS$10,"R",J16:AS16) -> 0 | F16: =SUMIF($J$10:$AS$10,$L$10,J16:AS16) -> 0 | G16: =COUNT(J16,N16,R16,V16,Z16,AD16,AH16,AL16,AP16) -> 1 | H16: =SUMIF($J$10:$AS$10,"B",J16:AS16)/G16 -> 5 | I16: =AVERAGE(J16,N16,R16,V16,Z16,AD16,AH16,AL16,AP16) -> 4 | R16: 4 | S16: 5
A17: J | B17: =IF(D17<>"",RANK(D17,$D$11:$D$19),"") -> 6 | C17: Jara | D17: =SUMIF($J$10:$AS$10,"B",J17:AS17)+SUMIF($J$10:$AS$10,$L$10,J17:AS17) -> 5 | E17: =SUMIF($J$10:$AS$10,"R",J17:AS17) -> 2 | F17: =SUMIF($J$10:$AS$10,$L$10,J17:AS17) -> 0 | G17: =COUNT(J17,N17,R17,V17,Z17,AD17,AH17,AL17,AP17) -> 1 | H17: =SUMIF($J$10:$AS$10,"B",J17:AS17)/G17 -> 5 | I17: =AVERAGE(J17,N17,R17,V17,Z17,AD17,AH17,AL17,AP17) -> 6 | N17: 6 | O17: 5 | Q17: 2
B18: =IF(D18<>"",RANK(D18,$D$11:$D$19),"") -> 8 | C18: Ondra | D18: =SUMIF($J$10:$AS$10,"B",J18:AS18)+SUMIF($J$10:$AS$10,$L$10,J18:AS18) -> 4 | E18: =SUMIF($J$10:$AS$10,"R",J18:AS18) -> 0 | F18: =SUMIF($J$10:$AS$10,$L$10,J18:AS18) -> 0 | G18: =COUNT(J18,N18,R18,V18,Z18,AD18,AH18,AL18,AP18) -> 1 | H18: =SUMIF($J$10:$AS$10,"B",J18:AS18)/G18 -> 4 | I18: =AVERAGE(J18,N18,R18,V18,Z18,AD18,AH18,AL18,AP18) -> 7 | N18: 7 | O18: 4
B19: =IF(D19<>"",RANK(D19,$D$11:$D$19),"") -> 9 | C19: Broňa | D19: =SUMIF($J$10:$AS$10,"B",J19:AS19)+SUMIF($J$10:$AS$10,$L$10,J19:AS19) -> 2 | E19: =SUMIF($J$10:$AS$10,"R",J19:AS19) -> 2 | F19: =SUMIF($J$10:$AS$10,$L$10,J19:AS19) -> 0 | G19: =COUNT(J19,N19,R19,V19,Z19,AD19,AH19,AL19,AP19) -> 1 | H19: =SUMIF($J$10:$AS$10,"B",J19:AS19)/G19 -> 2 | I19: =AVERAGE(J19,N19,R19,V19,Z19,AD19,AH19,AL19,AP19) -> 4 | V19: 4 | W19: 2 | Y19: 2
C20: Piňus | D20: =SUMIF($J$10:$AS$10,"B",J20:AS20)+SUMIF($J$10:$AS$10,$L$10,J20:AS20) -> 18 | E20: =SUMIF($J$10:$AS$10,"R",J20:AS20) -> 0 | F20: =SUMIF($J$10:$AS$10,$L$10,J20:AS20) -> 1 | G20: =COUNT(J20,N20,R20,V20,Z20,AD20,AH20,AL20,AP20) -> 3 | H20: =SUMIF($J$10:$AS$10,"B",J20:AS20)/G20 -> 5.6666667 | I20: =AVERAGE(J20,N20,R20,V20,Z20,AD20,AH20,AL20,AP20) -> 5 | J20: 10 | K20: 1 | N20: 2 | O20: 10 | P20: 1 | R20: 3 | S20: 6
C21: Karel | D21: =SUMIF($J$10:$AS$10,"B",J21:AS21)+SUMIF($J$10:$AS$10,$L$10,J21:AS21) -> 17 | E21: =SUMIF($J$10:$AS$10,"R",J21:AS21) -> 4 | F21: =SUMIF($J$10:$AS$10,$L$10,J21:AS21) -> 0 | G21: =COUNT(J21,N21,R21,V21,Z21,AD21,AH21,AL21,AP21) -> 3 | H21: =SUMIF($J$10:$AS$10,"B",J21:AS21)/G21 -> 5.6666667 | I21: =AVERAGE(J21,N21,R21,V21,Z21,AD21,AH21,AL21,AP21) -> 5.3333333 | J21: 1 | K21: 12 | M21: 1 | N21: 8 | O21: 3 | Q21: 1 | R21: 7 | S21: 2 | U21: 2
C22: Filip | D22: =SUMIF($J$10:$AS$10,"B",J22:AS22)+SUMIF($J$10:$AS$10,$L$10,J22:AS22) -> 10 | E22: =SUMIF($J$10:$AS$10,"R",J22:AS22) -> 1 | F22: =SUMIF($J$10:$AS$10,$L$10,J22:AS22) -> 0 | G22: =COUNT(J22,N22,R22,V22,Z22,AD22,AH22,AL22,AP22) -> 1 | H22: =SUMIF($J$10:$AS$10,"B",J22:AS22)/G22 -> 10 | I22: =AVERAGE(J22,N22,R22,V22,Z22,AD22,AH22,AL22,AP22) -> 2 | J22: 2 | K22: 10 | M22: 1
C23: Staňa | D23: =SUMIF($J$10:$AS$10,"B",J23:AS23)+SUMIF($J$10:$AS$10,$L$10,J23:AS23) -> 9 | E23: =SUMIF($J$10:$AS$10,"R",J23:AS23) -> 4 | F23: =SUMIF($J$10:$AS$10,$L$10,J23:AS23) -> 0 | G23: =COUNT(J23,N23,R23,V23,Z23,AD23,AH23,AL23,AP23) -> 2 | H23: =SUMIF($J$10:$AS$10,"B",J23:AS23)/G23 -> 4.5 | I23: =AVERAGE(J23,N23,R23,V23,Z23,AD23,AH23,AL23,AP23) -> 5.5 | J23: 6 | K23: 5 | M23: 2 | R23: 5 | S23: 4 | U23: 2
C24: Minis | D24: =SUMIF($J$10:$AS$10,"B",J24:AS24)+SUMIF($J$10:$AS$10,$L$10,J24:AS24) -> 6 | E24: =SUMIF($J$10:$AS$10,"R",J24:AS24) -> 3 | F24: =SUMIF($J$10:$AS$10,$L$10,J24:AS24) -> 0 | G24: =COUNT(J24,N24,R24,V24,Z24,AD24,AH24,AL24,AP24) -> 1 | H24: =SUMIF($J$10:$AS$10,"B",J24:AS24)/G24 -> 6 | I24: =AVERAGE(J24,N24,R24,V24,Z24,AD24,AH24,AL24,AP24) -> 5 | J24: 5 | K24: 6 | M24: 3
C25: Lukáš | D25: =SUMIF($J$10:$AS$10,"B",J25:AS25)+SUMIF($J$10:$AS$10,$L$10,J25:AS25) -> 2 | E25: =SUMIF($J$10:$AS$10,"R",J25:AS25) -> 0 | F25: =SUMIF($J$10:$AS$10,$L$10,J25:AS25) -> 0 | G25: =COUNT(J25,N25,R25,V25,Z25,AD25,AH25,AL25,AP25) -> 1 | H25: =SUMIF($J$10:$AS$10,"B",J25:AS25)/G25 -> 2 | I25: =AVERAGE(J25,N25,R25,V25,Z25,AD25,AH25,AL25,AP25) -> 9 | N25: 9 | O25: 2
C27: Vysvětlivky: | D27: mimořádná událost :-)
D28: P | G28: - Pořadí
D29: B | G29: - Body
D30: R | G30: - Re-buy
C32: Vyúčtování

Sheet 1.pololetí 2011
D1: 1 | F1: =C6*0.5 -> 1120
D2: 2 | F2: =C6*0.3 -> 672
C3: BANK | D3: 3 | F3: =C6*0.2 -> 448
D4: Kufr | G4: =SUM(I4:BY4)-1600 -> 0 | I4: 70 | L4: 70 | O4: 70 | R4: 70 | U4: 0 | X4: 70 | AA4: 70 | AD4: 70 | AG4: 70 | AJ4: 70 | AM4: 70 | AP4: 70 | AS4: 70 | AV4: 70 | AY4: 70 | BB4: 620
C5: =účtování!D4 -> 4317 | D5: extra bank | I5: =(COUNTIF(J11:J43,">0"))*30+(SUM(K11:K31))*30 -> 540 | L5: =(COUNTIF(M11:M31,">0"))*30+(SUM(N11:N31))*30 -> 360 | O5: =(COUNTIF(P11:P43,">0"))*30+(SUM(Q11:Q31))*30 -> 210 | R5: =(COUNTIF(S11:S43,">0"))*30+(SUM(T11:T31))*30 -> 420 | U5: =(COUNTIF(V11:V43,">0"))*30+(SUM(W11:W31))*30 -> 360 | X5: =(COUNTIF(Y11:Y43,">0"))*30+(SUM(Z11:Z31))*30 -> 450 | AA5: =(COUNTIF(AB11:AB43,">0"))*30+(SUM(AC11:AC31))*30 -> 330 | AD5: =(COUNTIF(AE11:AE43,">0"))*30+(SUM(AF11:AF31))*30 -> 570 | AG5: =(COUNTIF(AH11:AH43,">0"))*30+(SUM(AI11:AI31))*30 -> 390 | AJ5: =(COUNTIF(AK11:AK43,">0"))*30+(SUM(AL11:AL31))*30 -> 510 | AM5: =(COUNTIF(AN11:AN43,">0"))*30+(SUM(AO11:AO31))*30 -> 360 | AP5: =(COUNTIF(AQ11:AQ43,">0"))*30+(SUM(AR11:AR31))*30 -> 330 | AS5: =(COUNTIF(AT11:AT43,">0"))*30+(SUM(AU11:AU31))*30 -> 360 | AV5: =(COUNTIF(AW11:AW43,">0"))*30+(SUM(AX11:AX31))*30 -> 450 | AY5: =(COUNTIF(AZ11:AZ43,">0"))*30+(SUM(BA11:BA31))*30 -> 510 | BB5: 0 | BE5: 0 | BH5: 0 | BK5: 0 | BN5: 0 | BQ5: 0 | BT5: 0 | BW5: =(COUNTIF(BX11:BX43,">0"))*30+(SUM(BY11:BY31))*30 -> 0
C6: =SUM(I6:BY6)-20-20-20 -> 2240 | D6: půlroční bank | I6: =(COUNTIF(J11:J22,">0"))*20 -> 140 | L6: =(COUNTIF(M11:M22,">0"))*20 -> 80 | O6: =(COUNTIF(P11:P22,">0"))*20 -> 100 | R6: =(COUNTIF(S11:S22,">0"))*20 -> 140 | U6: =(COUNTIF(V11:V22,">0"))*20 -> 80 | X6: =(COUNTIF(Y11:Y22,">0"))*20 -> 120 | AA6: =(COUNTIF(AB11:AB22,">0"))*20 -> 100 | AD6: =(COUNTIF(AE11:AE22,">0"))*20 -> 140 | AG6: =(COUNTIF(AH11:AH22,">0"))*20 -> 120 | AJ6: =(COUNTIF(AK11:AK22,">0"))*20 -> 140 | AM6: =(COUNTIF(AN11:AN22,">0"))*20 -> 100 | AP6: =(COUNTIF(AQ11:AQ22,">0"))*20 -> 100 | AS6: =(COUNTIF(AT11:AT22,">0"))*20 -> 100 | AV6: =(COUNTIF(AW11:AW22,">0"))*20 -> 80 | AY6: =(COUNTIF(AZ11:AZ22,">0"))*20 -> 60 | BB6: =(COUNTIF(BC11:BC22,">0"))*20 -> 120 | BE6: =(COUNTIF(BF11:BF22,">0"))*20 -> 100 | BH6: =(COUNTIF(BI11:BI22,">0"))*20 -> 80 | BK6: =(COUNTIF(BL11:BL22,">0"))*20 -> 100 | BN6: =(COUNTIF(BO11:BO22,">0"))*20 -> 120 | BQ6: =(COUNTIF(BR11:BR22,">0"))*20 -> 80 | BT6: =(COUNTIF(BU11:BU22,">0"))*20 -> 100 | BW6: =(COUNTIF(BX11:BX22,">0"))*20 -> 0
C7: Denní výhry | H7: 1. | I7: =(((COUNTIF(J11:J43,">0"))*70-70)+((SUM(K11:K31)/2)*70))-70 -> 735 | L7: =(((COUNTIF(M11:M43,">0"))*70-70)+((SUM(N11:N31)/2)*70))-70 -> 560 | O7: =(((COUNTIF(P11:P43,">0"))*70-70)+((SUM(Q11:Q31)/2)*70))-70 -> 280 | R7: =(((COUNTIF(S11:S43,">0"))*70-70)+((SUM(T11:T31)/2)*70))-70 -> 595 | U7: =(((COUNTIF(V11:V43,">0"))*70-70)+((SUM(W11:W31)/2)*70)) -> 595 | X7: =(((COUNTIF(Y11:Y43,">0"))*70-70)+((SUM(Z11:Z31)/2)*70))-70 -> 665 | AA7: =(((COUNTIF(AB11:AB43,">0"))*70-70)+((SUM(AC11:AC31)/2)*70))-70 -> 490 | AD7: =(((COUNTIF(AE11:AE43,">0"))*70-70)+((SUM(AF11:AF31)/2)*70))-70 -> 875 | AG7: =(((COUNTIF(AH11:AH43,">0"))*70-70)+((SUM(AI11:AI31)/2)*70))-70 -> 525 | AJ7: =(((COUNTIF(AK11:AK43,">0"))*70-70)+((SUM(AL11:AL31)/2)*70))-70 -> 770 | AM7: =(((COUNTIF(AN11:AN43,">0"))*70-70)+((SUM(AO11:AO31)/2)*70))-70 -> 455 | AP7: =(((COUNTIF(AQ11:AQ43,">0"))*70-70)+((SUM(AR11:AR31)/2)*70))-70 -> 420 | AS7: =(((COUNTIF(AT11:AT43,">0"))*70-70)+((SUM(AU11:AU31)/2)*70))-70 -> 490 | AV7: =(((COUNTIF(AW11:AW43,">0"))*70-70)+((SUM(AX11:AX31)/2)*70))-70 -> 700 | AY7: =(((COUNTIF(AZ11:AZ43,">0"))*70-70)+((SUM(BA11:BA31)/2)*70))-70 -> 700 | BB7: =(((COUNTIF(BC11:BC43,">0"))*100)+((SUM(BD11:BD31)/2)*100))-100 -> 850 | BE7: =(((COUNTIF(BF11:BF43,">0"))*100)+((SUM(BG11:BG31)/2)*100))-100 -> 550 | BH7: =(((COUNTIF(BI11:BI43,">0"))*100)+((SUM(BJ11:BJ31)/2)*100))-100 -> 600 | BK7: =(((COUNTIF(BL11:BL43,">0"))*100)+((SUM(BM11:BM31)/2)*100))-100 -> 600 | BN7: =(((COUNTIF(BO11:BO43,">0"))*100)+((SUM(BP11:BP31)/2)*100))-100 -> 1050 | BQ7: =(((COUNTIF(BR11:BR43,">0"))*100)+((SUM(BS11:BS31)/2)*100))-100 -> 750 | BT7: =(((COUNTIF(BU11:BU31,">0"))*100)+((SUM(BV11:BV31)/2)*100))-100 -> 1350 | BW7: 0
H8: 2. | I8: =70+(SUM(K11:K31)/2)*70 -> 455 | L8: =70+(SUM(N11:N31)/2)*70 -> 210 | O8: =70+(SUM(Q11:Q31)/2)*70 -> 140 | R8: =70+(SUM(T11:T31)/2)*70 -> 315 | U8: =70+(SUM(W11:W31)/2)*70 -> 245 | X8: =70+(SUM(Z11:Z31)/2)*70 -> 315 | AA8: =70+(SUM(AC11:AC31)/2)*70 -> 210 | AD8: =70+(SUM(AF11:AF31)/2)*70 -> 385 | AG8: =70+(SUM(AI11:AI31)/2)*70 -> 315 | AJ8: =70+(SUM(AL11:AL31)/2)*70 -> 350 | AM8: =70+(SUM(AO11:AO31)/2)*70 -> 315 | AP8: =70+(SUM(AR11:AR31)/2)*70 -> 280 | AS8: =70+(SUM(AU11:AU31)/2)*70 -> 280 | AV8: =70+(SUM(AX11:AX31)/2)*70 -> 280 | AY8: =70+(SUM(BA11:BA31)/2)*70 -> 420 | BB8: =100+(SUM(BD11:BD31)/2)*100 -> 350 | BE8: =100+(SUM(BG11:BG31)/2)*100 -> 250 | BH8: =100+(SUM(BJ11:BJ31)/2)*100 -> 300 | BK8: =100+(SUM(BM11:BM31)/2)*100 -> 300 | BN8: =100+(SUM(BP11:BP31)/2)*100 -> 550 | BQ8: =100+(SUM(BS11:BS31)/2)*100 -> 350 | BT8: =100+(SUM(BV11:BV31)/2)*100 -> 850 | BW8: 0
I9: 40551 | L9: 40558 | O9: 40565 | R9: 40572 | U9: 40578 | X9: 40584 | AA9: 40586 | AD9: 40592 | AG9: 40600 | AJ9: 40613 | AM9: 40620 | AP9: 40628 | AS9: 40634 | AV9: 40642 | AY9: 40649 | BB9: 40662 | BE9: 40670 | BH9: 40677 | BK9: 40684 | BN9: 40690 | BQ9: 40696 | BT9: 40705
C10: Jméno: | D10: Body | E10: dokup | F10: odehráno | G10: Q body | H10: Q pořadí | I10: P | J10: B | K10: R | L10: P | M10: B | N10: R | O10: P | P10: B | Q10: R | R10: P | S10: B | T10: R | U10: P | V10: B | W10: R | X10: P | Y10: B | Z10: R | AA10: P | AB10: B | AC10: R | AD10: P | AE10: B | AF10: R | AG10: P | AH10: B | AI10: R | AJ10: P | AK10: B | AL10: R | AM10: P | AN10: B | AO10: R | AP10: P | AQ10: B | AR10: R | AS10: P | AT10: B | AU10: R | AV10: P | AW10: B | AX10: R | AY10: P | AZ10: B | BA10: R | BB10: P | BC10: B | BD10: R | BE10: P | BF10: B | BG10: R | BH10: P | BI10: B | BJ10: R | BK10: P | BL10: B | BM10: R | BN10: P | BO10: B | BP10: R | BQ10: P | BR10: B | BS10: R | BT10: P | BU10: B | BV10: R | BW10: P | BX10: B | BY10: R
B11: 1 | C11: Igor | D11: =SUMIF($I$10:$BY$10,"B",I11:BY11) -> 125 | E11: =SUMIF($I$10:$BY$10,"R",I11:BY11) -> 25 | F11: =COUNT(I11,L11,O11,R11,U11,X11,AA11,AD11,AG11,BW11,AJ11,AM11,AP11,AS11,AV11,AY11,BB11,BE11,BH11,BK11,BN11,BQ11,BT11) -> 22 | G11: =AVERAGE(J11,M11,P11,S11,V11,Y11,AB11,AE11,AH11,BX11,AK11,AN11,AQ11,AT11,AW11,AZ11,BC11,BF11,BI11,BL11,BO11,BR11,BU11) -> 5.6818182 | H11: =AVERAGE(I11,L11,O11,R11,U11,X11,AA11,AD11,AG11,BW11,AJ11,AM11,AP11,AS11,AV11,AY11,BB11,BE11,BH11,BK11,BN11,BQ11,BT11) -> 2.7727273 | I11: 3 | J11: 5 | K11: 3 | L11: 2 | M11: 8 | N11: 1 | O11: 2 | P11: 5 | R11: 3 | S11: 5 | U11: 7 | V11: 1 | X11: 4 | Y11: 5 | AA11: 5 | AB11: 3 | AC11: 1 | AD11: 1 | AE11: 12 | AG11: 1 | AH11: 8 | AI11: 3 | AJ11: 1 | AK11: 11 | AL11: 3 | AM11: 4 | AN11: 2 | AO11: 1 | AP11: 1 | AQ11: 7 | AS11: 3 | AT11: 4 | AU11: 1 | AV11: 2 | AW11: 9 | AX11: 1 | AY11: 5 | AZ11: 3 | BA11: 3 | BB11: 1 | BC11: 9 | BD11: 2 | BE11: 3 | BF11: 3 | BG11: 2 | BH11: 4 | BI11: 2 | BJ11: 1 | BK11: 2 | BL11: 5 | BM11: 1 | BN11: 2 | BO11: 7 | BP11: 2 | BQ11: 3 | BR11: 4 | BT11: 2 | BU11: 7
B12: 2 | C12: Ludwa | D12: =SUMIF($I$10:$BY$10,"B",I12:BY12) -> 104 | E12: =SUMIF($I$10:$BY$10,"R",I12:BY12) -> 14 | F12: =COUNT(I12,L12,O12,R12,U12,X12,AA12,AD12,AG12,BW12,AJ12,AM12,AP12,AS12,AV12,AY12,BB12,BE12,BH12,BK12,BN12,BQ12,BT12) -> 22 | G12: =AVERAGE(J12,M12,P12,S12,V12,Y12,AB12,AE12,AH12,BX12,AK12,AN12,AQ12,AT12,AW12,AZ12,BC12,BF12,BI12,BL12,BO12,BR12,BU12) -> 4.7272727 | H12: =AVERAGE(I12,L12,O12,R12,U12,X12,AA12,AD12,AG12,BW12,AJ12,AM12,AP12,AS12,AV12,AY12,BB12,BE12,BH12,BK12,BN12,BQ12,BT12) -> 3.5909091 | I12: 2 | J12: 7 | L12: 6 | M12: 3 | N12: 1 | O12: 1 | P12: 7 | Q12: 1 | R12: 6 | S12: 2 | T12: 1 | U12: 2 | V12: 7 | X12: 7 | Y12: 2 | AA12: 7 | AB12: 1 | AD12: 5 | AE12: 6 | AG12: 5 | AH12: 2 | AI12: 1 | AJ12: 4 | AK12: 6 | AL12: 1 | AM12: 1 | AN12: 7 | AP12: 4 | AQ12: 2 | AR12: 1 | AS12: 5 | AT12: 2 | AU12: 1 | AV12: 3 | AW12: 7 | AX12: 1 | AY12: 1 | AZ12: 9 | BB12: 3 | BC12: 5 | BD12: 1 | BE12: 4 | BF12: 2 | BH12: 5 | BI12: 1 | BJ12: 1 | BK12: 1 | BL12: 7 | BM12: 2 | BN12: 1 | BO12: 9 | BQ12: 2 | BR12: 6 | BT12: 4 | BU12: 4 | BV12: 2
B13: 3 | C13: Jáchym | D13: =SUMIF($I$10:$BY$10,"B",I13:BY13) -> 101 | E13: =SUMIF($I$10:$BY$10,"R",I13:BY13) -> 26 | F13: =COUNT(I13,L13,O13,R13,U13,X13,AA13,AD13,AG13,BW13,AJ13,AM13,AP13,AS13,AV13,AY13,BB13,BE13,BH13,BK13,BN13,BQ13,BT13) -> 21 | G13: =AVERAGE(J13,M13,P13,S13,V13,Y13,AB13,AE13,AH13,BX13,AK13,AN13,AQ13,AT13,AW13,AZ13,BC13,BF13,BI13,BL13,BO13,BR13,BU13) -> 4.8095238 | H13: =AVERAGE(I13,L13,O13,R13,U13,X13,AA13,AD13,AG13,BW13,AJ13,AM13,AP13,AS13,AV13,AY13,BB13,BE13,BH13,BK13,BN13,BQ13,BT13) -> 3.4761905 | I13: 1 | J13: 9 | K13: 2 | L13: 5 | M13: 4 | O13: 3 | P13: 3 | R13: 4 | S13: 4 | T13: 1 | X13: 2 | Y13: 8 | Z13: 2 | AA13: 1 | AB13: 9 | AC13: 2 | AD13: 9 | AE13: 2 | AF13: 2 | AG13: 4 | AH13: 3 | AI13: 2 | AJ13: 5 | AK13: 5 | AL13: 1 | AM13: 5 | AN13: 1 | AO13: 1 | AP13: 3 | AQ13: 3 | AR13: 3 | AS13: 1 | AT13: 8 | AV13: 5 | AW13: 5 | AX13: 2 | AY13: 2 | AZ13: 7 | BA13: 2 | BB13: 5 | BC13: 3 | BD13: 1 | BE13: 1 | BF13: 7 | BG13: 1 | BH13: 1 | BI13: 7 | BJ13: 1 | BK13: 4 | BL13: 2 | BN13: 3 | BO13: 5 | BP13: 1 | BQ13: 6 | BR13: 1 | BS13: 1 | BT13: 3 | BU13: 5 | BV13: 1
A14: T | B14: 4 | C14: Mira | D14: =SUMIF($I$10:$BY$10,"B",I14:BY14) -> 46 | E14: =SUMIF($I$10:$BY$10,"R",I14:BY14) -> 20 | F14: =COUNT(I14,L14,O14,R14,U14,X14,AA14,AD14,AG14,BW14,AJ14,AM14,AP14,AS14,AV14,AY14,BB14,BE14,BH14,BK14,BN14,BQ14,BT14) -> 10 | G14: =AVERAGE(J14,M14,P14,S14,V14,Y14,AB14,AE14,AH14,BX14,AK14,AN14,AQ14,AT14,AW14,AZ14,BC14,BF14,BI14,BL14,BO14,BR14,BU14) -> 4.6 | H14: =AVERAGE(I14,L14,O14,R14,U14,X14,AA14,AD14,AG14,BW14,AJ14,AM14,AP14,AS14,AV14,AY14,BB14,BE14,BH14,BK14,BN14,BQ14,BT14) -> 3.2 | O14: 5 | P14: 1 | R14: 2 | S14: 7 | T14: 2 | U14: 1 | V14: 9 | W14: 2 | AG14: 3 | AH14: 4 | AJ14: 3 | AK14: 7 | AM14: 2 | AN14: 5 | AO14: 2 | AP14: 2 | AQ14: 5 | AR14: 2 | BK14: 3 | BL14: 3 | BM14: 1 | BN14: 5 | BO14: 3 | BP14: 2 | BT14: 6 | BU14: 2 | BV14: 9
A15: U | B15: 5 | C15: Pecen | D15: =SUMIF($I$10:$BY$10,"B",I15:BY15) -> 41 | E15: =SUMIF($I$10:$BY$10,"R",I15:BY15) -> 2 | F15: =COUNT(I15,L15,O15,R15,U15,X15,AA15,AD15,AG15,BW15,AJ15,AM15,AP15,AS15,AV15,AY15,BB15,BE15,BH15,BK15,BN15,BQ15,BT15) -> 6 | G15: =AVERAGE(J15,M15,P15,S15,V15,Y15,AB15,AE15,AH15,BX15,AK15,AN15,AQ15,AT15,AW15,AZ15,BC15,BF15,BI15,BL15,BO15,BR15,BU15) -> 6.8333333 | H15: =AVERAGE(I15,L15,O15,R15,U15,X15,AA15,AD15,AG15,BW15,AJ15,AM15,AP15,AS15,AV15,AY15,BB15,BE15,BH15,BK15,BN15,BQ15,BT15) -> 2.5 | R15: 1 | S15: 9 | AD15: 2 | AE15: 10 | AJ15: 2 | AK15: 9 | AS15: 2 | AT15: 6 | AU15: 2 | BE15: 2 | BF15: 5 | BN15: 6 | BO15: 2
A16: R | B16: 6 | C16: Markéta | D16: =SUMIF($I$10:$BY$10,"B",I16:BY16) -> 33 | E16: =SUMIF($I$10:$BY$10,"R",I16:BY16) -> 6 | F16: =COUNT(I16,L16,O16,R16,U16,X16,AA16,AD16,AG16,BW16,AJ16,AM16,AP16,AS16,AV16,AY16,BB16,BE16,BH16,BK16,BN16,BQ16,BT16) -> 15 | G16: =AVERAGE(J16,M16,P16,S16,V16,Y16,AB16,AE16,AH16,BX16,AK16,AN16,AQ16,AT16,AW16,AZ16,BC16,BF16,BI16,BL16,BO16,BR16,BU16) -> 2.2 | H16: =AVERAGE(I16,L16,O16,R16,U16,X16,AA16,AD16,AG16,BW16,AJ16,AM16,AP16,AS16,AV16,AY16,BB16,BE16,BH16,BK16,BN16,BQ16,BT16) -> 5.4666667 | I16: 5 | J16: 3 | K16: 1 | L16: 8 | M16: 1 | O16: 4 | P16: 2 | Q16: 1 | R16: 7 | S16: 1 | X16: 3 | Y16: 6 | AA16: 3 | AB16: 5 | AC16: 1 | AG16: 6 | AH16: 1 | AJ16: 9 | AK16: 1 | AL16: 1 | AP16: 5 | AQ16: 1 | AV16: 8 | AW16: 2 | BB16: 6 | BC16: 2 | BD16: 1 | BE16: 5 | BF16: 1 | BH16: 3 | BI16: 3 | BJ16: 1 | BK16: 5 | BL16: 1 | BT16: 5 | BU16: 3
A17: N | B17: 7 | C17: Jara hotel | D17: =SUMIF($I$10:$BY$10,"B",I17:BY17) -> 29 | E17: =SUMIF($I$10:$BY$10,"R",I17:BY17) -> 9 | F17: =COUNT(I17,L17,O17,R17,U17,X17,AA17,AD17,AG17,BW17,AJ17,AM17,AP17,AS17,AV17,AY17,BB17,BE17,BH17,BK17,BN17,BQ17,BT17) -> 6 | G17: =AVERAGE(J17,M17,P17,S17,V17,Y17,AB17,AE17,AH17,BX17,AK17,AN17,AQ17,AT17,AW17,AZ17,BC17,BF17,BI17,BL17,BO17,BR17,BU17) -> 4.8333333 | H17: =AVERAGE(I17,L17,O17,R17,U17,X17,AA17,AD17,AG17,BW17,AJ17,AM17,AP17,AS17,AV17,AY17,BB17,BE17,BH17,BK17,BN17,BQ17,BT17) -> 3.6666667 | I17: 4 | J17: 4 | K17: 2 | X17: 1 | Y17: 10 | AD17: 6 | AE17: 5 | AF17: 3 | AM17: 3 | AN17: 3 | AO17: 3 | AS17: 4 | AT17: 3 | AU17: 1 | BB17: 4 | BC17: 4
A18: A | B18: 8 | C18: Broňa Uher | D18: =SUMIF($I$10:$BY$10,"B",I18:BY18) -> 17 | E18: =SUMIF($I$10:$BY$10,"R",I18:BY18) -> 5 | F18: =COUNT(I18,L18,O18,R18,U18,X18,AA18,AD18,AG18,BW18,AJ18,AM18,AP18,AS18,AV18,AY18,BB18,BE18,BH18,BK18,BN18,BQ18,BT18) -> 5 | G18: =AVERAGE(J18,M18,P18,S18,V18,Y18,AB18,AE18,AH18,BX18,AK18,AN18,AQ18,AT18,AW18,AZ18,BC18,BF18,BI18,BL18,BO18,BR18,BU18) -> 3.4 | H18: =AVERAGE(I18,L18,O18,R18,U18,X18,AA18,AD18,AG18,BW18,AJ18,AM18,AP18,AS18,AV18,AY18,BB18,BE18,BH18,BK18,BN18,BQ18,BT18) -> 5.4 | R18: 5 | S18: 3 | T18: 3 | U18: 4 | V18: 4 | X18: 8 | Y18: 1 | Z18: 1 | AD18: 8 | AE18: 3 | AG18: 2 | AH18: 6 | AI18: 1
A19: J | B19: 9 | C19: Radek Pecl | D19: =SUMIF($I$10:$BY$10,"B",I19:BY19) -> 9 | E19: =SUMIF($I$10:$BY$10,"R",I19:BY19) -> 1 | F19: =COUNT(I19,L19,O19,R19,U19,X19,AA19,AD19,AG19,BW19,AJ19,AM19,AP19,AS19,AV19,AY19,BB19,BE19,BH19,BK19,BN19,BQ19,BT19) -> 2 | G19: =AVERAGE(J19,M19,P19,S19,V19,Y19,AB19,AE19,AH19,BX19,AK19,AN19,AQ19,AT19,AW19,AZ19,BC19,BF19,BI19,BL19,BO19,BR19,BU19) -> 4.5 | H19: =AVERAGE(I19,L19,O19,R19,U19,X19,AA19,AD19,AG19,BW19,AJ19,AM19,AP19,AS19,AV19,AY19,BB19,BE19,BH19,BK19,BN19,BQ19,BT19) -> 3.5 | AA19: 2 | AB19: 7 | BQ19: 5 | BR19: 2 | BS19: 1
B20: 10 | C20: Špelec | D20: =SUMIF($I$10:$BY$10,"B",I20:BY20) -> 9 | E20: =SUMIF($I$10:$BY$10,"R",I20:BY20) -> 3 | F20: =COUNT(I20,L20,O20,R20,U20,X20,AA20,AD20,AG20,BW20,AJ20,AM20,AP20,AS20,AV20,AY20,BB20,BE20,BH20,BK20,BN20,BQ20,BT20) -> 2 | G20: =AVERAGE(J20,M20,P20,S20,V20,Y20,AB20,AE20,AH20,BX20,AK20,AN20,AQ20,AT20,AW20,AZ20,BC20,BF20,BI20,BL20,BO20,BR20,BU20) -> 4.5 | H20: =AVERAGE(I20,L20,O20,R20,U20,X20,AA20,AD20,AG20,BW20,AJ20,AM20,AP20,AS20,AV20,AY20,BB20,BE20,BH20,BK20,BN20,BQ20,BT20) -> 5.5 | I20: 7 | J20: 1 | K20: 1 | AD20: 4 | AE20: 8 | AF20: 2
B21: 11 | C21: Miloš Bednář | D21: =SUMIF($I$10:$BY$10,"B",I21:BY21) -> 6 | E21: =SUMIF($I$10:$BY$10,"R",I21:BY21) -> 2 | F21: =COUNT(I21,L21,O21,R21,U21,X21,AA21,AD21,AG21,BW21,AJ21,AM21,AP21,AS21,AV21,AY21,BB21,BE21,BH21,BK21,BN21,BQ21,BT21) -> 3 | G21: =AVERAGE(J21,M21,P21,S21,V21,Y21,AB21,AE21,AH21,BX21,AK21,AN21,AQ21,AT21,AW21,AZ21,BC21,BF21,BI21,BL21,BO21,BR21,BU21) -> 2 | H21: =AVERAGE(I21,L21,O21,R21,U21,X21,AA21,AD21,AG21,BW21,AJ21,AM21,AP21,AS21,AV21,AY21,BB21,BE21,BH21,BK21,BN21,BQ21,BT21) -> 6.6666667 | AJ21: 6 | AK21: 4 | AL21: 1 | BB21: 7 | BC21: 1 | BN21: 7 | BO21: 1 | BP21: 1
B22: 12 | C22: Dominik | D22: =SUMIF($I$10:$BY$10,"B",I22:BY22) -> 2 | E22: =SUMIF($I$10:$BY$10,"R",I22:BY22) -> 2 | F22: =COUNT(I22,L22,O22,R22,U22,X22,AA22,AD22,AG22,BW22,AJ22,AM22,AP22,AS22,AV22,AY22,BB22,BE22,BH22,BK22,BN22,BQ22,BT22) -> 1 | G22: =AVERAGE(J22,M22,P22,S22,V22,Y22,AB22,AE22,AH22,BX22,AK22,AN22,AQ22,AT22,AW22,AZ22,BC22,BF22,BI22,BL22,BO22,BR22,BU22) -> 2 | H22: =AVERAGE(I22,L22,O22,R22,U22,X22,AA22,AD22,AG22,BW22,AJ22,AM22,AP22,AS22,AV22,AY22,BB22,BE22,BH22,BK22,BN22,BQ22,BT22) -> 6 | I22: 6 | J22: 2 | K22: 2
C23: Minis | D23: =SUMIF($I$10:$BY$10,"B",I23:BY23) -> 47 | E23: =SUMIF($I$10:$BY$10,"R",I23:BY23) -> 9 | F23: =COUNT(I23,L23,O23,R23,U23,X23,AA23,AD23,AG23,BW23,AJ23,AM23,AP23,AS23,AV23,AY23,BB23,BE23,BH23,BK23,BN23,BQ23,BT23) -> 9 | G23: =AVERAGE(J23,M23,P23,S23,V23,Y23,AB23,AE23,AH23,BX23,AK23,AN23,AQ23,AT23,AW23,AZ23,BC23,BF23,BI23,BL23,BO23,BR23,BU23) -> 5.2222222 | H23: =AVERAGE(I23,L23,O23,R23,U23,X23,AA23,AD23,AG23,BW23,AJ23,AM23,AP23,AS23,AV23,AY23,BB23,BE23,BH23,BK23,BN23,BQ23,BT23) -> 4 | L23: 4 | M23: 5 | U23: 3 | V23: 5 | W23: 2 | AA23: 4 | AB23: 4 | AD23: 7 | AE23: 4 | AF23: 1 | AJ23: 7 | AK23: 3 | AV23: 1 | AW23: 11 | AY23: 4 | AZ23: 4 | BA23: 3 | BB23: 2 | BC23: 7 | BN23: 4 | BO23: 4 | BP23: 3
C24: Filip | D24: =SUMIF($I$10:$BY$10,"B",I24:BY24) -> 20 | E24: =SUMIF($I$10:$BY$10,"R",I24:BY24) -> 8 | F24: =COUNT(I24,L24,O24,R24,U24,X24,AA24,AD24,AG24,BW24,AJ24,AM24,AP24,AS24,AV24,AY24,BB24,BE24,BH24,BK24,BN24,BQ24,BT24) -> 3 | G24: =AVERAGE(J24,M24,P24,S24,V24,Y24,AB24,AE24,AH24,BX24,AK24,AN24,AQ24,AT24,AW24,AZ24,BC24,BF24,BI24,BL24,BO24,BR24,BU24) -> 6.6666667 | H24: =AVERAGE(I24,L24,O24,R24,U24,X24,AA24,AD24,AG24,BW24,AJ24,AM24,AP24,AS24,AV24,AY24,BB24,BE24,BH24,BK24,BN24,BQ24,BT24) -> 2.6666667 | X24: 6 | Y24: 3 | Z24: 2 | BQ24: 1 | BR24: 8 | BS24: 3 | BT24: 1 | BU24: 9 | BV24: 3
C25: Karel | D25: =SUMIF($I$10:$BY$10,"B",I25:BY25) -> 19 | E25: =SUMIF($I$10:$BY$10,"R",I25:BY25) -> 5 | F25: =COUNT(I25,L25,O25,R25,U25,X25,AA25,AD25,AG25,BW25,AJ25,AM25,AP25,AS25,AV25,AY25,BB25,BE25,BH25,BK25,BN25,BQ25,BT25) -> 4 | G25: =AVERAGE(J25,M25,P25,S25,V25,Y25,AB25,AE25,AH25,BX25,AK25,AN25,AQ25,AT25,AW25,AZ25,BC25,BF25,BI25,BL25,BO25,BR25,BU25) -> 4.75 | H25: =AVERAGE(I25,L25,O25,R25,U25,X25,AA25,AD25,AG25,BW25,AJ25,AM25,AP25,AS25,AV25,AY25,BB25,BE25,BH25,BK25,BN25,BQ25,BT25) -> 4.75 | L25: 3 | M25: 6 | N25: 2 | U25: 6 | V25: 2 | W25: 1 | AD25: 3 | AE25: 8 | AF25: 1 | AV25: 7 | AW25: 3 | AX25: 1
C26: Ondra Herich | D26: =SUMIF($I$10:$BY$10,"B",I26:BY26) -> 13 | E26: =SUMIF($I$10:$BY$10,"R",I26:BY26) -> 1 | F26: =COUNT(I26,L26,O26,R26,U26,X26,AA26,AD26,AG26,BW26,AJ26,AM26,AP26,AS26,AV26,AY26,BB26,BE26,BH26,BK26,BN26,BQ26,BT26) -> 5 | G26: =AVERAGE(J26,M26,P26,S26,V26,Y26,AB26,AE26,AH26,BX26,AK26,AN26,AQ26,AT26,AW26,AZ26,BC26,BF26,BI26,BL26,BO26,BR26,BU26) -> 2.6 | H26: =AVERAGE(I26,L26,O26,R26,U26,X26,AA26,AD26,AG26,BW26,AJ26,AM26,AP26,AS26,AV26,AY26,BB26,BE26,BH26,BK26,BN26,BQ26,BT26) -> 5.4 | AS26: 6 | AT26: 1 | AU26: 1 | AV26: 9 | AW26: 1 | AY26: 3 | AZ26: 5 | BH26: 2 | BI26: 5 | BT26: 7 | BU26: 1
C27: Zbyňa | D27: =SUMIF($I$10:$BY$10,"B",I27:BY27) -> 12 | E27: =SUMIF($I$10:$BY$10,"R",I27:BY27) -> 0 | F27: =COUNT(I27,L27,O27,R27,U27,X27,AA27,AD27,AG27,BW27,AJ27,AM27,AP27,AS27,AV27,AY27,BB27,BE27,BH27,BK27,BN27,BQ27,BT27) -> 2 | G27: =AVERAGE(J27,M27,P27,S27,V27,Y27,AB27,AE27,AH27,BX27,AK27,AN27,AQ27,AT27,AW27,AZ27,BC27,BF27,BI27,BL27,BO27,BR27,BU27) -> 6 | H27: =AVERAGE(I27,L27,O27,R27,U27,X27,AA27,AD27,AG27,BW27,AJ27,AM27,AP27,AS27,AV27,AY27,BB27,BE27,BH27,BK27,BN27,BQ27,BT27) -> 3.5 | L27: 1 | M27: 10 | AA27: 6 | AB27: 2
C28: Piňus | D28: =SUMIF($I$10:$BY$10,"B",I28:BY28) -> 10 | E28: =SUMIF($I$10:$BY$10,"R",I28:BY28) -> 0 | F28: =COUNT(I28,L28,O28,R28,U28,X28,AA28,AD28,AG28,BW28,AJ28,AM28,AP28,AS28,AV28,AY28,BB28,BE28,BH28,BK28,BN28,BQ28,BT28) -> 4 | G28: =AVERAGE(J28,M28,P28,S28,V28,Y28,AB28,AE28,AH28,BX28,AK28,AN28,AQ28,AT28,AW28,AZ28,BC28,BF28,BI28,BL28,BO28,BR28,BU28) -> 2.5 | H28: =AVERAGE(I28,L28,O28,R28,U28,X28,AA28,AD28,AG28,BW28,AJ28,AM28,AP28,AS28,AV28,AY28,BB28,BE28,BH28,BK28,BN28,BQ28,BT28) -> 7 | L28: 7 | M28: 2 | U28: 5 | V28: 3 | AD28: 10 | AE28: 1 | AV28: 6 | AW28: 4
C29: Dušan | D29: =SUMIF($I$10:$BY$10,"B",I29:BY29) -> 9 | E29: =SUMIF($I$10:$BY$10,"R",I29:BY29) -> 3 | F29: =COUNT(I29,L29,O29,R29,U29,X29,AA29,AD29,AG29,BW29,AJ29,AM29,AP29,AS29,AV29,AY29,BB29,BE29,BH29,BK29,BN29,BQ29,BT29) -> 3 | G29: =AVERAGE(J29,M29,P29,S29,V29,Y29,AB29,AE29,AH29,BX29,AK29,AN29,AQ29,AT29,AW29,AZ29,BC29,BF29,BI29,BL29,BO29,BR29,BU29) -> 3 | H29: =AVERAGE(I29,L29,O29,R29,U29,X29,AA29,AD29,AG29,BW29,AJ29,AM29,AP29,AS29,AV29,AY29,BB29,BE29,BH29,BK29,BN29,BQ29,BT29) -> 5.6666667 | X29: 5 | Y29: 4 | Z29: 2 | AJ29: 8 | AK29: 2 | AL29: 1 | BQ29: 4 | BR29: 3
C30: Staňa | D30: =SUMIF($I$10:$BY$10,"B",I30:BY30) -> 7 | E30: =SUMIF($I$10:$BY$10,"R",I30:BY30) -> 3 | F30: =COUNT(I30,L30,O30,R30,U30,X30,AA30,AD30,AG30,BW30,AJ30,AM30,AP30,AS30,AV30,AY30,BB30,BE30,BH30,BK30,BN30,BQ30,BT30) -> 2 | G30: =AVERAGE(J30,M30,P30,S30,V30,Y30,AB30,AE30,AH30,BX30,AK30,AN30,AQ30,AT30,AW30,AZ30,BC30,BF30,BI30,BL30,BO30,BR30,BU30) -> 3.5 | H30: =AVERAGE(I30,L30,O30,R30,U30,X30,AA30,AD30,AG30,BW30,AJ30,AM30,AP30,AS30,AV30,AY30,BB30,BE30,BH30,BK30,BN30,BQ30,BT30) -> 5.5 | AV30: 4 | AW30: 6 | AX30: 1 | AY30: 7 | AZ30: 1 | BA30: 2
C31: Škaris | D31: =SUMIF($I$10:$BY$10,"B",I31:BY31) -> 2 | E31: =SUMIF($I$10:$BY$10,"R",I31:BY31) -> 0 | F31: =COUNT(I31,L31,O31,R31,U31,X31,AA31,AD31,AG31,BW31,AJ31,AM31,AP31,AS31,AV31,AY31,BB31,BE31,BH31,BK31,BN31,BQ31,BT31) -> 1 | G31: =AVERAGE(J31,M31,P31,S31,V31,Y31,AB31,AE31,AH31,BX31,AK31,AN31,AQ31,AT31,AW31,AZ31,BC31,BF31,BI31,BL31,BO31,BR31,BU31) -> 2 | H31: =AVERAGE(I31,L31,O31,R31,U31,X31,AA31,AD31,AG31,BW31,AJ31,AM31,AP31,AS31,AV31,AY31,BB31,BE31,BH31,BK31,BN31,BQ31,BT31) -> 6 | AY31: 6 | AZ31: 2
C33: Vysvětlivky: | D33: mimořádná událost :-)
D34: P | F34: - Pořadí
D35: B | F35: - Body
D36: R | F36: - Re-buy
C38: Způsob vyplácení výher

Sheet 2.pololetí 2010
B1: Odcizeno :-( | C1: 1 | E1: =B4*0.5 -> 490 | G1: 0.5
B2: 2200 | C2: 2 | E2: =B4*0.3 -> 294 | G2: 0.3 | BP2: Kufr | BS2: =SUM(BS3:CM3)-2600 -> -1600
B3: BANK | C3: 3 | E3: =B4*0.2 -> 196 | G3: 0.2 | BS3: 100 | BV3: 100 | BY3: 100 | CB3: 100 | CE3: 0 | CH3: 200 | CK3: 400
B4: =SUM(H4:CM4)-B2 -> 980 | H4: =(COUNTIF(I9:I37,">0"))*20 -> 140 | K4: =(COUNTIF(L9:L37,">0"))*20 -> 100 | N4: =(COUNTIF(O9:O37,">0"))*20 -> 80 | Q4: =(COUNTIF(R9:R37,">0"))*20 -> 100 | T4: =(COUNTIF(U9:U37,">0"))*20 -> 120 | W4: =(COUNTIF(X9:X37,">0"))*20 -> 120 | Z4: =(COUNTIF(AA9:AA37,">0"))*20 -> 120 | AC4: =(COUNTIF(AD9:AD37,">0"))*20 -> 120 | AF4: =(COUNTIF(AG9:AG37,">0"))*20 -> 60 | AI4: =(COUNTIF(AJ9:AJ37,">0"))*20 -> 80 | AL4: =(COUNTIF(AM9:AM37,">0"))*20 -> 100 | AO4: =(COUNTIF(AP9:AP37,">0"))*20 -> 80 | AR4: =(COUNTIF(AS9:AS37,">0"))*20 -> 140 | AU4: =(COUNTIF(AV9:AV37,">0"))*20 -> 80 | AX4: =(COUNTIF(AY9:AY37,">0"))*20 -> 120 | BA4: =(COUNTIF(BB9:BB37,">0"))*20 -> 120 | BD4: =(COUNTIF(BE9:BE37,">0"))*20 -> 120 | BG4: =(COUNTIF(BH9:BH37,">0"))*20 -> 100 | BJ4: =(COUNTIF(BK9:BK37,">0"))*20 -> 120 | BM4: =(COUNTIF(BN9:BN37,">0"))*20 -> 180 | BP4: =(COUNTIF(BQ9:BQ37,">0"))*20 -> 120 | BS4: =(COUNTIF(BT9:BT37,">0"))*20 -> 100 | BV4: =(COUNTIF(BW9:BW37,">0"))*20 -> 80 | BY4: =(COUNTIF(BZ9:BZ37,">0"))*20 -> 120 | CB4: =(COUNTIF(CC9:CC37,">0"))*20 -> 100 | CE4: =(COUNTIF(CF9:CF37,">0"))*20 -> 140 | CH4: =(COUNTIF(CI9:CI37,">0"))*20 -> 140 | CK4: =(COUNTIF(CL9:CL37,">0"))*20 -> 180
B5: Denní výhry | G5: 1. | H5: =((COUNTIF(I9:I37,">0"))*100-200)+(SUM(J9:J21)/2)*100 -> 650 | K5: =((COUNTIF(L9:L37,">0"))*100-200)+(SUM(M9:M21)/2)*100 -> 450 | N5: =((COUNTIF(O9:O37,">0"))*100-200)+(SUM(P9:P21)/2)*100 -> 350 | Q5: =((COUNTIF(R9:R37,">0"))*100-200)+(SUM(S9:S21)/2)*100 -> 400 | T5: =((COUNTIF(U9:U37,">0"))*100-100)+(SUM(V9:V25)/2)*100 -> 800 | W5: =((COUNTIF(X9:X37,">0"))*100-100)+(SUM(Y9:Y25)/2)*100 -> 800 | Z5: =((COUNTIF(AA9:AA37,">0"))*100-100)+(SUM(AB9:AB25)/2)*100 -> 700 | AC5: =((COUNTIF(AD9:AD37,">0"))*100-100)+(SUM(AE9:AE25)/2)*100 -> 650 | AF5: =((COUNTIF(AG9:AG37,">0"))*100-100)+(SUM(AH9:AH25)/2)*100 -> 300 | AI5: =((COUNTIF(AJ9:AJ37,">0"))*100-100)+(SUM(AK9:AK25)/2)*100 -> 500 | AL5: =((COUNTIF(AM9:AM37,">0"))*100-100)+(SUM(AN9:AN25)/2)*100 -> 400 | AO5: =((COUNTIF(AP9:AP37,">0"))*100-100)+(SUM(AQ9:AQ25)/2)*100 -> 450 | AR5: =((COUNTIF(AS9:AS37,">0"))*100-100)+(SUM(AT9:AT25)/2)*100 -> 850 | AU5: =((COUNTIF(AV9:AV37,">0"))*100-100)+(SUM(AW9:AW25)/2)*100 -> 550 | AX5: =((COUNTIF(AY9:AY37,">0"))*100-100)+(SUM(AZ9:AZ25)/2)*100 -> 700 | BA5: =((COUNTIF(BB9:BB37,">0"))*100-100)+(SUM(BC9:BC25)/2)*100 -> 700 | BD5: =((COUNTIF(BE9:BE37,">0"))*100-100)+(SUM(BF9:BF25)/2)*100 -> 850 | BG5: =((COUNTIF(BH9:BH37,">0"))*100-100)+(SUM(BI9:BI25)/2)*100 -> 700 | BJ5: =((COUNTIF(BK9:BK37,">0"))*100-100)+(SUM(BL9:BL25)/2)*100 -> 800 | BM5: =((COUNTIF(BN9:BN37,">0"))*100-100)+(SUM(BO9:BO25)/2)*100 -> 1200 | BP5: =((COUNTIF(BQ9:BQ37,">0"))*100-100)+(SUM(BR9:BR25)/2)*100 -> 750 | BS5: =(((COUNTIF(BT9:BT37,">0"))*100-100)+(SUM(BU9:BU25)/2)*100)-100 -> 400 | BV5: =(((COUNTIF(BW9:BW37,">0"))*100-100)+(SUM(BX9:BX25)/2)*100)-100 -> 400 | BY5: =(((COUNTIF(BZ9:BZ37,">0"))*100-100)+(SUM(CA9:CA25)/2)*100)-100 -> 700 | CB5: =(((COUNTIF(CC9:CC37,">0"))*100-100)+(SUM(CD9:CD25)/2)*100)-100 -> 550 | CE5: =(((COUNTIF(CF9:CF37,">0"))*100-100)+(SUM(CG9:CG25)/2)*100)-100 -> 800 | CH5: =(((COUNTIF(CI9:CI37,">0"))*100-100)+(SUM(CJ9:CJ25)/2)*100)-100 -> 900 | CK5: =(((COUNTIF(CL9:CL37,">0"))*100-100)+(SUM(CM9:CM25)/2)*100)-100 -> 1300
G6: 2. | H6: =100+(SUM(J9:J25)/2)*100 -> 400 | K6: =100+(SUM(M9:M25)/2)*100 -> 250 | N6: =100+(SUM(P9:P25)/2)*100 -> 250 | Q6: =100+(SUM(S9:S25)/2)*100 -> 200 | T6: =100+(SUM(V9:V25)/2)*100 -> 400 | W6: =100+(SUM(Y9:Y25)/2)*100 -> 400 | Z6: =100+(SUM(AB9:AB25)/2)*100 -> 300 | AC6: =100+(SUM(AE9:AE25)/2)*100 -> 250 | AF6: =100+(SUM(AH9:AH25)/2)*100 -> 200 | AI6: =100+(SUM(AK9:AK25)/2)*100 -> 300 | AL6: =100+(SUM(AN9:AN25)/2)*100 -> 100 | AO6: =100+(SUM(AQ9:AQ25)/2)*100 -> 250 | AR6: =100+(SUM(AT9:AT25)/2)*100 -> 350 | AU6: =100+(SUM(AW9:AW25)/2)*100 -> 350 | AX6: =100+(SUM(AZ9:AZ25)/2)*100 -> 300 | BA6: =100+(SUM(BC9:BC25)/2)*100 -> 300 | BD6: =100+(SUM(BF9:BF25)/2)*100 -> 450 | BG6: =100+(SUM(BI9:BI25)/2)*100 -> 400 | BJ6: =100+(SUM(BL9:BL25)/2)*100 -> 400 | BM6: =100+(SUM(BO9:BO25)/2)*100 -> 500 | BP6: =100+(SUM(BR9:BR25)/2)*100 -> 350 | BS6: =100+(SUM(BU9:BU25)/2)*100 -> 200 | BV6: =100+(SUM(BX9:BX25)/2)*100 -> 300 | BY6: =100+(SUM(CA9:CA25)/2)*100 -> 400 | CB6: =100+(SUM(CD9:CD25)/2)*100 -> 350 | CE6: =100+(SUM(CG9:CG25)/2)*100 -> 400 | CH6: =100+(SUM(CJ9:CJ25)/2)*100 -> 500 | CK6: =100+(SUM(CM9:CM25)/2)*100 -> 700
K7: 40391 | N7: 40405 | Q7: 40408 | T7: 40410 | W7: 40417 | Z7: 40425 | AC7: 40431 | AF7: 40437 | AI7: 40445 | AL7: 40445 | AO7: 40449 | AR7: 40453 | AU7: 40460 | AX7: 40467 | BA7: 40473 | BD7: 40478 | BG7: 40481 | BJ7: 40488 | BM7: 40495 | BP7: 40510 | BS7: 40516 | BV7: 40522 | BY7: 40523 | CB7: 40533 | CE7: 40537 | CH7: 40540 | CK7: 40541
B8: Jméno: | C8: Body | D8: Dokup | E8: odehráno | F8: Q body | G8: Q pořadí | H8: P | I8: B | J8: R | K8: P | L8: B | M8: R | N8: P | O8: B | P8: R | Q8: P | R8: B | S8: R | T8: P | U8: B | V8: R | W8: P | X8: B | Y8: R | Z8: P | AA8: B | AB8: R | AC8: P | AD8: B | AE8: R | AF8: P | AG8: B | AH8: R | AI8: P | AJ8: B | AK8: R | AL8: P | AM8: B | AN8: R | AO8: P | AP8: B | AQ8: R | AR8: P | AS8: B | AT8: R | AU8: P | AV8: B | AW8: R | AX8: P | AY8: B | AZ8: R | BA8: P | BB8: B | BC8: R | BD8: P | BE8: B | BF8: R | BG8: P | BH8: B | BI8: R | BJ8: P | BK8: B | BL8: R | BM8: P | BN8: B | BO8: R | BP8: P | BQ8: B | BR8: R | BS8: P | BT8: B | BU8: R | BV8: P | BW8: B | BX8: R | BY8: P | BZ8: B | CA8: R | CB8: P | CC8: B | CD8: R | CE8: P | CF8: B | CG8: R | CH8: P | CI8: B | CJ8: R | CK8: P | CL8: B | CM8: R
A9: 1 | B9: Jáchym | C9: =SUM(I9,L9,O9,R9,U9,X9,AA9,AD9,AG9,AJ9,AM9,AP9,AS9,AV9,AY9,BB9,BE9,BH9,BK9,BN9,BQ9,BT9,BW9,BZ9,CC9,CF9,CI9,CL9) -> 111 | D9: =SUMIF($H$8:$CM$8,"R",H9:CM9) -> 21 | E9: =COUNT(H9,K9,N9,Q9,T9,W9,Z9,AC9,AF9,AI9,AL9,AO9,AR9,AU9,AX9,BA9,BD9,BG9,BJ9,BM9,BP9,BS9,BV9,BY9,CB9,CE9,CH9,CK9) -> 25 | F9: =AVERAGE(I9,L9,O9,R9,U9,X9,AA9,AD9,AG9,AJ9,AM9,AP9,AS9,AV9,AY9,BB9,BE9,BH9,BK9,BN9,BQ9,BT9,BW9,BZ9,CC9,CF9,CI9,CL9) -> 4.44 | G9: =AVERAGE(H9,K9,N9,Q9,T9,W9,Z9,AC9,AF9,AI9,AL9,AO9,AR9,AU9,AX9,BA9,BD9,BG9,BJ9,BM9,BP9,BS9,BV9,BY9,CB9,CE9,CH9,CK9) -> 2.84 | H9: 3 | I9: 5 | K9: 4 | L9: 2 | M9: 1 | N9: 2 | O9: 4 | P9: 1 | Q9: 1 | R9: 7 | T9: 4 | U9: 3 | Z9: 1 | AA9: 8 | AC9: 4 | AD9: 3 | AF9: 3 | AG9: 1 | AH9: 1 | AI9: 3 | AJ9: 2 | AK9: 1 | AL9: 2 | AM9: 5 | AO9: 4 | AP9: 1 | AQ9: 1 | AR9: 2 | AS9: 7 | AT9: 2 | AX9: 4 | AY9: 3 | BA9: 2 | BB9: 6 | BC9: 3 | BD9: 2 | BE9: 6 | BG9: 3 | BH9: 3 | BI9: 1 | BJ9: 1 | BK9: 8 | BM9: 4 | BN9: 6 | BO9: 3 | BP9: 1 | BQ9: 8 | BS9: 2 | BT9: 5 | BV9: 3 | BW9: 2 | BX9: 1 | BY9: 4 | BZ9: 3 | CB9: 2 | CC9: 5 | CD9: 3 | CH9: 6 | CI9: 2 | CJ9: 1 | CK9: 4 | CL9: 6 | CM9: 2
A10: 2 | B10: Dominik | C10: =SUM(I10,L10,O10,R10,U10,X10,AA10,AD10,AG10,AJ10,AM10,AP10,AS10,AV10,AY10,BB10,BE10,BH10,BK10,BN10,BQ10,BT10,BW10,BZ10,CC10,CF10,CI10,CL10) -> 99 | D10: =SUMIF($H$8:$CM$8,"R",H10:CM10) -> 15 | E10: =COUNT(H10,K10,N10,Q10,T10,W10,Z10,AC10,AF10,AI10,AL10,AO10,AR10,AU10,AX10,BA10,BD10,BG10,BJ10,BM10,BP10,BS10,BV10,BY10,CB10,CE10,CH10,CK10) -> 16 | F10: =AVERAGE(I10,L10,O10,R10,U10,X10,AA10,AD10,AG10,AJ10,AM10,AP10,AS10,AV10,AY10,BB10,BE10,BH10,BK10,BN10,BQ10,BT10,BW10,BZ10,CC10,CF10,CI10,CL10) -> 6.1875 | G10: =AVERAGE(H10,K10,N10,Q10,T10,W10,Z10,AC10,AF10,AI10,AL10,AO10,AR10,AU10,AX10,BA10,BD10,BG10,BJ10,BM10,BP10,BS10,BV10,BY10,CB10,CE10,CH10,CK10) -> 2.3125 | H10: 2 | I10: 7 | J10: 1 | AR10: 1 | AS10: 9 | AX10: 6 | AY10: 1 | AZ10: 3 | BA10: 1 | BB10: 8 | BD10: 4 | BE10: 3 | BF10: 1 | BG10: 1 | BH10: 7 | BI10: 1 | BJ10: 2 | BK10: 6 | BL10: 1 | BM10: 2 | BN10: 9 | BP10: 6 | BQ10: 1 | BR10: 2 | BS10: 1 | BT10: 7 | BU10: 1 | BV10: 2 | BW10: 4 | BY10: 1 | BZ10: 8 | CB10: 4 | CC10: 2 | CD10: 1 | CE10: 1 | CF10: 9 | CH10: 1 | CI10: 9 | CK10: 2 | CL10: 9 | CM10: 4
A11: 3 | B11: Igor | C11: =SUM(I11,L11,O11,R11,U11,X11,AA11,AD11,AG11,AJ11,AM11,AP11,AS11,AV11,AY11,BB11,BE11,BH11,BK11,BN11,BQ11,BT11,BW11,BZ11,CC11,CF11,CI11,CL11) -> 90 | D11: =SUMIF($H$8:$CM$8,"R",H11:CM11) -> 20 | E11: =COUNT(H11,K11,N11,Q11,T11,W11,Z11,AC11,AF11,AI11,AL11,AO11,AR11,AU11,AX11,BA11,BD11,BG11,BJ11,BM11,BP11,BS11,BV11,BY11,CB11,CE11,CH11,CK11) -> 21 | F11: =AVERAGE(I11,L11,O11,R11,U11,X11,AA11,AD11,AG11,AJ11,AM11,AP11,AS11,AV11,AY11,BB11,BE11,BH11,BK11,BN11,BQ11,BT11,BW11,BZ11,CC11,CF11,CI11,CL11) -> 4.2857143 | G11: =AVERAGE(H11,K11,N11,Q11,T11,W11,Z11,AC11,AF11,AI11,AL11,AO11,AR11,AU11,AX11,BA11,BD11,BG11,BJ11,BM11,BP11,BS11,BV11,BY11,CB11,CE11,CH11,CK11) -> 3.2857143 | H11: 6 | I11: 2 | J11: 2 | K11: 1 | L11: 7 | T11: 5 | U11: 2 | V11: 1 | W11: 3 | X11: 4 | Y11: 1 | Z11: 3 | AA11: 4 | AB11: 1 | AC11: 5 | AD11: 2 | AE11: 1 | AI11: 4 | AJ11: 1 | AK11: 2 | AL11: 5 | AM11: 1 | AO11: 2 | AP11: 4 | AR11: 4 | AS11: 4 | AU11: 2 | AV11: 4 | AW11: 2 | AX11: 2 | AY11: 6 | BD11: 1 | BE11: 8 | BF11: 1 | BJ11: 4 | BK11: 3 | BL11: 2 | BM11: 6 | BN11: 4 | BP11: 2 | BQ11: 6 | BV11: 1 | BW11: 6 | BX11: 1 | BY11: 3 | BZ11: 4 | CA11: 2 | CE11: 5 | CF11: 3 | CG11: 1 | CH11: 4 | CI11: 4 | CJ11: 1 | CK11: 1 | CL11: 11 | CM11: 2
A12: 4 | B12: Ludwa | C12: =SUM(I12,L12,O12,R12,U12,X12,AA12,AD12,AG12,AJ12,AM12,AP12,AS12,AV12,AY12,BB12,BE12,BH12,BK12,BN12,BQ12,BT12,BW12,BZ12,CC12,CF12,CI12,CL12) -> 67 | D12: =SUMIF($H$8:$CM$8,"R",H12:CM12) -> 14 | E12: =COUNT(H12,K12,N12,Q12,T12,W12,Z12,AC12,AF12,AI12,AL12,AO12,AR12,AU12,AX12,BA12,BD12,BG12,BJ12,BM12,BP12,BS12,BV12,BY12,CB12,CE12,CH12,CK12) -> 22 | F12: =AVERAGE(I12,L12,O12,R12,U12,X12,AA12,AD12,AG12,AJ12,AM12,AP12,AS12,AV12,AY12,BB12,BE12,BH12,BK12,BN12,BQ12,BT12,BW12,BZ12,CC12,CF12,CI12,CL12) -> 3.0454545 | G12: =AVERAGE(H12,K12,N12,Q12,T12,W12,Z12,AC12,AF12,AI12,AL12,AO12,AR12,AU12,AX12,BA12,BD12,BG12,BJ12,BM12,BP12,BS12,BV12,BY12,CB12,CE12,CH12,CK12) -> 4.1818182 | N12: 4 | O12: 1 | Q12: 3 | R12: 3 | T12: 6 | U12: 1 | V12: 2 | W12: 6 | X12: 1 | Y12: 2 | Z12: 6 | AA12: 1 | AB12: 1 | AC12: 6 | AD12: 1 | AE12: 1 | AI12: 2 | AJ12: 4 | AL12: 3 | AM12: 3 | AR12: 5 | AS12: 3 | AU12: 4 | AV12: 1 | AW12: 1 | BA12: 6 | BB12: 1 | BD12: 5 | BE12: 2 | BG12: 4 | BH12: 2 | BI12: 1 | BJ12: 6 | BK12: 1 | BL12: 1 | BM12: 5 | BN12: 5 | BO12: 2 | BP12: 3 | BQ12: 4 | BR12: 1 | BS12: 5 | BT12: 1 | BY12: 2 | BZ12: 6 | CA12: 1 | CB12: 1 | CC12: 7 | CE12: 2 | CF12: 7 | CH12: 2 | CI12: 7 | CJ12: 1 | CK12: 6 | CL12: 5
A13: 5 | B13: Mira | C13: =SUM(I13,L13,O13,R13,U13,X13,AA13,AD13,AG13,AJ13,AM13,AP13,AS13,AV13,AY13,BB13,BE13,BH13,BK13,BN13,BQ13,BT13,BW13,BZ13,CC13,CF13,CI13,CL13) -> 57 | D13: =SUMIF($H$8:$CM$8,"R",H13:CM13) -> 14 | E13: =COUNT(H13,K13,N13,Q13,T13,W13,Z13,AC13,AF13,AI13,AL13,AO13,AR13,AU13,AX13,BA13,BD13,BG13,BJ13,BM13,BP13,BS13,BV13,BY13,CB13,CE13,CH13,CK13) -> 13 | F13: =AVERAGE(I13,L13,O13,R13,U13,X13,AA13,AD13,AG13,AJ13,AM13,AP13,AS13,AV13,AY13,BB13,BE13,BH13,BK13,BN13,BQ13,BT13,BW13,BZ13,CC13,CF13,CI13,CL13) -> 4.3846154 | G13: =AVERAGE(H13,K13,N13,Q13,T13,W13,Z13,AC13,AF13,AI13,AL13,AO13,AR13,AU13,AX13,BA13,BD13,BG13,BJ13,BM13,BP13,BS13,BV13,BY13,CB13,CE13,CH13,CK13) -> 3.3846154 | K13: 2 | L13: 5 | M13: 1 | N13: 3 | O13: 2 | P13: 2 | T13: 1 | U13: 8 | V13: 1 | W13: 2 | X13: 6 | Z13: 2 | AA13: 6 | AC13: 3 | AD13: 4 | AR13: 6 | AS13: 2 | AT13: 1 | AU13: 1 | AV13: 6 | AW13: 1 | BM13: 3 | BN13: 7 | BO13: 1 | CB13: 5 | CC13: 1 | CD13: 1 | CE13: 4 | CF13: 4 | CH13: 5 | CI13: 3 | CJ13: 4 | CK13: 7 | CL13: 3 | CM13: 2
A14: 6 | B14: Jara hotel | C14: =SUM(I14,L14,O14,R14,U14,X14,AA14,AD14,AG14,AJ14,AM14,AP14,AS14,AV14,AY14,BB14,BE14,BH14,BK14,BN14,BQ14,BT14,BW14,BZ14,CC14,CF14,CI14,CL14) -> 45 | D14: =SUMIF($H$8:$CM$8,"R",H14:CM14) -> 12 | E14: =COUNT(H14,K14,N14,Q14,T14,W14,Z14,AC14,AF14,AI14,AL14,AO14,AR14,AU14,AX14,BA14,BD14,BG14,BJ14,BM14,BP14,BS14,BV14,BY14,CB14,CE14,CH14,CK14) -> 9 | F14: =AVERAGE(I14,L14,O14,R14,U14,X14,AA14,AD14,AG14,AJ14,AM14,AP14,AS14,AV14,AY14,BB14,BE14,BH14,BK14,BN14,BQ14,BT14,BW14,BZ14,CC14,CF14,CI14,CL14) -> 5 | G14: =AVERAGE(H14,K14,N14,Q14,T14,W14,Z14,AC14,AF14,AI14,AL14,AO14,AR14,AU14,AX14,BA14,BD14,BG14,BJ14,BM14,BP14,BS14,BV14,BY14,CB14,CE14,CH14,CK14) -> 2.5555556 | W14: 1 | X14: 8 | AL14: 1 | AM14: 7 | BG14: 2 | BH14: 5 | BI14: 3 | BM14: 1 | BN14: 11 | BO14: 1 | BS14: 3 | BT14: 3 | BU14: 1 | BV14: 4 | BW14: 1 | BX14: 2 | BY14: 5 | BZ14: 2 | CA14: 2 | CB14: 3 | CC14: 3 | CE14: 3 | CF14: 5 | CG14: 3
A15: 7 | B15: Markéta | C15: =SUM(I15,L15,O15,R15,U15,X15,AA15,AD15,AG15,AJ15,AM15,AP15,AS15,AV15,AY15,BB15,BE15,BH15,BK15,BN15,BQ15,BT15,BW15,BZ15,CC15,CF15,CI15,CL15) -> 38 | D15: =SUMIF($H$8:$CM$8,"R",H15:CM15) -> 7 | E15: =COUNT(H15,K15,N15,Q15,T15,W15,Z15,AC15,AF15,AI15,AL15,AO15,AR15,AU15,AX15,BA15,BD15,BG15,BJ15,BM15,BP15,BS15,BV15,BY15,CB15,CE15,CH15,CK15) -> 16 | F15: =AVERAGE(I15,L15,O15,R15,U15,X15,AA15,AD15,AG15,AJ15,AM15,AP15,AS15,AV15,AY15,BB15,BE15,BH15,BK15,BN15,BQ15,BT15,BW15,BZ15,CC15,CF15,CI15,CL15) -> 2.375 | G15: =AVERAGE(H15,K15,N15,Q15,T15,W15,Z15,AC15,AF15,AI15,AL15,AO15,AR15,AU15,AX15,BA15,BD15,BG15,BJ15,BM15,BP15,BS15,BV15,BY15,CB15,CE15,CH15,CK15) -> 5 | N15: 1 | O15: 6 | W15: 4 | X15: 3 | Y15: 1 | Z15: 4 | AA15: 3 | AB15: 1 | AI15: 1 | AJ15: 6 | AK15: 1 | AL15: 4 | AM15: 2 | AR15: 7 | AS15: 1 | AT15: 1 | BA15: 4 | BB15: 3 | BC15: 1 | BG15: 5 | BH15: 1 | BJ15: 3 | BK15: 4 | BL15: 1 | BM15: 9 | BN15: 1 | BP15: 5 | BQ15: 2 | BS15: 4 | BT15: 2 | BY15: 6 | BZ15: 1 | CA15: 1 | CE15: 7 | CF15: 1 | CH15: 7 | CI15: 1 | CK15: 9 | CL15: 1
A16: 8 | B16: Tomáš Konečný | C16: =SUM(I16,L16,O16,R16,U16,X16,AA16,AD16,AG16,AJ16,AM16,AP16,AS16,AV16,AY16,BB16,BE16,BH16,BK16,BN16,BQ16,BT16,BW16,BZ16,CC16,CF16,CI16,CL16) -> 29 | D16: =SUMIF($H$8:$CM$8,"R",H16:CM16) -> 4 | E16: =COUNT(H16,K16,N16,Q16,T16,W16,Z16,AC16,AF16,AI16,AL16,AO16,AR16,AU16,AX16,BA16,BD16,BG16,BJ16,BM16,BP16,BS16,BV16,BY16,CB16,CE16,CH16,CK16) -> 6 | F16: =AVERAGE(I16,L16,O16,R16,U16,X16,AA16,AD16,AG16,AJ16,AM16,AP16,AS16,AV16,AY16,BB16,BE16,BH16,BK16,BN16,BQ16,BT16,BW16,BZ16,CC16,CF16,CI16,CL16) -> 4.8333333 | G16: =AVERAGE(H16,K16,N16,Q16,T16,W16,Z16,AC16,AF16,AI16,AL16,AO16,AR16,AU16,AX16,BA16,BD16,BG16,BJ16,BM16,BP16,BS16,BV16,BY16,CB16,CE16,CH16,CK16) -> 3.1666667 | H16: 1 | I16: 9 | T16: 3 | U16: 4 | V16: 1 | BA16: 3 | BB16: 4 | BJ16: 5 | BK16: 2 | BL16: 1 | BP16: 4 | BQ16: 3 | BR16: 2 | CK16: 3 | CL16: 7
A17: 9 | B17: Miloš Bednář | C17: =SUM(I17,L17,O17,R17,U17,X17,AA17,AD17,AG17,AJ17,AM17,AP17,AS17,AV17,AY17,BB17,BE17,BH17,BK17,BN17,BQ17,BT17,BW17,BZ17,CC17,CF17,CI17,CL17) -> 23 | D17: =SUMIF($H$8:$CM$8,"R",H17:CM17) -> 4 | E17: =COUNT(H17,K17,N17,Q17,T17,W17,Z17,AC17,AF17,AI17,AL17,AO17,AR17,AU17,AX17,BA17,BD17,BG17,BJ17,BM17,BP17,BS17,BV17,BY17,CB17,CE17,CH17,CK17) -> 4 | F17: =AVERAGE(I17,L17,O17,R17,U17,X17,AA17,AD17,AG17,AJ17,AM17,AP17,AS17,AV17,AY17,BB17,BE17,BH17,BK17,BN17,BQ17,BT17,BW17,BZ17,CC17,CF17,CI17,CL17) -> 5.75 | G17: =AVERAGE(H17,K17,N17,Q17,T17,W17,Z17,AC17,AF17,AI17,AL17,AO17,AR17,AU17,AX17,BA17,BD17,BG17,BJ17,BM17,BP17,BS17,BV17,BY17,CB17,CE17,CH17,CK17) -> 1.75 | Q17: 2 | R17: 5 | S17: 1 | AC17: 1 | AD17: 8 | AO17: 1 | AP17: 6 | AQ17: 2 | AX17: 3 | AY17: 4 | AZ17: 1
A18: 10 | B18: Špelec | C18: =SUM(I18,L18,O18,R18,U18,X18,AA18,AD18,AG18,AJ18,AM18,AP18,AS18,AV18,AY18,BB18,BE18,BH18,BK18,BN18,BQ18,BT18,BW18,BZ18,CC18,CF18,CI18,CL18) -> 23 | D18: =SUMIF($H$8:$CM$8,"R",H18:CM18) -> 4 | E18: =COUNT(H18,K18,N18,Q18,T18,W18,Z18,AC18,AF18,AI18,AL18,AO18,AR18,AU18,AX18,BA18,BD18,BG18,BJ18,BM18,BP18,BS18,BV18,BY18,CB18,CE18,CH18,CK18) -> 6 | F18: =AVERAGE(I18,L18,O18,R18,U18,X18,AA18,AD18,AG18,AJ18,AM18,AP18,AS18,AV18,AY18,BB18,BE18,BH18,BK18,BN18,BQ18,BT18,BW18,BZ18,CC18,CF18,CI18,CL18) -> 3.8333333 | G18: =AVERAGE(H18,K18,N18,Q18,T18,W18,Z18,AC18,AF18,AI18,AL18,AO18,AR18,AU18,AX18,BA18,BD18,BG18,BJ18,BM18,BP18,BS18,BV18,BY18,CB18,CE18,CH18,CK18) -> 4.5 | K18: 3 | L18: 3 | M18: 1 | T18: 2 | U18: 6 | V18: 1 | Z18: 5 | AA18: 2 | AB18: 1 | AX18: 1 | AY18: 8 | BM18: 8 | BN18: 2 | CK18: 8 | CL18: 2 | CM18: 1
A19: 11 | B19: Radek Pecl | C19: =SUM(I19,L19,O19,R19,U19,X19,AA19,AD19,AG19,AJ19,AM19,AP19,AS19,AV19,AY19,BB19,BE19,BH19,BK19,BN19,BQ19,BT19,BW19,BZ19,CC19,CF19,CI19,CL19) -> 15 | D19: =SUMIF($H$8:$CM$8,"R",H19:CM19) -> 5 | E19: =COUNT(H19,K19,N19,Q19,T19,W19,Z19,AC19,AF19,AI19,AL19,AO19,AR19,AU19,AX19,BA19,BD19,BG19,BJ19,BM19,BP19,BS19,BV19,BY19,CB19,CE19,CH19,CK19) -> 4 | F19: =AVERAGE(I19,L19,O19,R19,U19,X19,AA19,AD19,AG19,AJ19,AM19,AP19,AS19,AV19,AY19,BB19,BE19,BH19,BK19,BN19,BQ19,BT19,BW19,BZ19,CC19,CF19,CI19,CL19) -> 3.75 | G19: =AVERAGE(H19,K19,N19,Q19,T19,W19,Z19,AC19,AF19,AI19,AL19,AO19,AR19,AU19,AX19,BA19,BD19,BG19,BJ19,BM19,BP19,BS19,BV19,BY19,CB19,CE19,CH19,CK19) -> 3.5 | AC19: 2 | AD19: 6 | AE19: 1 | AF19: 2 | AG19: 2 | BD19: 3 | BE19: 4 | BF19: 3 | BM19: 7 | BN19: 3 | BO19: 1
A20: 12 | B20: Pecen | C20: =SUM(I20,L20,O20,R20,U20,X20,AA20,AD20,AG20,AJ20,AM20,AP20,AS20,AV20,AY20,BB20,BE20,BH20,BK20,BN20,BQ20,BT20,BW20,BZ20,CC20,CF20,CI20,CL20) -> 15 | D20: =SUMIF($H$8:$CM$8,"R",H20:CM20) -> 2 | E20: =COUNT(H20,K20,N20,Q20,T20,W20,Z20,AC20,AF20,AI20,AL20,AO20,AR20,AU20,AX20,BA20,BD20,BG20,BJ20,BM20,BP20,BS20,BV20,BY20,CB20,CE20,CH20,CK20) -> 6 | F20: =AVERAGE(I20,L20,O20,R20,U20,X20,AA20,AD20,AG20,AJ20,AM20,AP20,AS20,AV20,AY20,BB20,BE20,BH20,BK20,BN20,BQ20,BT20,BW20,BZ20,CC20,CF20,CI20,CL20) -> 2.5 | G20: =AVERAGE(H20,K20,N20,Q20,T20,W20,Z20,AC20,AF20,AI20,AL20,AO20,AR20,AU20,AX20,BA20,BD20,BG20,BJ20,BM20,BP20,BS20,BV20,BY20,CB20,CE20,CH20,CK20) -> 4.1666667 | H20: 5 | I20: 3 | K20: 5 | L20: 1 | Q20: 4 | R20: 2 | S20: 1 | AO20: 3 | AP20: 2 | AX20: 5 | AY20: 2 | CH20: 3 | CI20: 5 | CJ20: 1
A21: 13 | B21: Broňa Uher | C21: =SUM(I21,L21,O21,R21,U21,X21,AA21,AD21,AG21,AJ21,AM21,AP21,AS21,AV21,AY21,BB21,BE21,BH21,BK21,BN21,BQ21,BT21,BW21,BZ21,CC21,CF21,CI21,CL21) -> 12 | D21: =SUMIF($H$8:$CM$8,"R",H21:CM21) -> 8 | E21: =COUNT(H21,K21,N21,Q21,T21,W21,Z21,AC21,AF21,AI21,AL21,AO21,AR21,AU21,AX21,BA21,BD21,BG21,BJ21,BM21,BP21,BS21,BV21,BY21,CB21,CE21,CH21,CK21) -> 6 | F21: =AVERAGE(I21,L21,O21,R21,U21,X21,AA21,AD21,AG21,AJ21,AM21,AP21,AS21,AV21,AY21,BB21,BE21,BH21,BK21,BN21,BQ21,BT21,BW21,BZ21,CC21,CF21,CI21,CL21) -> 2 | G21: =AVERAGE(H21,K21,N21,Q21,T21,W21,Z21,AC21,AF21,AI21,AL21,AO21,AR21,AU21,AX21,BA21,BD21,BG21,BJ21,BM21,BP21,BS21,BV21,BY21,CB21,CE21,CH21,CK21) -> 4.3333333 | Q21: 5 | R21: 1 | W21: 5 | X21: 2 | Y21: 2 | AF21: 1 | AG21: 4 | AH21: 1 | AU21: 3 | AV21: 2 | AW21: 1 | BD21: 6 | BE21: 1 | BF21: 2 | CE21: 6 | CF21: 2 | CG21: 2
A22: 14 | B22: Jirka Hrabec | C22: =SUM(I22,L22,O22,R22,U22,X22,AA22,AD22,AG22,AJ22,AM22,AP22,AS22,AV22,AY22,BB22,BE22,BH22,BK22,BN22,BQ22,BT22,BW22,BZ22,CC22,CF22,CI22,CL22) -> 6 | D22: =SUMIF($H$8:$CM$8,"R",H22:CM22) -> 2 | E22: =COUNT(H22,K22,N22,Q22,T22,W22,Z22,AC22,AF22,AI22,AL22,AO22,AR22,AU22,AX22,BA22,BD22,BG22,BJ22,BM22,BP22,BS22,BV22,BY22,CB22,CE22,CH22,CK22) -> 2 | F22: =AVERAGE(I22,L22,O22,R22,U22,X22,AA22,AD22,AG22,AJ22,AM22,AP22,AS22,AV22,AY22,BB22,BE22,BH22,BK22,BN22,BQ22,BT22,BW22,BZ22,CC22,CF22,CI22,CL22) -> 3 | G22: =AVERAGE(H22,K22,N22,Q22,T22,W22,Z22,AC22,AF22,AI22,AL22,AO22,AR22,AU22,AX22,BA22,BD22,BG22,BJ22,BM22,BP22,BS22,BV22,BY22,CB22,CE22,CH22,CK22) -> 6 | H22: 7 | I22: 1 | J22: 1 | CK22: 5 | CL22: 5 | CM22: 1
A23: 15 | B23: Mira Hutter | C23: =SUM(I23,L23,O23,R23,U23,X23,AA23,AD23,AG23,AJ23,AM23,AP23,AS23,AV23,AY23,BB23,BE23,BH23,BK23,BN23,BQ23,BT23,BW23,BZ23,CC23,CF23,CI23,CL23) -> 5 | D23: =SUMIF($H$8:$CM$8,"R",H23:CM23) -> 1 | E23: =COUNT(H23,K23,N23,Q23,T23,W23,Z23,AC23,AF23,AI23,AL23,AO23,AR23,AU23,AX23,BA23,BD23,BG23,BJ23,BM23,BP23,BS23,BV23,BY23,CB23,CE23,CH23,CK23) -> 1 | F23: =AVERAGE(I23,L23,O23,R23,U23,X23,AA23,AD23,AG23,AJ23,AM23,AP23,AS23,AV23,AY23,BB23,BE23,BH23,BK23,BN23,BQ23,BT23,BW23,BZ23,CC23,CF23,CI23,CL23) -> 5 | G23: =AVERAGE(H23,K23,N23,Q23,T23,W23,Z23,AC23,AF23,AI23,AL23,AO23,AR23,AU23,AX23,BA23,BD23,BG23,BJ23,BM23,BP23,BS23,BV23,BY23,CB23,CE23,CH23,CK23) -> 3 | AR23: 3 | AS23: 5 | AT23: 1
A24: 16 | B24: Tomáš | C24: =SUM(I24,L24,O24,R24,U24,X24,AA24,AD24,AG24,AJ24,AM24,AP24,AS24,AV24,AY24,BB24,BE24,BH24,BK24,BN24,BQ24,BT24,BW24,BZ24,CC24,CF24,CI24,CL24) -> 4 | D24: =SUMIF($H$8:$CM$8,"R",H24:CM24) -> 2 | E24: =COUNT(H24,K24,N24,Q24,T24,W24,Z24,AC24,AF24,AI24,AL24,AO24,AR24,AU24,AX24,BA24,BD24,BG24,BJ24,BM24,BP24,BS24,BV24,BY24,CB24,CE24,CH24,CK24) -> 1 | F24: =AVERAGE(I24,L24,O24,R24,U24,X24,AA24,AD24,AG24,AJ24,AM24,AP24,AS24,AV24,AY24,BB24,BE24,BH24,BK24,BN24,BQ24,BT24,BW24,BZ24,CC24,CF24,CI24,CL24) -> 4 | G24: =AVERAGE(H24,K24,N24,Q24,T24,W24,Z24,AC24,AF24,AI24,AL24,AO24,AR24,AU24,AX24,BA24,BD24,BG24,BJ24,BM24,BP24,BS24,BV24,BY24,CB24,CE24,CH24,CK24) -> 4 | H24: 4 | I24: 4 | J24: 2
A25: 17 | B25: Martin Lukl | C25: =SUM(I25,L25,O25,R25,U25,X25,AA25,AD25,AG25,AJ25,AM25,AP25,AS25,AV25,AY25,BB25,BE25,BH25,BK25,BN25,BQ25,BT25,BW25,BZ25,CC25,CF25,CI25,CL25) -> 2 | D25: =SUMIF($H$8:$CM$8,"R",H25:CM25) -> 0 | E25: =COUNT(H25,K25,N25,Q25,T25,W25,Z25,AC25,AF25,AI25,AL25,AO25,AR25,AU25,AX25,BA25,BD25,BG25,BJ25,BM25,BP25,BS25,BV25,BY25,CB25,CE25,CH25,CK25) -> 1 | F25: =AVERAGE(I25,L25,O25,R25,U25,X25,AA25,AD25,AG25,AJ25,AM25,AP25,AS25,AV25,AY25,BB25,BE25,BH25,BK25,BN25,BQ25,BT25,BW25,BZ25,CC25,CF25,CI25,CL25) -> 2 | G25: =AVERAGE(H25,K25,N25,Q25,T25,W25,Z25,AC25,AF25,AI25,AL25,AO25,AR25,AU25,AX25,BA25,BD25,BG25,BJ25,BM25,BP25,BS25,BV25,BY25,CB25,CE25,CH25,CK25) -> 5 | BA25: 5 | BB25: 2
B27: Vysvětlivky: | C27: mimořádná událost :-)
C28: P | E28: - Pořadí
C29: B | E29: - Body
C30: R | E30: - Re-buy

Sheet 1.pololetí 2010
H1: P | I1: - Pořadí | P1: 1 | Q1: =B4*0.5 -> 1020 | U1: 0.5
H2: B | I2: - Body | P2: 2 | Q2: =B4*0.3 -> 612 | U2: 0.3
B3: BANK | H3: R | I3: - Re-buy | P3: 3 | Q3: =B4*0.2 -> 408 | U3: 0.2
B4: =SUM(H4:BI4) -> 2040 | H4: =(COUNTIF(I9:I36,">0"))*20 -> 100 | K4: =(COUNTIF(L9:L36,">0"))*20 -> 120 | N4: =(COUNTIF(O9:O36,">0"))*20 -> 160 | Q4: =(COUNTIF(R9:R36,">0"))*20 -> 120 | T4: =(COUNTIF(U9:U36,">0"))*20 -> 120 | W4: =(COUNTIF(X9:X36,">0"))*20 -> 140 | Z4: =(COUNTIF(AA9:AA36,">0"))*20 -> 120 | AC4: =(COUNTIF(AD9:AD36,">0"))*20 -> 160 | AF4: =(COUNTIF(AG9:AG36,">0"))*20 -> 120 | AI4: =(COUNTIF(AJ9:AJ36,">0"))*20 -> 120 | AL4: =(COUNTIF(AM9:AM36,">0"))*20 -> 120 | AO4: =(COUNTIF(AP9:AP36,">0"))*20 -> 140 | AR4: =(COUNTIF(AS9:AS36,">0"))*20 -> 120 | AU4: =(COUNTIF(AV9:AV36,">0"))*20 -> 80 | AX4: =(COUNTIF(AY9:AY36,">0"))*20 -> 80 | BA4: =(COUNTIF(BB9:BB36,">0"))*20 -> 120 | BD4: =(COUNTIF(BE9:BE36,">0"))*20 -> 100
B5: Denní výhry | G5: 1. | H5: =((COUNTIF(I9:I36,">0"))*100-200)+(SUM(J9:J21)/2)*100 -> 450 | K5: =((COUNTIF(L9:L36,">0"))*100-200)+(SUM(M9:M21)/2)*100 -> 450 | N5: =((COUNTIF(O9:O36,">0"))*100-200)+(SUM(P9:P21)/2)*100 -> 600 | Q5: =((COUNTIF(R9:R36,">0"))*100-200)+(SUM(S9:S21)/2)*100 -> 400 | T5: =((COUNTIF(U9:U36,">0"))*100-100)+(SUM(V9:V21)/2)*100 -> 550 | W5: =((COUNTIF(X9:X36,">0"))*100-100)+(SUM(Y9:Y21)/2)*100 -> 600 | Z5: =((COUNTIF(AA9:AA36,">0"))*100-100)+(SUM(AB9:AB21)/2)*100 -> 500 | AC5: =((COUNTIF(AD9:AD36,">0"))*100-100)+(SUM(AE9:AE21)/2)*100 -> 700 | AF5: =((COUNTIF(AG9:AG36,">0"))*100-100)+(SUM(AH9:AH21)/2)*100 -> 500 | AI5: =((COUNTIF(AJ9:AJ36,">0"))*100-100)+(SUM(AK9:AK21)/2)*100 -> 500 | AL5: =((COUNTIF(AM9:AM36,">0"))*100-100)+(SUM(AN9:AN21)/2)*100 -> 700 | AO5: =((COUNTIF(AP9:AP36,">0"))*100-100)+(SUM(AQ9:AQ21)/2)*100 -> 850 | AR5: =((COUNTIF(AS9:AS36,">0"))*100-100)+(SUM(AT9:AT21)/2)*100 -> 550 | AU5: =((COUNTIF(AV9:AV36,">0"))*100-100)+(SUM(AW9:AW21)/2)*100 -> 600 | AX5: =((COUNTIF(AY9:AY36,">0"))*100-100)+(SUM(AZ9:AZ21)/2)*100 -> 450 | BA5: =((COUNTIF(BB9:BB36,">0"))*100-100)+(SUM(BC9:BC21)/2)*100 -> 750 | BD5: =((COUNTIF(BE9:BE36,">0"))*100-100)+(SUM(BF9:BF21)/2)*100 -> 400
G6: 2. | H6: =100+(SUM(J9:J21)/2)*100 -> 250 | K6: =100+(SUM(M9:M21)/2)*100 -> 150 | N6: =100+(SUM(P9:P21)/2)*100 -> 100 | Q6: =100+(SUM(S9:S21)/2)*100 -> 100 | T6: =100+(SUM(V9:V21)/2)*100 -> 150 | W6: =100+(SUM(Y9:Y21)/2)*100 -> 100 | Z6: =100+(SUM(AB9:AB21)/2)*100 -> 100 | AC6: =100+(SUM(AE9:AE21)/2)*100 -> 100 | AF6: =100+(SUM(AH9:AH21)/2)*100 -> 100 | AI6: =100+(SUM(AK9:AK21)/2)*100 -> 100 | AL6: =100+(SUM(AN9:AN21)/2)*100 -> 300 | AO6: =100+(SUM(AQ9:AQ21)/2)*100 -> 350 | AR6: =100+(SUM(AT9:AT21)/2)*100 -> 150 | AU6: =100+(SUM(AW9:AW21)/2)*100 -> 400 | AX6: =100+(SUM(AZ9:AZ21)/2)*100 -> 250 | BA6: =100+(SUM(BC9:BC21)/2)*100 -> 350 | BD6: =100+(SUM(BF9:BF21)/2)*100 -> 100
H7: 09/01/10 | K7: 16/01/10 | N7: 23/01/10 | Q7: 30/01/10 | T7: 06/02/10 | W7: 12/02/10 | Z7: 27/02/10 | AC7: 06/03/10 | AF7: 13/03/10 | AI7: 20/03/10 | AL7: 40270 | AO7: 40272 | AR7: 40285 | AU7: 40299 | AX7: 40320 | BA7: 40327
B8: Jméno: | C8: Body | D8: Dokup | E8: odehráno | F8: Q body | G8: Q pořadí | H8: P | I8: B | J8: R | K8: P | L8: B | M8: R | N8: P | O8: B | P8: R | Q8: P | R8: B | S8: R | T8: P | U8: B | V8: R | W8: P | X8: B | Y8: R | Z8: P | AA8: B | AB8: R | AC8: P | AD8: B | AE8: R | AF8: P | AG8: B | AH8: R | AI8: P | AJ8: B | AK8: R | AL8: P | AM8: B | AN8: R | AO8: P | AP8: B | AQ8: R | AR8: P | AS8: B | AT8: R | AU8: P | AV8: B | AW8: R | AX8: P | AY8: B | AZ8: R | BA8: P | BB8: B | BC8: R | BD8: P | BE8: B | BF8: R
A9: 1 | B9: Igor | C9: =((((((((((((((((I9+L9)+O9)+R9)+U9)+X9)+AA9)+AD9)+AG9)+AJ9)+AM9)+AP9)+AS9)+AV9)+AY9)+BB9)+BE9)+BH9 -> 85 | D9: =SUMIF($H$8:$BF$8,"R",H9:BF9) -> 9 | E9: =COUNT(H9,K9,N9,Q9,T9,W9,Z9,AC9,AF9,AI9,AL9,AO9,AR9,AU9,AX9,BA9,BD9,BG9) -> 14 | F9: =AVERAGE(I9,L9,O9,R9,U9,X9,AA9,AD9,AG9,AJ9,AM9,AP9,AS9,AV9,AY9,BB9,BE9,BH9) -> 6.0714286 | G9: =AVERAGE(H9,K9,N9,Q9,T9,W9,Z9,AC9,AF9,AI9,AL9,AO9,AR9,AU9,AX9,BA9,BD9,BG9) -> 2.2142857 | H9: 4 | I9: 2 | J9: 3 | K9: 1 | L9: 8 | M9: 1 | N9: 1 | O9: 10 | T9: 6 | U9: 1 | V9: 1 | W9: 4 | X9: 4 | Z9: 2 | AA9: 6 | AC9: 4 | AD9: 5 | AI9: 1 | AJ9: 8 | AL9: 1 | AM9: 8 | AO9: 1 | AP9: 9 | AR9: 2 | AS9: 6 | AU9: 2 | AV9: 4 | AW9: 3 | AX9: 1 | AY9: 6 | AZ9: 1 | BA9: 1 | BB9: 8
A10: 2 | B10: Jáchym | C10: =((((((((((((((((I10+L10)+O10)+R10)+U10)+X10)+AA10)+AD10)+AG10)+AJ10)+AM10)+AP10)+AS10)+AV10)+AY10)+BB10)+BE10)+BH10 -> 61 | D10: =SUMIF($H$8:$BF$8,"R",H10:BF10) -> 11 | E10: =COUNT(H10,K10,N10,Q10,T10,W10,Z10,AC10,AF10,AI10,AL10,AO10,AR10,AU10,AX10,BA10,BD10,BG10) -> 16 | F10: =AVERAGE(I10,L10,O10,R10,U10,X10,AA10,AD10,AG10,AJ10,AM10,AP10,AS10,AV10,AY10,BB10,BE10,BH10) -> 3.8125 | G10: =AVERAGE(H10,K10,N10,Q10,T10,W10,Z10,AC10,AF10,AI10,AL10,AO10,AR10,AU10,AX10,BA10,BD10,BG10) -> 3.5625 | H10: 3 | I10: 3 | K10: 6 | L10: 1 | N10: 2 | O10: 8 | Q10: 3 | R10: 4 | T10: 3 | U10: 4 | W10: 1 | X10: 9 | Z10: 3 | AA10: 4 | AC10: 7 | AD10: 2 | AF10: 3 | AG10: 4 | AI10: 5 | AJ10: 2 | AL10: 3 | AM10: 4 | AN10: 4 | AO10: 3 | AP10: 5 | AQ10: 2 | AR10: 5 | AS10: 2 | AT10: 1 | AU10: 4 | AV10: 1 | AW10: 2 | BA10: 4 | BB10: 3 | BC10: 2 | BD10: 2 | BE10: 5
A11: 3 | B11: Mira | C11: =((((((((((((((((I11+L11)+O11)+R11)+U11)+X11)+AA11)+AD11)+AG11)+AJ11)+AM11)+AP11)+AS11)+AV11)+AY11)+BB11)+BE11)+BH11 -> 60 | D11: =SUMIF($H$8:$BF$8,"R",H11:BF11) -> 2 | E11: =COUNT(H11,K11,N11,Q11,T11,W11,Z11,AC11,AF11,AI11,AL11,AO11,AR11,AU11,AX11,BA11,BD11,BG11) -> 11 | F11: =AVERAGE(I11,L11,O11,R11,U11,X11,AA11,AD11,AG11,AJ11,AM11,AP11,AS11,AV11,AY11,BB11,BE11,BH11) -> 5.4545455 | G11: =AVERAGE(H11,K11,N11,Q11,T11,W11,Z11,AC11,AF11,AI11,AL11,AO11,AR11,AU11,AX11,BA11,BD11,BG11) -> 2.6363636 | H11: 2 | I11: 5 | N11: 6 | O11: 3 | W11: 2 | X11: 7 | Z11: 5 | AA11: 2 | AC11: 1 | AD11: 10 | AL11: 4 | AM11: 3 | AO11: 2 | AP11: 7 | AR11: 1 | AS11: 8 | AX11: 3 | AY11: 2 | AZ11: 1 | BA11: 2 | BB11: 6 | BC11: 1 | BD11: 1 | BE11: 7
A12: 4 | B12: Jara Hotel | C12: =((((((((((((((((I12+L12)+O12)+R12)+U12)+X12)+AA12)+AD12)+AG12)+AJ12)+AM12)+AP12)+AS12)+AV12)+AY12)+BB12)+BE12)+BH12 -> 39 | D12: =SUMIF($H$8:$BF$8,"R",H12:BF12) -> 1 | E12: =COUNT(H12,K12,N12,Q12,T12,W12,Z12,AC12,AF12,AI12,AL12,AO12,AR12,AU12,AX12,BA12,BD12,BG12) -> 8 | F12: =AVERAGE(I12,L12,O12,R12,U12,X12,AA12,AD12,AG12,AJ12,AM12,AP12,AS12,AV12,AY12,BB12,BE12,BH12) -> 4.875 | G12: =AVERAGE(H12,K12,N12,Q12,T12,W12,Z12,AC12,AF12,AI12,AL12,AO12,AR12,AU12,AX12,BA12,BD12,BG12) -> 2.75 | T12: 1 | U12: 8 | Z12: 1 | AA12: 8 | AC12: 6 | AD12: 3 | AF12: 4 | AG12: 3 | AR12: 3 | AS12: 4 | AU12: 1 | AV12: 6 | BA12: 3 | BB12: 4 | BC12: 1 | BD12: 3 | BE12: 3
A13: 5 | B13: Ludwa | C13: =((((((((((((((((I13+L13)+O13)+R13)+U13)+X13)+AA13)+AD13)+AG13)+AJ13)+AM13)+AP13)+AS13)+AV13)+AY13)+BB13)+BE13)+BH13 -> 34 | D13: =SUMIF($H$8:$BF$8,"R",H13:BF13) -> 1 | E13: =COUNT(H13,K13,N13,Q13,T13,W13,Z13,AC13,AF13,AI13,AL13,AO13,AR13,AU13,AX13,BA13,BD13,BG13) -> 16 | F13: =AVERAGE(I13,L13,O13,R13,U13,X13,AA13,AD13,AG13,AJ13,AM13,AP13,AS13,AV13,AY13,BB13,BE13,BH13) -> 2.125 | G13: =AVERAGE(H13,K13,N13,Q13,T13,W13,Z13,AC13,AF13,AI13,AL13,AO13,AR13,AU13,AX13,BA13,BD13,BG13) -> 5.0625 | H13: 5 | I13: 1 | K13: 3 | L13: 4 | N13: 3 | O13: 6 | Q13: 6 | R13: 1 | T13: 4 | U13: 3 | W13: 6 | X13: 2 | Z13: 6 | AA13: 1 | AC13: 8 | AD13: 1 | AF13: 5 | AG13: 2 | AI13: 6 | AJ13: 1 | AL13: 2 | AM13: 6 | AO13: 7 | AP13: 1 | AR13: 6 | AS13: 1 | AX13: 4 | AY13: 1 | AZ13: 1 | BA13: 5 | BB13: 2 | BD13: 5 | BE13: 1
A14: 6 | B14: Dominik | C14: =((((((((((((((((I14+L14)+O14)+R14)+U14)+X14)+AA14)+AD14)+AG14)+AJ14)+AM14)+AP14)+AS14)+AV14)+AY14)+BB14)+BE14)+BH14 -> 32 | D14: =SUMIF($H$8:$BF$8,"R",H14:BF14) -> 1 | E14: =COUNT(H14,K14,N14,Q14,T14,W14,Z14,AC14,AF14,AI14,AL14,AO14,AR14,AU14,AX14,BA14,BD14,BG14) -> 6 | F14: =AVERAGE(I14,L14,O14,R14,U14,X14,AA14,AD14,AG14,AJ14,AM14,AP14,AS14,AV14,AY14,BB14,BE14,BH14) -> 5.3333333 | G14: =AVERAGE(H14,K14,N14,Q14,T14,W14,Z14,AC14,AF14,AI14,AL14,AO14,AR14,AU14,AX14,BA14,BD14,BG14) -> 2.8333333 | H14: 1 | I14: 7 | K14: 5 | L14: 2 | Q14: 1 | R14: 8 | T14: 2 | U14: 6 | AC14: 3 | AD14: 6 | AO14: 5 | AP14: 3 | AQ14: 1
A15: 7 | B15: Tomáš Konečný | C15: =((((((((((((((((I15+L15)+O15)+R15)+U15)+X15)+AA15)+AD15)+AG15)+AJ15)+AM15)+AP15)+AS15)+AV15)+AY15)+BB15)+BE15)+BH15 -> 29 | D15: =SUMIF($H$8:$BF$8,"R",H15:BF15) -> 0 | E15: =COUNT(H15,K15,N15,Q15,T15,W15,Z15,AC15,AF15,AI15,AL15,AO15,AR15,AU15,AX15,BA15,BD15,BG15) -> 6 | F15: =AVERAGE(I15,L15,O15,R15,U15,X15,AA15,AD15,AG15,AJ15,AM15,AP15,AS15,AV15,AY15,BB15,BE15,BH15) -> 4.8333333 | G15: =AVERAGE(H15,K15,N15,Q15,T15,W15,Z15,AC15,AF15,AI15,AL15,AO15,AR15,AU15,AX15,BA15,BD15,BG15) -> 3.3333333 | K15: 2 | L15: 6 | N15: 8 | O15: 1 | Q15: 4 | R15: 3 | W15: 3 | X15: 5 | AF15: 1 | AG15: 8 | AI15: 2 | AJ15: 6
A16: 8 | B16: Markéta | C16: =((((((((((((((((I16+L16)+O16)+R16)+U16)+X16)+AA16)+AD16)+AG16)+AJ16)+AM16)+AP16)+AS16)+AV16)+AY16)+BB16)+BE16)+BH16 -> 28 | D16: =SUMIF($H$8:$BF$8,"R",H16:BF16) -> 2 | E16: =COUNT(H16,K16,N16,Q16,T16,W16,Z16,AC16,AF16,AI16,AL16,AO16,AR16,AU16,AX16,BA16,BD16,BG16) -> 10 | F16: =AVERAGE(I16,L16,O16,R16,U16,X16,AA16,AD16,AG16,AJ16,AM16,AP16,AS16,AV16,AY16,BB16,BE16,BH16) -> 2.8 | G16: =AVERAGE(H16,K16,N16,Q16,T16,W16,Z16,AC16,AF16,AI16,AL16,AO16,AR16,AU16,AX16,BA16,BD16,BG16) -> 4.4 | T16: 5 | U16: 2 | Z16: 4 | AA16: 3 | AC16: 2 | AD16: 8 | AF16: 6 | AG16: 1 | AL16: 5 | AM16: 2 | AO16: 6 | AP16: 2 | AQ16: 1 | AR16: 4 | AS16: 3 | AX16: 2 | AY16: 4 | BA16: 6 | BB16: 1 | BC16: 1 | BD16: 4 | BE16: 2
A17: 9 | B17: Špelec | C17: =((((((((((((((((I17+L17)+O17)+R17)+U17)+X17)+AA17)+AD17)+AG17)+AJ17)+AM17)+AP17)+AS17)+AV17)+AY17)+BB17)+BE17)+BH17 -> 21 | D17: =SUMIF($H$8:$BF$8,"R",H17:BF17) -> 2 | E17: =COUNT(H17,K17,N17,Q17,T17,W17,Z17,AC17,AF17,AI17,AL17,AO17,AR17,AU17,AX17,BA17,BD17,BG17) -> 6 | F17: =AVERAGE(I17,L17,O17,R17,U17,X17,AA17,AD17,AG17,AJ17,AM17,AP17,AS17,AV17,AY17,BB17,BE17,BH17) -> 3.5 | G17: =AVERAGE(H17,K17,N17,Q17,T17,W17,Z17,AC17,AF17,AI17,AL17,AO17,AR17,AU17,AX17,BA17,BD17,BG17) -> 4 | N17: 4 | O17: 5 | W17: 7 | X17: 1 | AF17: 2 | AG17: 6 | AI17: 4 | AJ17: 3 | AO17: 4 | AP17: 4 | AQ17: 1 | AU17: 3 | AV17: 2 | AW17: 1
A18: 10 | B18: Pecen | C18: =((((((((((((((((I18+L18)+O18)+R18)+U18)+X18)+AA18)+AD18)+AG18)+AJ18)+AM18)+AP18)+AS18)+AV18)+AY18)+BB18)+BE18)+BH18 -> 16 | D18: =SUMIF($H$8:$BF$8,"R",H18:BF18) -> 0 | E18: =COUNT(H18,K18,N18,Q18,T18,W18,Z18,AC18,AF18,AI18,AL18,AO18,AR18,AU18,AX18,BA18,BD18,BG18) -> 5 | F18: =AVERAGE(I18,L18,O18,R18,U18,X18,AA18,AD18,AG18,AJ18,AM18,AP18,AS18,AV18,AY18,BB18,BE18,BH18) -> 3.2 | G18: =AVERAGE(H18,K18,N18,Q18,T18,W18,Z18,AC18,AF18,AI18,AL18,AO18,AR18,AU18,AX18,BA18,BD18,BG18) -> 5 | N18: 7 | O18: 2 | Q18: 2 | R18: 6 | W18: 5 | X18: 3 | AC18: 5 | AD18: 4 | AL18: 6 | AM18: 1
A19: 11 | B19: Jirka Hrabec | C19: =((((((((((((((((I19+L19)+O19)+R19)+U19)+X19)+AA19)+AD19)+AG19)+AJ19)+AM19)+AP19)+AS19)+AV19)+AY19)+BB19)+BE19)+BH19 -> 9 | D19: =SUMIF($H$8:$BF$8,"R",H19:BF19) -> 0 | E19: =COUNT(H19,K19,N19,Q19,T19,W19,Z19,AC19,AF19,AI19,AL19,AO19,AR19,AU19,AX19,BA19,BD19,BG19) -> 3 | F19: =AVERAGE(I19,L19,O19,R19,U19,X19,AA19,AD19,AG19,AJ19,AM19,AP19,AS19,AV19,AY19,BB19,BE19,BH19) -> 3 | G19: =AVERAGE(H19,K19,N19,Q19,T19,W19,Z19,AC19,AF19,AI19,AL19,AO19,AR19,AU19,AX19,BA19,BD19,BG19) -> 4.6666667 | K19: 4 | L19: 3 | N19: 5 | O19: 4 | Q19: 5 | R19: 2
A20: 12 | B20: Aleš | C20: =((((((((((((((((I20+L20)+O20)+R20)+U20)+X20)+AA20)+AD20)+AG20)+AJ20)+AM20)+AP20)+AS20)+AV20)+AY20)+BB20)+BE20)+BH20 -> 4 | D20: =SUMIF($H$8:$BF$8,"R",H20:BF20) -> 0 | E20: =COUNT(H20,K20,N20,Q20,T20,W20,Z20,AC20,AF20,AI20,AL20,AO20,AR20,AU20,AX20,BA20,BD20,BG20) -> 1 | F20: =AVERAGE(I20,L20,O20,R20,U20,X20,AA20,AD20,AG20,AJ20,AM20,AP20,AS20,AV20,AY20,BB20,BE20,BH20) -> 4 | G20: =AVERAGE(H20,K20,N20,Q20,T20,W20,Z20,AC20,AF20,AI20,AL20,AO20,AR20,AU20,AX20,BA20,BD20,BG20) -> 3 | AI20: 3 | AJ20: 4

Sheet účtování
A1: VYÚČTOVÁNÍ
A2: Naspořeno | D2: =SUM('1.pololetí 2011'!I5:BY5) -> 6150
A3: Výdaje | D3: =C5+F5 -> -1833
A4: Zůstatek | D4: =D2+D3 -> 4317
A5: různé výdaje | C5: =SUM(C6:C9) -> -919 | D5: Velikonoční turnaj 23.4.2011 | F5: =SUM(F6:F12) -> -914
A6: Tullamore (vydržela :-)) | C6: -299 | D6: Hotel - občerstvení | F6: -3000
A7: Jáchymovi na kufr | C7: -620 | D7: Coca-Cola 4*2L | F7: -92
D8: 6*mandle | F8: -234
D9: 4* Kinder vajíčko | F9: -88
D10: 25 hráčů * 250 | F10: =25*250 -> 6250
D11: 11 dokupů * 150 | F11: =11*150 -> 1650
D12: vyplacené výhry | F12: -5400

Sheet Velikonoční turnájek
A1: blind structure
A2: 0.79166667 | B2: 10/25
B3: 25/50
B4: 50/100
B5: 75/150
A7: 0.83680556 | B7: 100/200
B8: 150/300
B9: 200/400
B10: 300/600
A12: 0.88194444 | B12: 400/800
B13: 500/1000
B14: 600/1200
B15: 800/1600
A17: 0.92013889 | B17: 1000/2000
B18: 1500/3000
B19: 2000/4000
B20: 3000/6000
A22: 0.96527778 | B22: 4000/8000
B23: 5000/10000
B24: 6000/12000
B25: 8000/16000
A27: 0.010416667 | B27: 10000/20000
B28: 15000/30000
B29: 20000/40000
B30: 30000/60000
A32: 0.055555556 | B32: 40000/80000
B33: 50000/100000
B34: 60000/120000
B35: 80000/160000
