Workbook
Name ColumnToFind: [1]List2!$K$4
Name ColumnToFind: [2]List2!$K$4
Name MemberList: [1]List2!$D$6:$F$30
Name MemberList: [2]List2!$D$6:$F$30
Name TextToFind: [1]List2!$J$4
Name TextToFind: [2]List2!$J$4

Sheet celkový seznam
J1: 51
A5: Místnost | B5: Český název zkrácený | C5: Katalogové č. | D5: Množství | E5: Identifikace materiálu | F5: Inventární číslo | G5: Místnost | J5: Místnost | L5: Jméno | N5: =INDEX($I$6:$J$128,$J$1,2) -> 4.26 | O5: SVYHLEDAT | P5: Tento materiál obsahuje místnost 4,26.
A6: 4,37b | B6: BLOK 3ZÁSUVKOVÝ POJÍZDNÝ | C6: 142311151108 | D6: 1 | E6: EČ:211100/00000337/2006 | F6: A492H007Q1P3 | G6: 4,37b | I6: 1 | J6: 2.39 | K6: 1 | L6: Babáková | O6: =VLOOKUP($N$5,$A$6:$F$905,2) -> REGÁL ARCHIVNÍ POJÍZDNÝ | P6: BLOK 3ZÁSUVKOVÝ POJÍZDNÝ | Q6: 142311151108 | R6: 1 | S6: EČ:211100/00000349/2006 | T6: A492H007Q1ZP
A7: 4,37b | B7: BLOK 3ZÁSUVKOVÝ POJÍZDNÝ | C7: 142311151108 | D7: 1 | E7: EČ:211100/00000338/2006 | F7: A492H007Q1QY | G7: 4,37b | I7: 2 | J7: 2.4 | K7: 2 | L7: Baláž | O7: =VLOOKUP($N$5,$A$6:$F$905,2) -> REGÁL ARCHIVNÍ POJÍZDNÝ | P7: BLOK 3ZÁSUVKOVÝ POJÍZDNÝ | Q7: 142311151108 | R7: 1 | S7: EČ:211100/00000350/2006 | T7: A492H007Q20D
A8: 4.26 | B8: BLOK 3ZÁSUVKOVÝ POJÍZDNÝ | C8: 142311151108 | D8: 1 | E8: EČ:211100/00000349/2006 | F8: A492H007Q1ZP | G8: 4.26 | I8: 3 | J8: 3.09 | K8: 3 | L8: Běloubek | O8: =VLOOKUP($N$5,$A$6:$F$905,2) -> REGÁL ARCHIVNÍ POJÍZDNÝ | P8: BLOK 3ZÁSUVKOVÝ POJÍZDNÝ | Q8: 142311151108 | R8: 1 | S8: EČ:211100/00000351/2006 | T8: A492H007Q218
A9: 4.26 | B9: BLOK 3ZÁSUVKOVÝ POJÍZDNÝ | C9: 142311151108 | D9: 1 | E9: EČ:211100/00000350/2006 | F9: A492H007Q20D | G9: 4.26 | I9: 4 | J9: 3.101 | K9: 4 | L9: Benešová | O9: =VLOOKUP($N$5,$A$6:$F$905,2) -> REGÁL ARCHIVNÍ POJÍZDNÝ | P9: BLOK ZÁSUV.POJ. 42×50×70 | Q9: 142311151401 | R9: 1 | S9: EČ:211100/00000352/2006 | T9: A492H007Q223
A10: 4.26 | B10: BLOK 3ZÁSUVKOVÝ POJÍZDNÝ | C10: 142311151108 | D10: 1 | E10: EČ:211100/00000351/2006 | F10: A492H007Q218 | G10: 4.26 | I10: 5 | J10: 3.103 | K10: 5 | L10: Cerman | O10: =VLOOKUP($N$5,$A$6:$F$905,2) -> REGÁL ARCHIVNÍ POJÍZDNÝ | P10: BLOK ZÁSUV.POJ. 42×50×70 | Q10: 142311151401 | R10: 1 | S10: EČ:211100/00000353/2006 | T10: A492H007Q23Y
A11: 4,37b | B11: BLOK ZÁSUV.POJ. 42×50×70 | C11: 142311151401 | D11: 1 | E11: EČ:211100/00000339/2006 | F11: A492H007Q1RT | G11: 4,37b | I11: 6 | J11: 3.104 | K11: 6 | L11: Dubánek | O11: =VLOOKUP($N$5,$A$6:$F$905,2) -> REGÁL ARCHIVNÍ POJÍZDNÝ | P11: BLOK ZÁSUV.POJ. 42×50×70 | Q11: 142311151401 | R11: 1 | S11: EČ:211100/00000354/2006 | T11: A492H007Q24T
A12: 4.26 | B12: BLOK ZÁSUV.POJ. 42×50×70 | C12: 142311151401 | D12: 1 | E12: EČ:211100/00000352/2006 | F12: A492H007Q223 | G12: 4.26 | I12: 7 | J12: 3.106 | K12: 7 | L12: Dvořáková | O12: =VLOOKUP($N$5,$A$6:$F$905,2) -> REGÁL ARCHIVNÍ POJÍZDNÝ | P12: DESKA DŘ.-PŘÍST.KE STOLU | Q12: 142210040008 | R12: 1 | S12: EČ:211100/00000348/2006 | T12: A492H007Q1V9
A13: 4.26 | B13: BLOK ZÁSUV.POJ. 42×50×70 | C13: 142311151401 | D13: 1 | E13: EČ:211100/00000353/2006 | F13: A492H007Q23Y | G13: 4.26 | I13: 8 | J13: 3.107 | K13: 8 | L13: Heřmánek | O13: =VLOOKUP($N$5,$A$6:$F$905,2) -> REGÁL ARCHIVNÍ POJÍZDNÝ | P13: KNIHOVNA PROSKLENÁ 2DVEŘ | Q13: 142310141007 | R13: 1 | S13: EČ:211100/00000362/2006 | T13: A492H007Q1W4
A14: 4.26 | B14: BLOK ZÁSUV.POJ. 42×50×70 | C14: 142311151401 | D14: 1 | E14: EČ:211100/00000354/2006 | F14: A492H007Q24T | G14: 4.26 | I14: 9 | J14: 3.108 | K14: 9 | L14: Hladíková | O14: =VLOOKUP($N$5,$A$6:$F$905,2) -> REGÁL ARCHIVNÍ POJÍZDNÝ | P14: PARAVAN | Q14: 144190853993 | R14: 1 | S14: EČ:211100/00000358/2006 | T14: A492H007Q2BU
A15: 4.48 | B15: BLOK ZÁSUV.POJ. 42×50×70 | C15: 142311151401 | D15: 1 | E15: EČ:211100/00000369/2006 | F15: A492H007Q2N6 | G15: 4.48 | I15: 10 | J15: 3.109 | K15: 10 | L15: Hoffmann | O15: =VLOOKUP($N$5,$A$6:$F$905,2) -> REGÁL ARCHIVNÍ POJÍZDNÝ | P15: POLICE NÁSTAVBA NA STŮL | Q15: 142340587008 | R15: 1 | S15: EČ:211100/00000359/2006 | T15: A492H007Q294
A16: 4.48 | B16: BLOK ZÁSUV.POJ. 42×50×70 | C16: 142311151401 | D16: 1 | E16: EČ:211100/00000370/2006 | F16: A492H007Q2O1 | G16: 4.48 | I16: 11 | J16: 3.11 | K16: 11 | L16: Hromádková | O16: =VLOOKUP($N$5,$A$6:$F$905,2) -> REGÁL ARCHIVNÍ POJÍZDNÝ | P16: POLICE NÁSTAVBA NA STŮL | Q16: 142340587008 | R16: 1 | S16: EČ:211100/00000360/2006 | T16: A492H007Q2AZ
A17: S-42a | B17: BLOK-KONTEJNER NA SPISY | C17: 142311153003 | D17: 1 | E17: EČ:211100/00000537/2007 | F17: A492H00CU8O2 | G17: S-42a | I17: 12 | J17: 3.113 | K17: 12 | L17: Jelen | O17: =VLOOKUP($N$5,$A$6:$F$905,2) -> REGÁL ARCHIVNÍ POJÍZDNÝ | P17: SKŘÍŇ OHNIVZD.1-KŘÍDL. | Q17: 142310779992 | R17: 1 | S17: EČ:10031vč,55327124 | T17: A403H00114GK
A18: S-42a | B18: BLOK-KONTEJNER NA SPISY | C18: 142311153003 | D18: 1 | E18: EČ:211100/00000538/2007 | F18: A492H00CU8PX | G18: S-42a | I18: 13 | J18: 3.115 | K18: 13 | L18: Jirásková | O18: =VLOOKUP($N$5,$A$6:$F$905,2) -> REGÁL ARCHIVNÍ POJÍZDNÝ | P18: SKŘÍŇ OT.POL.120×40×140 | Q18: 142311105213 | R18: 1 | S18: EČ:211100/00000365/2006 | T18: A492H007Q1YU
A19: S-42a | B19: BLOK-KONTEJNER NA SPISY | C19: 142311153003 | D19: 1 | E19: EČ:211100/00000539/2007 | F19: A492H00CU8QS | G19: S-42a | I19: 14 | J19: 3.117 | K19: 14 | L19: Kadlec | O19: =VLOOKUP($N$5,$A$6:$F$905,2) -> REGÁL ARCHIVNÍ POJÍZDNÝ | P19: SKŘÍŇ OT.POL.150×30×100 | Q19: 142311105112 | R19: 1 | S19: EČ:211100/00000363/2006 | T19: A492H007Q1XZ
A20: S-42a | B20: BLOK-KONTEJNER NA SPISY | C20: 142311153003 | D20: 1 | E20: EČ:211100/00000540/2007 | F20: A492H00CU8RN | G20: S-42a | I20: 15 | J20: 3.118 | K20: 15 | L20: Kolář | O20: =VLOOKUP($N$5,$A$6:$F$905,2) -> REGÁL ARCHIVNÍ POJÍZDNÝ | P20: STOLEK KONFERENČNÍ | Q20: 142311260000 | R20: 1 | S20: EČ:211100/00000361/2006
A21: vrátnice | B21: BUŇKA PŘEVOZNÁ | C21: 146320059996 | D21: 1 | E21: EČ:BH-UNC11196 | F21: A1YKH1001A5J | G21: vrátnice | I21: 16 | J21: 3.12 | K21: 16 | L21: Kusko | O21: =VLOOKUP($N$5,$A$6:$F$905,2) -> REGÁL ARCHIVNÍ POJÍZDNÝ | P21: STŮL DŘ.VÝDEJ.302×42×93 | Q21: 142311741303 | R21: 1 | S21: EČ:211100/00000364/2006 | T21: A492H007Q289
A22: Babáková | B22: ČISTIČKA VZDUCHU | C22: 142510031009 | D22: 1 | E22: VČ:211100/00000492/2007 | F22: A492H00B22QJ | G22: Babáková | I22: 17 | J22: 3.121 | K22: 17 | L22: Malá | O22: =VLOOKUP($N$5,$A$6:$F$905,2) -> REGÁL ARCHIVNÍ POJÍZDNÝ | P22: STŮL OSTATNÍ | Q22: 142311740007 | R22: 1 | S22: EČ:211100/00000345/2006 | T22: A492H007Q25O
A23: Baláž | B23: ČISTIČKA VZDUCHU | C23: 142510031009 | D23: 1 | E23: VČ:211100/00000493/2007 | F23: A492H00B22RE | G23: Baláž | I23: 18 | J23: 3.123 | K23: 18 | L23: Marek | O23: =VLOOKUP($N$5,$A$6:$F$905,2) -> REGÁL ARCHIVNÍ POJÍZDNÝ | P23: STŮL OSTATNÍ | Q23: 142311740007 | R23: 1 | S23: EČ:211100/00000346/2006 | T23: A492H007Q26J
A24: Benešová | B24: ČISTIČKA VZDUCHU | C24: 142510031009 | D24: 1 | E24: VČ:211100/00000494/2007 | F24: A492H00B22S9 | G24: Benešová | I24: 19 | J24: 3.128 | K24: 19 | L24: Michalcová | O24: =VLOOKUP($N$5,$A$6:$F$905,2) -> REGÁL ARCHIVNÍ POJÍZDNÝ | P24: STŮL OSTATNÍ | Q24: 142311740007 | R24: 1 | S24: EČ:211100/00000347/2006 | T24: A492H007Q27E
A25: Roučková | B25: ČISTIČKA VZDUCHU | C25: 142510031009 | D25: 1 | E25: VČ:211100/00000495/2007 | F25: A492H00B22T4 | G25: Roučková | I25: 20 | J25: 3.134 | K25: 20 | L25: Minařík | O25: =VLOOKUP($N$5,$A$6:$F$905,2) -> REGÁL ARCHIVNÍ POJÍZDNÝ | P25: ŽIDLE OTOČ.POJ.PUR | Q25: 142311894001 | R25: 1 | S25: EČ:211100/00000397/2005 | T25: A492H007X5ZE
A26: Ráčková | B26: ČISTIČKA VZDUCHU | C26: 142510031009 | D26: 1 | E26: VČ:211100/00000496/2007 | F26: A492H00B22UZ | G26: Ráčková | I26: 21 | J26: 3.135 | K26: 21 | L26: Moravec | O26: =VLOOKUP($N$5,$A$6:$F$905,2) -> REGÁL ARCHIVNÍ POJÍZDNÝ
A27: Česáková | B27: ČISTIČKA VZDUCHU | C27: 142510031009 | D27: 1 | E27: VČ:211100/00000497/2007 | F27: A492H00B22VU | G27: Česáková | I27: 22 | J27: 3.137 | K27: 22 | L27: Pechová | O27: =VLOOKUP($N$5,$A$6:$F$905,2) -> REGÁL ARCHIVNÍ POJÍZDNÝ
A28: Dubánek | B28: ČISTIČKA VZDUCHU | C28: 142510031009 | D28: 1 | E28: VČ:211100/00000498/2007 | F28: A492H00B22WP | G28: Dubánek | I28: 23 | J28: 3.139 | K28: 23 | L28: Pilátová | O28: =VLOOKUP($N$5,$A$6:$F$905,2) -> REGÁL ARCHIVNÍ POJÍZDNÝ
A29: Filipová | B29: ČISTIČKA VZDUCHU | C29: 142510031009 | D29: 1 | E29: VČ:211100/00000499/2007 | F29: A492H00B22XK | G29: Filipová | I29: 24 | J29: 3.141 | K29: 24 | L29: Pivcová | O29: =VLOOKUP($N$5,$A$6:$F$905,2) -> REGÁL ARCHIVNÍ POJÍZDNÝ
A30: Pivcová | B30: ČISTIČKA VZDUCHU | C30: 142510031009 | D30: 1 | E30: VČ:211100/00000500/2007 | F30: A492H00B22YF | G30: Pivcová | I30: 25 | J30: 3.148 | K30: 25 | L30: Poláčková | O30: =VLOOKUP($N$5,$A$6:$F$905,2) -> REGÁL ARCHIVNÍ POJÍZDNÝ
A31: Hromádková | B31: ČISTIČKA VZDUCHU | C31: 142510031009 | D31: 1 | E31: VČ:211100/00000501/2007 | F31: A492H00B22ZA | G31: Hromádková | I31: 26 | J31: 3.21 | K31: 26 | L31: Procházka | O31: =VLOOKUP($N$5,$A$6:$F$905,2) -> REGÁL ARCHIVNÍ POJÍZDNÝ
A32: Jelen | B32: ČISTIČKA VZDUCHU | C32: 142510031009 | D32: 1 | E32: VČ:211100/00000502/2007 | F32: A492H00B230Y | G32: Jelen | I32: 27 | J32: 3.22 | K32: 27 | L32: Pustayová | O32: =VLOOKUP($N$5,$A$6:$F$905,2) -> REGÁL ARCHIVNÍ POJÍZDNÝ
A33: Jirásková | B33: ČISTIČKA VZDUCHU | C33: 142510031009 | D33: 1 | E33: VČ:211100/00000503/2007 | F33: A492H00B231T | G33: Jirásková | I33: 28 | J33: 3.23 | K33: 28 | L33: Ráčková | O33: =VLOOKUP($N$5,$A$6:$F$905,2) -> REGÁL ARCHIVNÍ POJÍZDNÝ
A34: Matlahová | B34: ČISTIČKA VZDUCHU | C34: 142510031009 | D34: 1 | E34: VČ:211100/00000504/2007 | F34: A492H00B232O | G34: Matlahová | I34: 29 | J34: 3.26 | K34: 29 | L34: Rákosníková | O34: =VLOOKUP($N$5,$A$6:$F$905,2) -> REGÁL ARCHIVNÍ POJÍZDNÝ
A35: Michalcová | B35: ČISTIČKA VZDUCHU | C35: 142510031009 | D35: 1 | E35: VČ:211100/00000505/2007 | F35: A492H00B233J | G35: Michalcová | I35: 30 | J35: 3.28 | K35: 30 | L35: Rohlová | O35: =VLOOKUP($N$5,$A$6:$F$905,2) -> REGÁL ARCHIVNÍ POJÍZDNÝ
A36: Minařík | B36: ČISTIČKA VZDUCHU | C36: 142510031009 | D36: 1 | E36: VČ:211100/00000506/2007 | F36: A492H00B234E | G36: Minařík | I36: 31 | J36: 3.29 | K36: 31 | L36: Roučková | O36: =VLOOKUP($N$5,$A$6:$F$905,2) -> REGÁL ARCHIVNÍ POJÍZDNÝ
A37: Moravec | B37: ČISTIČKA VZDUCHU | C37: 142510031009 | D37: 1 | E37: VČ:211100/00000507/2007 | F37: A492H00B2359 | G37: Moravec | I37: 32 | J37: 3.3 | K37: 32 | L37: Ságnerová | O37: =VLOOKUP($N$5,$A$6:$F$905,2) -> REGÁL ARCHIVNÍ POJÍZDNÝ
A38: 2.39 | B38: ČISTIČKA VZDUCHU | C38: 142510031009 | D38: 1 | E38: VČ:211100/00000508/2007 | F38: A492H00B2364 | G38: 2.39 | I38: 33 | J38: 3.32 | K38: 33 | L38: Schicková | O38: =VLOOKUP($N$5,$A$6:$F$905,2) -> REGÁL ARCHIVNÍ POJÍZDNÝ
A39: Rákosníková | B39: ČISTIČKA VZDUCHU | C39: 142510031009 | D39: 1 | E39: VČ:211100/00000509/2007 | F39: A492H00B237Z | G39: Rákosníková | I39: 34 | J39: 3.7 | K39: 34 | L39: Sluka | O39: =VLOOKUP($N$5,$A$6:$F$905,2) -> REGÁL ARCHIVNÍ POJÍZDNÝ
A40: Rohlová | B40: ČISTIČKA VZDUCHU | C40: 142510031009 | D40: 1 | E40: VČ:211100/00000510/2007 | F40: A492H00B238U | G40: Rohlová | I40: 35 | J40: 3.71 | K40: 35 | L40: Sluková | O40: =VLOOKUP($N$5,$A$6:$F$905,2) -> REGÁL ARCHIVNÍ POJÍZDNÝ
A41: Sluka | B41: ČISTIČKA VZDUCHU | C41: 142510031009 | D41: 1 | E41: VČ:211100/00000511/2007 | F41: A492H00B239P | G41: Sluka | I41: 36 | J41: 3.75 | K41: 36 | L41: Šlosar
A42: Sluková | B42: ČISTIČKA VZDUCHU | C42: 142510031009 | D42: 1 | E42: VČ:211100/00000512/2007 | F42: A492H00B23AK | G42: Sluková | I42: 37 | J42: 3.76 | K42: 37 | L42: Urmínský
A43: Šlosar | B43: ČISTIČKA VZDUCHU | C43: 142510031009 | D43: 1 | E43: VČ:211100/00000513/2007 | F43: A492H00B23BF | G43: Šlosar | I43: 38 | J43: 3.77 | K43: 38 | L43: Žikeš
A44: Urminský | B44: ČISTIČKA VZDUCHU | C44: 142510031009 | D44: 1 | E44: VČ:211100/00000514/2007 | F44: A492H00B23CA | G44: Urminský | I44: 39 | J44: 3.83 | K44: 39 | L44: Žižková
A45: Žikeš | B45: ČISTIČKA VZDUCHU | C45: 142510031009 | D45: 1 | E45: VČ:211100/00000515/2007 | F45: A492H00B23D5 | G45: Žikeš | I45: 40 | J45: 3.99
A46: Kusko | B46: ČISTIČKA VZDUCHU | C46: 142510031009 | D46: 1 | E46: VČ:211100/00000516/2007 | F46: A492H00B23E0 | G46: Kusko | I46: 41 | J46: 4,37a
A47: Kolenová | B47: ČISTIČKA VZDUCHU | C47: 142510031009 | D47: 1 | E47: VČ:211100/00000517/2007 | F47: A492H00B23FV | G47: Kolenová | I47: 42 | J47: 4,37b
A48: Pechová | B48: ČISTIČKA VZDUCHU | C48: 142510031009 | D48: 1 | E48: VČ:211100/00000518/2007 | F48: A492H00B23GQ | G48: Pechová | I48: 43 | J48: 4.06
A49: 4.8 | B49: ČISTIČKA VZDUCHU | C49: 142510031009 | D49: 1 | E49: VČ:211100/00000519/2007 | F49: A492H00B23HL | G49: 4.8 | I49: 44 | J49: 4.09
A50: 4.8 | B50: ČISTIČKA VZDUCHU | C50: 142510031009 | D50: 1 | E50: VČ:211100/00000520/2007 | F50: A492H00B23IG | G50: 4.8 | I50: 45 | J50: 4.11
A51: 4.8 | B51: ČISTIČKA VZDUCHU | C51: 142510031009 | D51: 1 | E51: VČ:211100/00000521/2007 | F51: A492H00B23JB | G51: 4.8 | I51: 46 | J51: 4.12
A52: 4.8 | B52: ČISTIČKA VZDUCHU | C52: 142510031009 | D52: 1 | E52: VČ:211100/00000522/2007 | F52: A492H00B23K6 | G52: 4.8 | I52: 47 | J52: 4.18
A53: 4.8 | B53: ČISTIČKA VZDUCHU | C53: 142510031009 | D53: 1 | E53: VČ:211100/00000523/2007 | F53: A492H00B23L1 | G53: 4.8 | I53: 48 | J53: 4.21
A54: 4,37b | B54: DESKA DŘ.-PŘÍST.KE STOLU | C54: 142210040008 | D54: 1 | E54: EČ:211100/00000336/2006 | F54: A492H007Q1KS | G54: 4,37b | I54: 49 | J54: 4.23
A55: 4.26 | B55: DESKA DŘ.-PŘÍST.KE STOLU | C55: 142210040008 | D55: 1 | E55: EČ:211100/00000348/2006 | F55: A492H007Q1V9 | G55: 4.26 | I55: 50 | J55: 4.25
A56: 4.48 | B56: DESKA DŘ.-PŘÍST.KE STOLU | C56: 142210040008 | D56: 1 | E56: EČ:211100/00000367/2006 | F56: A492H007Q2H0 | G56: 4.48 | I56: 51 | J56: 4.26
A57: Kusko | B57: KLIMATIZACE MOBILNÍ | C57: 141350054995 | D57: 1 | E57: VČ:211100/70006596/2007 | F57: A492H00CU8A0 | G57: Kusko | I57: 52 | J57: 4.27
A58: 4,37b | B58: KNIHOVNA PROSKLENÁ 2DVEŘ | C58: 142310141007 | D58: 1 | E58: EČ:211100/00000343/2006 | F58: A492H007Q1LN | G58: 4,37b | I58: 53 | J58: 4.33
A59: 4,37b | B59: KNIHOVNA PROSKLENÁ 2DVEŘ | C59: 142310141007 | D59: 1 | E59: EČ:211100/00000344/2006 | F59: A492H007Q1MI | G59: 4,37b | I59: 54 | J59: 4.34
A60: 4.26 | B60: KNIHOVNA PROSKLENÁ 2DVEŘ | C60: 142310141007 | D60: 1 | E60: EČ:211100/00000362/2006 | F60: A492H007Q1W4 | G60: 4.26 | I60: 55 | J60: 4.35
A61: 4.48 | B61: KNIHOVNA PROSKLENÁ 2DVEŘ | C61: 142310141007 | D61: 1 | E61: EČ:211100/00000380/2006 | F61: A492H007Q2IV | G61: 4.48 | I61: 56 | J61: 4.39
A62: 4.48 | B62: KNIHOVNA PROSKLENÁ 2DVEŘ | C62: 142310141007 | D62: 1 | E62: EČ:211100/00000381/2006 | F62: A492H007Q2JQ | G62: 4.48 | I62: 57 | J62: 4.4
A63: 4.48 | B63: KNIHOVNA PROSKLENÁ 2DVEŘ | C63: 142310141007 | D63: 1 | E63: EČ:211100/00000382/2006 | F63: A492H007Q2KL | G63: 4.48 | I63: 58 | J63: 4.41
A64: S-52d | B64: KNIHOVNA VEL.NAD 130 cm | C64: 142310140004 | D64: 1 | E64: EČ:05.01.03554 | F64: A403H0071JVQ | G64: S-52d | I64: 59 | J64: 4.43
A65: 4.4 | B65: KNIHOVNA VEL.NAD 130 cm | C65: 142310140004 | D65: 1 | E65: EČ:05.01.06009 | F65: A403H0076OAV | G65: 4.4 | I65: 60 | J65: 4.44
A66: 3.106 | B66: KNIHOVNA VEL.NAD 130 cm | C66: 142310140004 | D66: 1 | E66: EČ:05.01.06021 | F66: A403H0076OM7 | G66: 3.106 | I66: 61 | J66: 4.45
A67: 3.106 | B67: KNIHOVNA VEL.NAD 130 cm | C67: 142310140004 | D67: 1 | E67: EČ:05.01.06022 | F67: A403H0076ON2 | G67: 3.106 | I67: 62 | J67: 4.46
A68: 3.76 | B68: KNIHOVNA VEL.NAD 130 cm | C68: 142310140004 | D68: 1 | E68: EČ:05.01.06023 | F68: A403H0076OOX | G68: 3.76 | I68: 63 | J68: 4.47
A69: 4.35 | B69: KNIHOVNA VEL.NAD 130 cm | C69: 142310140004 | D69: 1 | E69: EČ:05.01.06024 | F69: A403H0076OQN | G69: 4.35 | I69: 64 | J69: 4.48
A70: 4.39 | B70: KNIHOVNA VEL.NAD 130 cm | C70: 142310140004 | D70: 1 | E70: EČ:05.01.06025 | F70: A403H0076ORI | G70: 4.39 | I70: 65 | J70: 4.49
A71: 3.115 | B71: KNIHOVNA VEL.NAD 130 cm | C71: 142310140004 | D71: 1 | E71: EČ:05.01.06026 | F71: A403H0076OSD | G71: 3.115 | I71: 66 | J71: 4.8
A72: 4.46 | B72: KNIHOVNA VEL.NAD 130 cm | C72: 142310140004 | D72: 1 | E72: EČ:05.01.06027 | F72: A403H0076OT8 | G72: 4.46 | I72: 67 | J72: 4.81
A73: 4.46 | B73: KNIHOVNA VEL.NAD 130 cm | C73: 142310140004 | D73: 1 | E73: EČ:05.01.06028 | F73: A403H0076OU3 | G73: 4.46 | I73: 68 | J73: 4,28-masérna
A74: 3.11 | B74: KNIHOVNA VEL.NAD 130 cm | C74: 142310140004 | D74: 1 | E74: EČ:05.01.06029 | F74: A403H0076OVY | G74: 3.11 | I74: 69 | J74: 4,29 - WC
A75: 3.135 | B75: KNIHOVNA VEL.NAD 130 cm | C75: 142310140004 | D75: 1 | E75: EČ:05.01.06030 | F75: A403H0076OWT | G75: 3.135 | I75: 70 | J75: 4,32-učebna
A76: 3.11 | B76: KNIHOVNA VEL.NAD 130 cm | C76: 142310140004 | D76: 1 | E76: EČ:05.01.06031 | F76: A403H0076OXO | G76: 3.11 | I76: 71 | J76: 4,52-WC
A77: 3.113 | B77: KNIHOVNA VEL.NAD 130 cm | C77: 142310149993 | D77: 1 | E77: EČ:211100/00001033/2008 | F77: A492H015X539 | G77: 3.113 | I77: 72 | J77: Babáková
A78: S-42c | B78: KNIHOVNA VEL.NAD 130 cm | C78: 142310149993 | D78: 1 | E78: EČ:211100/00001034/2008 | F78: A492H015X544 | G78: S-42c | I78: 73 | J78: Baláž
A79: 4.46 | B79: KOMODA | C79: 142240300002 | D79: 1 | E79: EČ:211100/00001461/2010 | G79: 4.46 | I79: 74 | J79: Benešová
A80: 3.29 | B80: KŘESLO ČALOUNĚNÉ OTOČNÉ | C80: 142310230002 | D80: 1 | E80: EČ:01.04.03805 | F80: A418H001ABWU | G80: 3.29 | I80: 75 | J80: Braník
A81: 3.71 | B81: KŘESLO ČALOUNĚNÉ OTOČNÉ | C81: 142310230002 | D81: 1 | E81: EČ:211100/00000304/2006 | F81: A492H0050RBB | G81: 3.71 | I81: 76 | J81: Budova A
A82: 3.106 | B82: KŘESLO ČALOUNĚNÉ OTOČNÉ | C82: 142310230002 | D82: 1 | E82: EČ:211100/00000305/2006 | F82: A492H0050RC6 | G82: 3.106 | I82: 77 | J82: Cerman
A83: 3.148 | B83: KŘESLO ČALOUNĚNÉ OTOČNÉ | C83: 142310230002 | D83: 1 | E83: EČ:211100/00000306/2006 | F83: A492H0050RD1 | G83: 3.148 | I83: 78 | J83: Dubánek
A84: 3.113 | B84: KŘESLO ČALOUNĚNÉ OTOČNÉ | C84: 142310230002 | D84: 1 | E84: EČ:211100/00000307/2006 | F84: A492H0050REW | G84: 3.113 | I84: 79 | J84: Filipová
A85: 3.11 | B85: KŘESLO ČALOUNĚNÉ OTOČNÉ | C85: 142310230002 | D85: 1 | E85: EČ:211100/00000308/2006 | F85: A492H0050RFR | G85: 3.11 | I85: 80 | J85: Hromádková
A86: 3.103 | B86: KŘESLO ČALOUNĚNÉ OTOČNÉ | C86: 142310230002 | D86: 1 | E86: EČ:211100/00000309/2006 | F86: A492H0050RGM | G86: 3.103 | I86: 81 | J86: Jelen
A87: S-42a | B87: KŘESLO ČALOUNĚNÉ OTOČNÉ | C87: 142310230002 | D87: 1 | E87: EČ:211100/00000541/2007 | F87: A492H00CU8H1 | G87: S-42a | I87: 82 | J87: Jirásková
A88: S-42a | B88: KŘESLO ČALOUNĚNÉ OTOČNÉ | C88: 142310230002 | D88: 1 | E88: EČ:211100/00000542/2007 | F88: A492H00CU8IW | G88: S-42a | I88: 83 | J88: Kolenová
A89: S-42a | B89: KŘESLO ČALOUNĚNÉ OTOČNÉ | C89: 142310230002 | D89: 1 | E89: EČ:211100/00000543/2007 | F89: A492H00CU8JR | G89: S-42a | I89: 84 | J89: Kusko
A90: S-42a | B90: KŘESLO ČALOUNĚNÉ OTOČNÉ | C90: 142310230002 | D90: 1 | E90: EČ:211100/00000544/2007 | F90: A492H00CU8KM | G90: S-42a | I90: 85 | J90: Marek
A91: 4.44 | B91: KŘESLO ČALOUNĚNÉ OTOČNÉ | C91: 142310230002 | D91: 1 | E91: EČ:211100/00000996/2008 | F91: A492H00LBIS6 | G91: 4.44 | I91: 86 | J91: Matlahová
A92: 4.45 | B92: KŘESLO ČALOUNĚNÉ OTOČNÉ | C92: 142310230002 | D92: 1 | E92: EČ:211100/00000997/2008 | F92: A492H00LBIT1 | G92: 4.45 | I92: 87 | J92: Michalcová
A93: sklad-Pustayová | B93: KŘESLO ČALOUNĚNÉ OTOČNÉ | C93: 142310230002 | D93: 1 | E93: EČ:211100/00001040/2008 | F93: A492H01667SO | G93: sklad-Pustayová | I93: 88 | J93: Minařík
A94: 4.35 | B94: KŘESLO OSTATNÍ | C94: 142310270008 | D94: 1 | E94: EČ:01.01.08054 | F94: A403H002BWLC | G94: 4.35 | I94: 89 | J94: Moravec
A95: 4.45 | B95: KŘESLO OSTATNÍ | C95: 142310270008 | D95: 1 | E95: EČ:01.01.08055 | F95: A403H002BWM7 | G95: 4.45 | I95: 90 | J95: Pechová
A96: sklad-Pustayová | B96: KŘESLO OSTATNÍ | C96: 142310270008 | D96: 1 | E96: EČ:01.01.08212 | F96: A403H002C0CG | G96: sklad-Pustayová | I96: 91 | J96: Pivcová
A97: 3.121 | B97: KŘESLO OSTATNÍ | C97: 142310270008 | D97: 1 | E97: EČ:03.01.08110 | F97: A403H0050AWN | G97: 3.121 | I97: 92 | J97: Pustayová
A98: S-23b | B98: KŘESLO OSTATNÍ | C98: 142310270008 | D98: 1 | E98: EČ:04.01.05210 | F98: A403H006RCO5 | G98: S-23b | I98: 93 | J98: Ráčková
A99: 4,29 - WC | B99: NÁDOBA NA ODPADKY RŮZNÁ | C99: 137017600007 | D99: 1 | E99: EČ:211100/00000179/2005 | G99: 4,29 - WC | I99: 94 | J99: Rákosníková
A100: chodba-II patro | B100: NÁDOBA NA ODPADKY RŮZNÁ | C100: 137017600007 | D100: 1 | E100: EČ:211100/00000180/2005 | G100: chodba-II patro | I100: 95 | J100: Rohlová
A101: 4,52-WC | B101: NÁDOBA NA ODPADKY RŮZNÁ | C101: 137017600007 | D101: 1 | E101: EČ:211100/00000181/2005 | G101: 4,52-WC | I101: 96 | J101: Roučková
A102: 4,28-masérna | B102: NÁDOBA NA ODPADKY RŮZNÁ | C102: 137017600007 | D102: 1 | E102: EČ:211100/00000182/2005 | G102: 4,28-masérna | I102: 97 | J102: S-001
A103: Rohlová | B103: ODSÁVAČ PAR NEREZOVÝ | C103: 120001059820 | D103: 1 | E103: VČ:211100/00000303/2006 | F103: A492H0050R8Q | G103: Rohlová | I103: 98 | J103: S-01
...

Sheet SEZNAM V MÍSTNOSTI
A2: razítko
A4: S E Z N A M
A5: předmětů a zařízení v místnosti č. | B5: ='celkový seznam'!N5 -> 4.26 | C5: poschodí | E5: Budova A
A7: Název zařízení | B7: Číslo materiálu | C7: Počet | D7: Identifikace materiálu | E7: Inventární číslo
C8: kusů
A9: =VLOOKUP($B$5,'celkový seznam'!$A$6:$G$905,2) -> REGÁL ARCHIVNÍ POJÍZDNÝ | B9: =VLOOKUP($B$5,'celkový seznam'!$A$6:$G$905,3) -> 147125000215 | C9: =VLOOKUP($B$5,'celkový seznam'!$A$6:$G$905,4) -> 1 | D9: =VLOOKUP($B$5,'celkový seznam'!$A$6:$G$905,5) -> EČ:211100/00000085/2001 | E9: =VLOOKUP($B$5,'celkový seznam'!$A$6:$G$905,6) -> A403H0022H96
A10: =VLOOKUP($B$5,'celkový seznam'!$A$6:$G$905,2) -> REGÁL ARCHIVNÍ POJÍZDNÝ | B10: =VLOOKUP($B$5,'celkový seznam'!$A$6:$G$905,3) -> 147125000215 | C10: =VLOOKUP($B$5,'celkový seznam'!$A$6:$G$905,4) -> 1 | D10: =VLOOKUP($B$5,'celkový seznam'!$A$6:$G$905,5) -> EČ:211100/00000085/2001 | E10: =VLOOKUP($B$5,'celkový seznam'!$A$6:$G$905,6) -> A403H0022H96
A11: =VLOOKUP($B$5,'celkový seznam'!$A$6:$G$905,2) -> REGÁL ARCHIVNÍ POJÍZDNÝ | B11: =VLOOKUP($B$5,'celkový seznam'!$A$6:$G$905,3) -> 147125000215 | C11: =VLOOKUP($B$5,'celkový seznam'!$A$6:$G$905,4) -> 1 | D11: =VLOOKUP($B$5,'celkový seznam'!$A$6:$G$905,5) -> EČ:211100/00000085/2001 | E11: =VLOOKUP($B$5,'celkový seznam'!$A$6:$G$905,6) -> A403H0022H96
A12: =VLOOKUP($B$5,'celkový seznam'!$A$6:$G$905,2) -> REGÁL ARCHIVNÍ POJÍZDNÝ | B12: =VLOOKUP($B$5,'celkový seznam'!$A$6:$G$905,3) -> 147125000215 | C12: =VLOOKUP($B$5,'celkový seznam'!$A$6:$G$905,4) -> 1 | D12: =VLOOKUP($B$5,'celkový seznam'!$A$6:$G$905,5) -> EČ:211100/00000085/2001 | E12: =VLOOKUP($B$5,'celkový seznam'!$A$6:$G$905,6) -> A403H0022H96
A13: =VLOOKUP($B$5,'celkový seznam'!$A$6:$G$905,2) -> REGÁL ARCHIVNÍ POJÍZDNÝ | B13: =VLOOKUP($B$5,'celkový seznam'!$A$6:$G$905,3) -> 147125000215 | C13: =VLOOKUP($B$5,'celkový seznam'!$A$6:$G$905,4) -> 1 | D13: =VLOOKUP($B$5,'celkový seznam'!$A$6:$G$905,5) -> EČ:211100/00000085/2001 | E13: =VLOOKUP($B$5,'celkový seznam'!$A$6:$G$905,6) -> A403H0022H96
A14: =VLOOKUP($B$5,'celkový seznam'!$A$6:$G$905,2) -> REGÁL ARCHIVNÍ POJÍZDNÝ | B14: =VLOOKUP($B$5,'celkový seznam'!$A$6:$G$905,3) -> 147125000215 | C14: =VLOOKUP($B$5,'celkový seznam'!$A$6:$G$905,4) -> 1 | D14: =VLOOKUP($B$5,'celkový seznam'!$A$6:$G$905,5) -> EČ:211100/00000085/2001 | E14: =VLOOKUP($B$5,'celkový seznam'!$A$6:$G$905,6) -> A403H0022H96
A15: =VLOOKUP($B$5,'celkový seznam'!$A$6:$G$905,2) -> REGÁL ARCHIVNÍ POJÍZDNÝ | B15: =VLOOKUP($B$5,'celkový seznam'!$A$6:$G$905,3) -> 147125000215 | C15: =VLOOKUP($B$5,'celkový seznam'!$A$6:$G$905,4) -> 1 | D15: =VLOOKUP($B$5,'celkový seznam'!$A$6:$G$905,5) -> EČ:211100/00000085/2001 | E15: =VLOOKUP($B$5,'celkový seznam'!$A$6:$G$905,6) -> A403H0022H96
A16: =VLOOKUP($B$5,'celkový seznam'!$A$6:$G$905,2) -> REGÁL ARCHIVNÍ POJÍZDNÝ | B16: =VLOOKUP($B$5,'celkový seznam'!$A$6:$G$905,3) -> 147125000215 | C16: =VLOOKUP($B$5,'celkový seznam'!$A$6:$G$905,4) -> 1 | D16: =VLOOKUP($B$5,'celkový seznam'!$A$6:$G$905,5) -> EČ:211100/00000085/2001 | E16: =VLOOKUP($B$5,'celkový seznam'!$A$6:$G$905,6) -> A403H0022H96
A17: =VLOOKUP($B$5,'celkový seznam'!$A$6:$G$905,2) -> REGÁL ARCHIVNÍ POJÍZDNÝ | B17: =VLOOKUP($B$5,'celkový seznam'!$A$6:$G$905,3) -> 147125000215 | C17: =VLOOKUP($B$5,'celkový seznam'!$A$6:$G$905,4) -> 1 | D17: =VLOOKUP($B$5,'celkový seznam'!$A$6:$G$905,5) -> EČ:211100/00000085/2001 | E17: =VLOOKUP($B$5,'celkový seznam'!$A$6:$G$905,6) -> A403H0022H96
A18: =VLOOKUP($B$5,'celkový seznam'!$A$6:$G$905,2) -> REGÁL ARCHIVNÍ POJÍZDNÝ | B18: =VLOOKUP($B$5,'celkový seznam'!$A$6:$G$905,3) -> 147125000215 | C18: =VLOOKUP($B$5,'celkový seznam'!$A$6:$G$905,4) -> 1 | D18: =VLOOKUP($B$5,'celkový seznam'!$A$6:$G$905,5) -> EČ:211100/00000085/2001 | E18: =VLOOKUP($B$5,'celkový seznam'!$A$6:$G$905,6) -> A403H0022H96
A19: =VLOOKUP($B$5,'celkový seznam'!$A$6:$G$905,2) -> REGÁL ARCHIVNÍ POJÍZDNÝ | B19: =VLOOKUP($B$5,'celkový seznam'!$A$6:$G$905,3) -> 147125000215 | C19: =VLOOKUP($B$5,'celkový seznam'!$A$6:$G$905,4) -> 1 | D19: =VLOOKUP($B$5,'celkový seznam'!$A$6:$G$905,5) -> EČ:211100/00000085/2001 | E19: =VLOOKUP($B$5,'celkový seznam'!$A$6:$G$905,6) -> A403H0022H96
A20: =VLOOKUP($B$5,'celkový seznam'!$A$6:$G$905,2) -> REGÁL ARCHIVNÍ POJÍZDNÝ | B20: =VLOOKUP($B$5,'celkový seznam'!$A$6:$G$905,3) -> 147125000215 | C20: =VLOOKUP($B$5,'celkový seznam'!$A$6:$G$905,4) -> 1 | D20: =VLOOKUP($B$5,'celkový seznam'!$A$6:$G$905,5) -> EČ:211100/00000085/2001 | E20: =VLOOKUP($B$5,'celkový seznam'!$A$6:$G$905,6) -> A403H0022H96
... A37: =VLOOKUP($B$5,'celkový seznam'!$A$6:$G$905,2) -> REGÁL ARCHIVNÍ POJÍZDNÝ | B37: =VLOOKUP($B$5,'celkový seznam'!$A$6:$G$905,3) -> 147125000215 | C37: =VLOOKUP($B$5,'celkový seznam'!$A$6:$G$905,4) -> 1 | D37: =VLOOKUP($B$5,'celkový seznam'!$A$6:$G$905,5) -> EČ:211100/00000085/2001 | E37: =VLOOKUP($B$5,'celkový seznam'!$A$6:$G$905,6) -> A403H0022H96
A39: JAKÉKOLIV ZMĚNY JSOU POVOLENY JEN V DOHODĚ S OSOBOU ODPOVĚDNOU
A40: ZA MATERIÁL
B43: Dne: ……………………………………..
A48: Pustayová Zdeňka
A49: jméno předávajícího a podpis | D49: jméno přebírajícího a podpis

Sheet List1
