Workbook
Name ColumnToFind: [1]List2!$K$4
Name ColumnToFind: [2]List2!$K$4
Name MemberList: [1]List2!$D$6:$F$30
Name MemberList: [2]List2!$D$6:$F$30
Name TextToFind: [1]List2!$J$4
Name TextToFind: [2]List2!$J$4

Sheet celkový seznam
J1: 51
A5: Místnost | B5: Český název zkrácený | C5: Katalogové č. | D5: Množství | E5: Identifikace materiálu | F5: Inventární číslo | G5: Místnost | J5: Místnost | L5: Jméno | N5: =INDEX($I$6:$J$128,$J$1,2) -> 4.26 | O5: SVYHLEDAT | P5: Tento materiál obsahuje místnost 4,26.
A6: 4,37b | B6: BLOK 3ZÁSUVKOVÝ POJÍZDNÝ | C6: 142311151108 | D6: 1 | E6: EČ:211100/00000337/2006 | F6: A492H007Q1P3 | G6: 4,37b | I6: 1 | J6: 2.39 | K6: 1 | L6: Babáková | O6: =VLOOKUP($N$5,$A$6:$F$905,2) -> REGÁL ARCHIVNÍ POJÍZDNÝ | P6: BLOK 3ZÁSUVKOVÝ POJÍZDNÝ | Q6: 142311151108 | R6: 1 | S6: EČ:211100/00000349/2006 | T6: A492H007Q1ZP
A7: 4,37b | B7: BLOK 3ZÁSUVKOVÝ POJÍZDNÝ | C7: 142311151108 | D7: 1 | E7: EČ:211100/00000338/2006 | F7: A492H007Q1QY | G7: 4,37b | I7: 2 | J7: 2.4 | K7: 2 | L7: Baláž | O7: =VLOOKUP($N$5,$A$6:$F$905,2) -> REGÁL ARCHIVNÍ POJÍZDNÝ | P7: BLOK 3ZÁSUVKOVÝ POJÍZDNÝ | Q7: 142311151108 | R7: 1 | S7: EČ:211100/00000350/2006 | T7: A492H007Q20D
A8: 4.26 | B8: BLOK 3ZÁSUVKOVÝ POJÍZDNÝ | C8: 142311151108 | D8: 1 | E8: EČ:211100/00000349/2006 | F8: A492H007Q1ZP | G8: 4.26 | I8: 3 | J8: 3.09 | K8: 3 | L8: Běloubek | O8: =VLOOKUP($N$5,$A$6:$F$905,2) -> REGÁL ARCHIVNÍ POJÍZDNÝ | P8: BLOK 3ZÁSUVKOVÝ POJÍZDNÝ | Q8: 142311151108 | R8: 1 | S8: EČ:211100/00000351/2006 | T8: A492H007Q218
A9: 4.26 | B9: BLOK 3ZÁSUVKOVÝ POJÍZDNÝ | C9: 142311151108 | D9: 1 | E9: EČ:211100/00000350/2006 | F9: A492H007Q20D | G9: 4.26 | I9: 4 | J9: 3.101 | K9: 4 | L9: Benešová | O9: =VLOOKUP($N$5,$A$6:$F$905,2) -> REGÁL ARCHIVNÍ POJÍZDNÝ | P9: BLOK ZÁSUV.POJ. 42×50×70 | Q9: 142311151401 | R9: 1 | S9: EČ:211100/00000352/2006 | T9: A492H007Q223
A10: 4.26 | B10: BLOK 3ZÁSUVKOVÝ POJÍZDNÝ | C10: 142311151108 | D10: 1 | E10: EČ:211100/00000351/2006 | F10: A492H007Q218 | G10: 4.26 | I10: 5 | J10: 3.103 | K10: 5 | L10: Cerman | O10: =VLOOKUP($N$5,$A$6:$F$905,2) -> REGÁL ARCHIVNÍ POJÍZDNÝ | P10: BLOK ZÁSUV.POJ. 42×50×70 | Q10: 142311151401 | R10: 1 | S10: EČ:211100/00000353/2006 | T10: A492H007Q23Y
A11: 4,37b | B11: BLOK ZÁSUV.POJ. 42×50×70 | C11: 142311151401 | D11: 1 | E11: EČ:211100/00000339/2006 | F11: A492H007Q1RT | G11: 4,37b | I11: 6 | J11: 3.104 | K11: 6 | L11: Dubánek | O11: =VLOOKUP($N$5,$A$6:$F$905,2) -> REGÁL ARCHIVNÍ POJÍZDNÝ | P11: BLOK ZÁSUV.POJ. 42×50×70 | Q11: 142311151401 | R11: 1 | S11: EČ:211100/00000354/2006 | T11: A492H007Q24T
A12: 4.26 | B12: BLOK ZÁSUV.POJ. 42×50×70 | C12: 142311151401 | D12: 1 | E12: EČ:211100/00000352/2006 | F12: A492H007Q223 | G12: 4.26 | I12: 7 | J12: 3.106 | K12: 7 | L12: Dvořáková | O12: =VLOOKUP($N$5,$A$6:$F$905,2) -> REGÁL ARCHIVNÍ POJÍZDNÝ | P12: DESKA DŘ.-PŘÍST.KE STOLU | Q12: 142210040008 | R12: 1 | S12: EČ:211100/00000348/2006 | T12: A492H007Q1V9
A13: 4.26 | B13: BLOK ZÁSUV.POJ. 42×50×70 | C13: 142311151401 | D13: 1 | E13: EČ:211100/00000353/2006 | F13: A492H007Q23Y | G13: 4.26 | I13: 8 | J13: 3.107 | K13: 8 | L13: Heřmánek | O13: =VLOOKUP($N$5,$A$6:$F$905,2) -> REGÁL ARCHIVNÍ POJÍZDNÝ | P13: KNIHOVNA PROSKLENÁ 2DVEŘ | Q13: 142310141007 | R13: 1 | S13: EČ:211100/00000362/2006 | T13: A492H007Q1W4
A14: 4.26 | B14: BLOK ZÁSUV.POJ. 42×50×70 | C14: 142311151401 | D14: 1 | E14: EČ:211100/00000354/2006 | F14: A492H007Q24T | G14: 4.26 | I14: 9 | J14: 3.108 | K14: 9 | L14: Hladíková | O14: =VLOOKUP($N$5,$A$6:$F$905,2) -> REGÁL ARCHIVNÍ POJÍZDNÝ | P14: PARAVAN | Q14: 144190853993 | R14: 1 | S14: EČ:211100/00000358/2006 | T14: A492H007Q2BU
A15: 4.48 | B15: BLOK ZÁSUV.POJ. 42×50×70 | C15: 142311151401 | D15: 1 | E15: EČ:211100/00000369/2006 | F15: A492H007Q2N6 | G15: 4.48 | I15: 10 | J15: 3.109 | K15: 10 | L15: Hoffmann | O15: =VLOOKUP($N$5,$A$6:$F$905,2) -> REGÁL ARCHIVNÍ POJÍZDNÝ | P15: POLICE NÁSTAVBA NA STŮL | Q15: 142340587008 | R15: 1 | S15: EČ:211100/00000359/2006 | T15: A492H007Q294
A16: 4.48 | B16: BLOK ZÁSUV.POJ. 42×50×70 | C16: 142311151401 | D16: 1 | E16: EČ:211100/00000370/2006 | F16: A492H007Q2O1 | G16: 4.48 | I16: 11 | J16: 3.11 | K16: 11 | L16: Hromádková | O16: =VLOOKUP($N$5,$A$6:$F$905,2) -> REGÁL ARCHIVNÍ POJÍZDNÝ | P16: POLICE NÁSTAVBA NA STŮL | Q16: 142340587008 | R16: 1 | S16: EČ:211100/00000360/2006 | T16: A492H007Q2AZ
A17: S-42a | B17: BLOK-KONTEJNER NA SPISY | C17: 142311153003 | D17: 1 | E17: EČ:211100/00000537/2007 | F17: A492H00CU8O2 | G17: S-42a | I17: 12 | J17: 3.113 | K17: 12 | L17: Jelen | O17: =VLOOKUP($N$5,$A$6:$F$905,2) -> REGÁL ARCHIVNÍ POJÍZDNÝ | P17: SKŘÍŇ OHNIVZD.1-KŘÍDL. | Q17: 142310779992 | R17: 1 | S17: EČ:10031vč,55327124 | T17: A403H00114GK
A18: S-42a | B18: BLOK-KONTEJNER NA SPISY | C18: 142311153003 | D18: 1 | E18: EČ:211100/00000538/2007 | F18: A492H00CU8PX | G18: S-42a | I18: 13 | J18: 3.115 | K18: 13 | L18: Jirásková | O18: =VLOOKUP($N$5,$A$6:$F$905,2) -> REGÁL ARCHIVNÍ POJÍZDNÝ | P18: SKŘÍŇ OT.POL.120×40×140 | Q18: 142311105213 | R18: 1 | S18: EČ:211100/00000365/2006 | T18: A492H007Q1YU
A19: S-42a | B19: BLOK-KONTEJNER NA SPISY | C19: 142311153003 | D19: 1 | E19: EČ:211100/00000539/2007 | F19: A492H00CU8QS | G19: S-42a | I19: 14 | J19: 3.117 | K19: 14 | L19: Kadlec | O19: =VLOOKUP($N$5,$A$6:$F$905,2) -> REGÁL ARCHIVNÍ POJÍZDNÝ | P19: SKŘÍŇ OT.POL.150×30×100 | Q19: 142311105112 | R19: 1 | S19: EČ:211100/00000363/2006 | T19: A492H007Q1XZ
A20: S-42a | B20: BLOK-KONTEJNER NA SPISY | C20: 142311153003 | D20: 1 | E20: EČ:211100/00000540/2007 | F20: A492H00CU8RN | G20: S-42a | I20: 15 | J20: 3.118 | K20: 15 | L20: Kolář | O20: =VLOOKUP($N$5,$A$6:$F$905,2) -> REGÁL ARCHIVNÍ POJÍZDNÝ | P20: STOLEK KONFERENČNÍ | Q20: 142311260000 | R20: 1 | S20: EČ:211100/00000361/2006
A21: vrátnice | B21: BUŇKA PŘEVOZNÁ | C21: 146320059996 | D21: 1 | E21: EČ:BH-UNC11196 | F21: A1YKH1001A5J | G21: vrátnice | I21: 16 | J21: 3.12 | K21: 16 | L21: Kusko | O21: =VLOOKUP($N$5,$A$6:$F$905,2) -> REGÁL ARCHIVNÍ POJÍZDNÝ | P21: STŮL DŘ.VÝDEJ.302×42×93 | Q21: 142311741303 | R21: 1 | S21: EČ:211100/00000364/2006 | T21: A492H007Q289
A22: Babáková | B22: ČISTIČKA VZDUCHU | C22: 142510031009 | D22: 1 | E22: VČ:211100/00000492/2007 | F22: A492H00B22QJ | G22: Babáková | I22: 17 | J22: 3.121 | K22: 17 | L22: Malá | O22: =VLOOKUP($N$5,$A$6:$F$905,2) -> REGÁL ARCHIVNÍ POJÍZDNÝ | P22: STŮL OSTATNÍ | Q22: 142311740007 | R22: 1 | S22: EČ:211100/00000345/2006 | T22: A492H007Q25O
A23: Baláž | B23: ČISTIČKA VZDUCHU | C23: 142510031009 | D23: 1 | E23: VČ:211100/00000493/2007 | F23: A492H00B22RE | G23: Baláž | I23: 18 | J23: 3.123 | K23: 18 | L23: Marek | O23: =VLOOKUP($N$5,$A$6:$F$905,2) -> REGÁL ARCHIVNÍ POJÍZDNÝ | P23: STŮL OSTATNÍ | Q23: 142311740007 | R23: 1 | S23: EČ:211100/00000346/2006 | T23: A492H007Q26J
A24: Benešová | B24: ČISTIČKA VZDUCHU | C24: 142510031009 | D24: 1 | E24: VČ:211100/00000494/2007 | F24: A492H00B22S9 | G24: Benešová | I24: 19 | J24: 3.128 | K24: 19 | L24: Michalcová | O24: =VLOOKUP($N$5,$A$6:$F$905,2) -> REGÁL ARCHIVNÍ POJÍZDNÝ | P24: STŮL OSTATNÍ | Q24: 142311740007 | R24: 1 | S24: EČ:211100/00000347/2006 | T24: A492H007Q27E
A25: Roučková | B25: ČISTIČKA VZDUCHU | C25: 142510031009 | D25: 1 | E25: VČ:211100/00000495/2007 | F25: A492H00B22T4 | G25: Roučková | I25: 20 | J25: 3.134 | K25: 20 | L25: Minařík | O25: =VLOOKUP($N$5,$A$6:$F$905,2) -> REGÁL ARCHIVNÍ POJÍZDNÝ | P25: ŽIDLE OTOČ.POJ.PUR | Q25: 142311894001 | R25: 1 | S25: EČ:211100/00000397/2005 | T25: A492H007X5ZE
A26: Ráčková | B26: ČISTIČKA VZDUCHU | C26: 142510031009 | D26: 1 | E26: VČ:211100/00000496/2007 | F26: A492H00B22UZ | G26: Ráčková | I26: 21 | J26: 3.135 | K26: 21 | L26: Moravec | O26: =VLOOKUP($N$5,$A$6:$F$905,2) -> REGÁL ARCHIVNÍ POJÍZDNÝ
A27: Česáková | B27: ČISTIČKA VZDUCHU | C27: 142510031009 | D27: 1 | E27: VČ:211100/00000497/2007 | F27: A492H00B22VU | G27: Česáková | I27: 22 | J27: 3.137 | K27: 22 | L27: Pechová | O27: =VLOOKUP($N$5,$A$6:$F$905,2) -> REGÁL ARCHIVNÍ POJÍZDNÝ
A28: Dubánek | B28: ČISTIČKA VZDUCHU | C28: 142510031009 | D28: 1 | E28: VČ:211100/00000498/2007 | F28: A492H00B22WP | G28: Dubánek | I28: 23 | J28: 3.139 | K28: 23 | L28: Pilátová | O28: =VLOOKUP($N$5,$A$6:$F$905,2) -> REGÁL ARCHIVNÍ POJÍZDNÝ
A29: Filipová | B29: ČISTIČKA VZDUCHU | C29: 142510031009 | D29: 1 | E29: VČ:211100/00000499/2007 | F29: A492H00B22XK | G29: Filipová | I29: 24 | J29: 3.141 | K29: 24 | L29: Pivcová | O29: =VLOOKUP($N$5,$A$6:$F$905,2) -> REGÁL ARCHIVNÍ POJÍZDNÝ
A30: Pivcová | B30: ČISTIČKA VZDUCHU | C30: 142510031009 | D30: 1 | E30: VČ:211100/00000500/2007 | F30: A492H00B22YF | G30: Pivcová | I30: 25 | J30: 3.148 | K30: 25 | L30: Poláčková | O30: =VLOOKUP($N$5,$A$6:$F$905,2) -> REGÁL ARCHIVNÍ POJÍZDNÝ
A31: Hromádková | B31: ČISTIČKA VZDUCHU | C31: 142510031009 | D31: 1 | E31: VČ:211100/00000501/2007 | F31: A492H00B22ZA | G31: Hromádková | I31: 26 | J31: 3.21 | K31: 26 | L31: Procházka | O31: =VLOOKUP($N$5,$A$6:$F$905,2) -> REGÁL ARCHIVNÍ POJÍZDNÝ
A32: Jelen | B32: ČISTIČKA VZDUCHU | C32: 142510031009 | D32: 1 | E32: VČ:211100/00000502/2007 | F32: A492H00B230Y | G32: Jelen | I32: 27 | J32: 3.22 | K32: 27 | L32: Pustayová | O32: =VLOOKUP($N$5,$A$6:$F$905,2) -> REGÁL ARCHIVNÍ POJÍZDNÝ
A33: Jirásková | B33: ČISTIČKA VZDUCHU | C33: 142510031009 | D33: 1 | E33: VČ:211100/00000503/2007 | F33: A492H00B231T | G33: Jirásková | I33: 28 | J33: 3.23 | K33: 28 | L33: Ráčková | O33: =VLOOKUP($N$5,$A$6:$F$905,2) -> REGÁL ARCHIVNÍ POJÍZDNÝ
A34: Matlahová | B34: ČISTIČKA VZDUCHU | C34: 142510031009 | D34: 1 | E34: VČ:211100/00000504/2007 | F34: A492H00B232O | G34: Matlahová | I34: 29 | J34: 3.26 | K34: 29 | L34: Rákosníková | O34: =VLOOKUP($N$5,$A$6:$F$905,2) -> REGÁL ARCHIVNÍ POJÍZDNÝ
A35: Michalcová | B35: ČISTIČKA VZDUCHU | C35: 142510031009 | D35: 1 | E35: VČ:211100/00000505/2007 | F35: A492H00B233J | G35: Michalcová | I35: 30 | J35: 3.28 | K35: 30 | L35: Rohlová | O35: =VLOOKUP($N$5,$A$6:$F$905,2) -> REGÁL ARCHIVNÍ POJÍZDNÝ
A36: Minařík | B36: ČISTIČKA VZDUCHU | C36: 142510031009 | D36: 1 | E36: VČ:211100/00000506/2007 | F36: A492H00B234E | G36: Minařík | I36: 31 | J36: 3.29 | K36: 31 | L36: Roučková | O36: =VLOOKUP($N$5,$A$6:$F$905,2) -> REGÁL ARCHIVNÍ POJÍZDNÝ
A37: Moravec | B37: ČISTIČKA VZDUCHU | C37: 142510031009 | D37: 1 | E37: VČ:211100/00000507/2007 | F37: A492H00B2359 | G37: Moravec | I37: 32 | J37: 3.3 | K37: 32 | L37: Ságnerová | O37: =VLOOKUP($N$5,$A$6:$F$905,2) -> REGÁL ARCHIVNÍ POJÍZDNÝ
A38: 2.39 | B38: ČISTIČKA VZDUCHU | C38: 142510031009 | D38: 1 | E38: VČ:211100/00000508/2007 | F38: A492H00B2364 | G38: 2.39 | I38: 33 | J38: 3.32 | K38: 33 | L38: Schicková | O38: =VLOOKUP($N$5,$A$6:$F$905,2) -> REGÁL ARCHIVNÍ POJÍZDNÝ
A39: Rákosníková | B39: ČISTIČKA VZDUCHU | C39: 142510031009 | D39: 1 | E39: VČ:211100/00000509/2007 | F39: A492H00B237Z | G39: Rákosníková | I39: 34 | J39: 3.7 | K39: 34 | L39: Sluka | O39: =VLOOKUP($N$5,$A$6:$F$905,2) -> REGÁL ARCHIVNÍ POJÍZDNÝ
A40: Rohlová | B40: ČISTIČKA VZDUCHU | C40: 142510031009 | D40: 1 | E40: VČ:211100/00000510/2007 | F40: A492H00B238U | G40: Rohlová | I40: 35 | J40: 3.71 | K40: 35 | L40: Sluková | O40: =VLOOKUP($N$5,$A$6:$F$905,2) -> REGÁL ARCHIVNÍ POJÍZDNÝ
A41: Sluka | B41: ČISTIČKA VZDUCHU | C41: 142510031009 | D41: 1 | E41: VČ:211100/00000511/2007 | F41: A492H00B239P | G41: Sluka | I41: 36 | J41: 3.75 | K41: 36 | L41: Šlosar
A42: Sluková | B42: ČISTIČKA VZDUCHU | C42: 142510031009 | D42: 1 | E42: VČ:211100/00000512/2007 | F42: A492H00B23AK | G42: Sluková | I42: 37 | J42: 3.76 | K42: 37 | L42: Urmínský
A43: Šlosar | B43: ČISTIČKA VZDUCHU | C43: 142510031009 | D43: 1 | E43: VČ:211100/00000513/2007 | F43: A492H00B23BF | G43: Šlosar | I43: 38 | J43: 3.77 | K43: 38 | L43: Žikeš
...

Sheet SEZNAM V MÍSTNOSTI
A2: razítko
A4: S E Z N A M
A5: předmětů a zařízení v místnosti č. | B5: ='celkový seznam'!N5 -> 4.26 | C5: poschodí | E5: Budova A
A7: Název zařízení | B7: Číslo materiálu | C7: Počet | D7: Identifikace materiálu | E7: Inventární číslo
C8: kusů
A9: =VLOOKUP($B$5,'celkový seznam'!$A$6:$G$905,2) -> REGÁL ARCHIVNÍ POJÍZDNÝ | B9: =VLOOKUP($B$5,'celkový seznam'!$A$6:$G$905,3) -> 147125000215 | C9: =VLOOKUP($B$5,'celkový seznam'!$A$6:$G$905,4) -> 1 | D9: =VLOOKUP($B$5,'celkový seznam'!$A$6:$G$905,5) -> EČ:211100/00000085/2001 | E9: =VLOOKUP($B$5,'celkový seznam'!$A$6:$G$905,6) -> A403H0022H96
A10: =VLOOKUP($B$5,'celkový seznam'!$A$6:$G$905,2) -> REGÁL ARCHIVNÍ POJÍZDNÝ | B10: =VLOOKUP($B$5,'celkový seznam'!$A$6:$G$905,3) -> 147125000215 | C10: =VLOOKUP($B$5,'celkový seznam'!$A$6:$G$905,4) -> 1 | D10: =VLOOKUP($B$5,'celkový seznam'!$A$6:$G$905,5) -> EČ:211100/00000085/2001 | E10: =VLOOKUP($B$5,'celkový seznam'!$A$6:$G$905,6) -> A403H0022H96
A11: =VLOOKUP($B$5,'celkový seznam'!$A$6:$G$905,2) -> REGÁL ARCHIVNÍ POJÍZDNÝ | B11: =VLOOKUP($B$5,'celkový seznam'!$A$6:$G$905,3) -> 147125000215 | C11: =VLOOKUP($B$5,'celkový seznam'!$A$6:$G$905,4) -> 1 | D11: =VLOOKUP($B$5,'celkový seznam'!$A$6:$G$905,5) -> EČ:211100/00000085/2001 | E11: =VLOOKUP($B$5,'celkový seznam'!$A$6:$G$905,6) -> A403H0022H96
A12: =VLOOKUP($B$5,'celkový seznam'!$A$6:$G$905,2) -> REGÁL ARCHIVNÍ POJÍZDNÝ | B12: =VLOOKUP($B$5,'celkový seznam'!$A$6:$G$905,3) -> 147125000215 | C12: =VLOOKUP($B$5,'celkový seznam'!$A$6:$G$905,4) -> 1 | D12: =VLOOKUP($B$5,'celkový seznam'!$A$6:$G$905,5) -> EČ:211100/00000085/2001 | E12: =VLOOKUP($B$5,'celkový seznam'!$A$6:$G$905,6) -> A403H0022H96
A13: =VLOOKUP($B$5,'celkový seznam'!$A$6:$G$905,2) -> REGÁL ARCHIVNÍ POJÍZDNÝ | B13: =VLOOKUP($B$5,'celkový seznam'!$A$6:$G$905,3) -> 147125000215 | C13: =VLOOKUP($B$5,'celkový seznam'!$A$6:$G$905,4) -> 1 | D13: =VLOOKUP($B$5,'celkový seznam'!$A$6:$G$905,5) -> EČ:211100/00000085/2001 | E13: =VLOOKUP($B$5,'celkový seznam'!$A$6:$G$905,6) -> A403H0022H96
A14: =VLOOKUP($B$5,'celkový seznam'!$A$6:$G$905,2) -> REGÁL ARCHIVNÍ POJÍZDNÝ | B14: =VLOOKUP($B$5,'celkový seznam'!$A$6:$G$905,3) -> 147125000215 | C14: =VLOOKUP($B$5,'celkový seznam'!$A$6:$G$905,4) -> 1 | D14: =VLOOKUP($B$5,'celkový seznam'!$A$6:$G$905,5) -> EČ:211100/00000085/2001 | E14: =VLOOKUP($B$5,'celkový seznam'!$A$6:$G$905,6) -> A403H0022H96
A15: =VLOOKUP($B$5,'celkový seznam'!$A$6:$G$905,2) -> REGÁL ARCHIVNÍ POJÍZDNÝ | B15: =VLOOKUP($B$5,'celkový seznam'!$A$6:$G$905,3) -> 147125000215 | C15: =VLOOKUP($B$5,'celkový seznam'!$A$6:$G$905,4) -> 1 | D15: =VLOOKUP($B$5,'celkový seznam'!$A$6:$G$905,5) -> EČ:211100/00000085/2001 | E15: =VLOOKUP($B$5,'celkový seznam'!$A$6:$G$905,6) -> A403H0022H96
A16: =VLOOKUP($B$5,'celkový seznam'!$A$6:$G$905,2) -> REGÁL ARCHIVNÍ POJÍZDNÝ | B16: =VLOOKUP($B$5,'celkový seznam'!$A$6:$G$905,3) -> 147125000215 | C16: =VLOOKUP($B$5,'celkový seznam'!$A$6:$G$905,4) -> 1 | D16: =VLOOKUP($B$5,'celkový seznam'!$A$6:$G$905,5) -> EČ:211100/00000085/2001 | E16: =VLOOKUP($B$5,'celkový seznam'!$A$6:$G$905,6) -> A403H0022H96
A17: =VLOOKUP($B$5,'celkový seznam'!$A$6:$G$905,2) -> REGÁL ARCHIVNÍ POJÍZDNÝ | B17: =VLOOKUP($B$5,'celkový seznam'!$A$6:$G$905,3) -> 147125000215 | C17: =VLOOKUP($B$5,'celkový seznam'!$A$6:$G$905,4) -> 1 | D17: =VLOOKUP($B$5,'celkový seznam'!$A$6:$G$905,5) -> EČ:211100/00000085/2001 | E17: =VLOOKUP($B$5,'celkový seznam'!$A$6:$G$905,6) -> A403H0022H96
A18: =VLOOKUP($B$5,'celkový seznam'!$A$6:$G$905,2) -> REGÁL ARCHIVNÍ POJÍZDNÝ | B18: =VLOOKUP($B$5,'celkový seznam'!$A$6:$G$905,3) -> 147125000215 | C18: =VLOOKUP($B$5,'celkový seznam'!$A$6:$G$905,4) -> 1 | D18: =VLOOKUP($B$5,'celkový seznam'!$A$6:$G$905,5) -> EČ:211100/00000085/2001 | E18: =VLOOKUP($B$5,'celkový seznam'!$A$6:$G$905,6) -> A403H0022H96
A19: =VLOOKUP($B$5,'celkový seznam'!$A$6:$G$905,2) -> REGÁL ARCHIVNÍ POJÍZDNÝ | B19: =VLOOKUP($B$5,'celkový seznam'!$A$6:$G$905,3) -> 147125000215 | C19: =VLOOKUP($B$5,'celkový seznam'!$A$6:$G$905,4) -> 1 | D19: =VLOOKUP($B$5,'celkový seznam'!$A$6:$G$905,5) -> EČ:211100/00000085/2001 | E19: =VLOOKUP($B$5,'celkový seznam'!$A$6:$G$905,6) -> A403H0022H96
A20: =VLOOKUP($B$5,'celkový seznam'!$A$6:$G$905,2) -> REGÁL ARCHIVNÍ POJÍZDNÝ | B20: =VLOOKUP($B$5,'celkový seznam'!$A$6:$G$905,3) -> 147125000215 | C20: =VLOOKUP($B$5,'celkový seznam'!$A$6:$G$905,4) -> 1 | D20: =VLOOKUP($B$5,'celkový seznam'!$A$6:$G$905,5) -> EČ:211100/00000085/2001 | E20: =VLOOKUP($B$5,'celkový seznam'!$A$6:$G$905,6) -> A403H0022H96
... A37: =VLOOKUP($B$5,'celkový seznam'!$A$6:$G$905,2) -> REGÁL ARCHIVNÍ POJÍZDNÝ | B37: =VLOOKUP($B$5,'celkový seznam'!$A$6:$G$905,3) -> 147125000215 | C37: =VLOOKUP($B$5,'celkový seznam'!$A$6:$G$905,4) -> 1 | D37: =VLOOKUP($B$5,'celkový seznam'!$A$6:$G$905,5) -> EČ:211100/00000085/2001 | E37: =VLOOKUP($B$5,'celkový seznam'!$A$6:$G$905,6) -> A403H0022H96
A39: JAKÉKOLIV ZMĚNY JSOU POVOLENY JEN V DOHODĚ S OSOBOU ODPOVĚDNOU
A40: ZA MATERIÁL
B43: Dne: ……………………………………..
A48: Pustayová Zdeňka
A49: jméno předávajícího a podpis | D49: jméno přebírajícího a podpis

Sheet List1
