Workbook

Sheet rok
A1: 2019 | B1: Leden | C1: hod. | D1: II | E1: Únor | F1: hod. | G1: III | H1: Březen | I1: hod. | J1: IV | K1: Duben | L1: hod. | M1: V | N1: Květen | O1: hod. | P1: VI | Q1: Červen | R1: hod. | S1: VII | T1: Červenec | U1: hod. | V1: VIII | W1: Srpen | X1: hod. | Y1: IX | Z1: Září | AA1: hod. | AB1: X | AC1: Říjen | AD1: hod. | AE1: XI | AF1: Listopad | AG1: hod. | AH1: XII | AI1: Prosinec | AJ1: hod.
A2: 1 | D2: 1 | G2: 1 | J2: 1 | M2: 1 | P2: 1 | S2: 1 | V2: 1 | Y2: 1 | AB2: 1 | AE2: 1 | AH2: 1
A3: =IF(MOD(A2,7)=B$29,A2+2,A2+1) -> 2 | D3: =IF(MOD(D2,7)=E$29,D2+2,D2+1) -> 2 | G3: =IF(MOD(G2,7)=H$29,G2+2,G2+1) -> 2 | J3: =IF(MOD(J2,7)=K$29,J2+2,J2+1) -> 2 | M3: =IF(MOD(M2,7)=N$29,M2+2,M2+1) -> 2 | P3: =IF(MOD(P2,7)=Q$29,P2+2,P2+1) -> 3 | S3: =IF(MOD(S2,7)=T$29,S2+2,S2+1) -> 2 | V3: =IF(MOD(V2,7)=W$29,V2+2,V2+1) -> 2 | Y3: =IF(MOD(Y2,7)=Z$29,Y2+2,Y2+1) -> 2 | AB3: =IF(MOD(AB2,7)=AC$29,AB2+2,AB2+1) -> 2 | AE3: =IF(MOD(AE2,7)=AF$29,AE2+2,AE2+1) -> 2 | AH3: =IF(MOD(AH2,7)=AI$29,AH2+2,AH2+1) -> 2
A4: =IF(MOD(A3,7)=B$29,A3+2,A3+1) -> 3 | D4: =IF(MOD(D3,7)=E$29,D3+2,D3+1) -> 4 | G4: =IF(MOD(G3,7)=H$29,G3+2,G3+1) -> 4 | J4: =IF(MOD(J3,7)=K$29,J3+2,J3+1) -> 3 | M4: =IF(MOD(M3,7)=N$29,M3+2,M3+1) -> 3 | P4: =IF(MOD(P3,7)=Q$29,P3+2,P3+1) -> 4 | S4: =IF(MOD(S3,7)=T$29,S3+2,S3+1) -> 3 | V4: =IF(MOD(V3,7)=W$29,V3+2,V3+1) -> 3 | Y4: =IF(MOD(Y3,7)=Z$29,Y3+2,Y3+1) -> 3 | AB4: =IF(MOD(AB3,7)=AC$29,AB3+2,AB3+1) -> 3 | AE4: =IF(MOD(AE3,7)=AF$29,AE3+2,AE3+1) -> 4 | AH4: =IF(MOD(AH3,7)=AI$29,AH3+2,AH3+1) -> 3
A5: =IF(MOD(A4,7)=B$29,A4+2,A4+1) -> 4 | D5: =IF(MOD(D4,7)=E$29,D4+2,D4+1) -> 5 | G5: =IF(MOD(G4,7)=H$29,G4+2,G4+1) -> 5 | J5: =IF(MOD(J4,7)=K$29,J4+2,J4+1) -> 4 | M5: =IF(MOD(M4,7)=N$29,M4+2,M4+1) -> 4 | P5: =IF(MOD(P4,7)=Q$29,P4+2,P4+1) -> 5 | S5: =IF(MOD(S4,7)=T$29,S4+2,S4+1) -> 4 | V5: =IF(MOD(V4,7)=W$29,V4+2,V4+1) -> 5 | Y5: =IF(MOD(Y4,7)=Z$29,Y4+2,Y4+1) -> 4 | AB5: =IF(MOD(AB4,7)=AC$29,AB4+2,AB4+1) -> 4 | AE5: =IF(MOD(AE4,7)=AF$29,AE4+2,AE4+1) -> 5 | AH5: =IF(MOD(AH4,7)=AI$29,AH4+2,AH4+1) -> 4
A6: =IF(MOD(A5,7)=B$29,A5+2,A5+1) -> 5 | D6: =IF(MOD(D5,7)=E$29,D5+2,D5+1) -> 6 | G6: =IF(MOD(G5,7)=H$29,G5+2,G5+1) -> 6 | J6: =IF(MOD(J5,7)=K$29,J5+2,J5+1) -> 5 | M6: =IF(MOD(M5,7)=N$29,M5+2,M5+1) -> 6 | P6: =IF(MOD(P5,7)=Q$29,P5+2,P5+1) -> 6 | S6: =IF(MOD(S5,7)=T$29,S5+2,S5+1) -> 5 | V6: =IF(MOD(V5,7)=W$29,V5+2,V5+1) -> 6 | Y6: =IF(MOD(Y5,7)=Z$29,Y5+2,Y5+1) -> 5 | AB6: =IF(MOD(AB5,7)=AC$29,AB5+2,AB5+1) -> 5 | AE6: =IF(MOD(AE5,7)=AF$29,AE5+2,AE5+1) -> 6 | AH6: =IF(MOD(AH5,7)=AI$29,AH5+2,AH5+1) -> 5
A7: =IF(MOD(A6,7)=B$29,A6+2,A6+1) -> 7 | D7: =IF(MOD(D6,7)=E$29,D6+2,D6+1) -> 7 | G7: =IF(MOD(G6,7)=H$29,G6+2,G6+1) -> 7 | J7: =IF(MOD(J6,7)=K$29,J6+2,J6+1) -> 6 | M7: =IF(MOD(M6,7)=N$29,M6+2,M6+1) -> 7 | P7: =IF(MOD(P6,7)=Q$29,P6+2,P6+1) -> 7 | S7: =IF(MOD(S6,7)=T$29,S6+2,S6+1) -> 6 | V7: =IF(MOD(V6,7)=W$29,V6+2,V6+1) -> 7 | Y7: =IF(MOD(Y6,7)=Z$29,Y6+2,Y6+1) -> 6 | AB7: =IF(MOD(AB6,7)=AC$29,AB6+2,AB6+1) -> 7 | AE7: =IF(MOD(AE6,7)=AF$29,AE6+2,AE6+1) -> 7 | AH7: =IF(MOD(AH6,7)=AI$29,AH6+2,AH6+1) -> 6
A8: =IF(MOD(A7,7)=B$29,A7+2,A7+1) -> 8 | D8: =IF(MOD(D7,7)=E$29,D7+2,D7+1) -> 8 | G8: =IF(MOD(G7,7)=H$29,G7+2,G7+1) -> 8 | J8: =IF(MOD(J7,7)=K$29,J7+2,J7+1) -> 8 | M8: =IF(MOD(M7,7)=N$29,M7+2,M7+1) -> 8 | P8: =IF(MOD(P7,7)=Q$29,P7+2,P7+1) -> 8 | S8: =IF(MOD(S7,7)=T$29,S7+2,S7+1) -> 8 | V8: =IF(MOD(V7,7)=W$29,V7+2,V7+1) -> 8 | Y8: =IF(MOD(Y7,7)=Z$29,Y7+2,Y7+1) -> 7 | AB8: =IF(MOD(AB7,7)=AC$29,AB7+2,AB7+1) -> 8 | AE8: =IF(MOD(AE7,7)=AF$29,AE7+2,AE7+1) -> 8 | AH8: =IF(MOD(AH7,7)=AI$29,AH7+2,AH7+1) -> 7
A9: =IF(MOD(A8,7)=B$29,A8+2,A8+1) -> 9 | D9: =IF(MOD(D8,7)=E$29,D8+2,D8+1) -> 9 | G9: =IF(MOD(G8,7)=H$29,G8+2,G8+1) -> 9 | J9: =IF(MOD(J8,7)=K$29,J8+2,J8+1) -> 9 | M9: =IF(MOD(M8,7)=N$29,M8+2,M8+1) -> 9 | P9: =IF(MOD(P8,7)=Q$29,P8+2,P8+1) -> 10 | S9: =IF(MOD(S8,7)=T$29,S8+2,S8+1) -> 9 | V9: =IF(MOD(V8,7)=W$29,V8+2,V8+1) -> 9 | Y9: =IF(MOD(Y8,7)=Z$29,Y8+2,Y8+1) -> 9 | AB9: =IF(MOD(AB8,7)=AC$29,AB8+2,AB8+1) -> 9 | AE9: =IF(MOD(AE8,7)=AF$29,AE8+2,AE8+1) -> 9 | AH9: =IF(MOD(AH8,7)=AI$29,AH8+2,AH8+1) -> 9
A10: =IF(MOD(A9,7)=B$29,A9+2,A9+1) -> 10 | D10: =IF(MOD(D9,7)=E$29,D9+2,D9+1) -> 11 | G10: =IF(MOD(G9,7)=H$29,G9+2,G9+1) -> 11 | J10: =IF(MOD(J9,7)=K$29,J9+2,J9+1) -> 10 | M10: =IF(MOD(M9,7)=N$29,M9+2,M9+1) -> 10 | P10: =IF(MOD(P9,7)=Q$29,P9+2,P9+1) -> 11 | S10: =IF(MOD(S9,7)=T$29,S9+2,S9+1) -> 10 | V10: =IF(MOD(V9,7)=W$29,V9+2,V9+1) -> 10 | Y10: =IF(MOD(Y9,7)=Z$29,Y9+2,Y9+1) -> 10 | AB10: =IF(MOD(AB9,7)=AC$29,AB9+2,AB9+1) -> 10 | AE10: =IF(MOD(AE9,7)=AF$29,AE9+2,AE9+1) -> 11 | AH10: =IF(MOD(AH9,7)=AI$29,AH9+2,AH9+1) -> 10
A11: =IF(MOD(A10,7)=B$29,A10+2,A10+1) -> 11 | D11: =IF(MOD(D10,7)=E$29,D10+2,D10+1) -> 12 | G11: =IF(MOD(G10,7)=H$29,G10+2,G10+1) -> 12 | J11: =IF(MOD(J10,7)=K$29,J10+2,J10+1) -> 11 | M11: =IF(MOD(M10,7)=N$29,M10+2,M10+1) -> 11 | P11: =IF(MOD(P10,7)=Q$29,P10+2,P10+1) -> 12 | S11: =IF(MOD(S10,7)=T$29,S10+2,S10+1) -> 11 | V11: =IF(MOD(V10,7)=W$29,V10+2,V10+1) -> 12 | Y11: =IF(MOD(Y10,7)=Z$29,Y10+2,Y10+1) -> 11 | AB11: =IF(MOD(AB10,7)=AC$29,AB10+2,AB10+1) -> 11 | AE11: =IF(MOD(AE10,7)=AF$29,AE10+2,AE10+1) -> 12 | AH11: =IF(MOD(AH10,7)=AI$29,AH10+2,AH10+1) -> 11
A12: =IF(MOD(A11,7)=B$29,A11+2,A11+1) -> 12 | D12: =IF(MOD(D11,7)=E$29,D11+2,D11+1) -> 13 | G12: =IF(MOD(G11,7)=H$29,G11+2,G11+1) -> 13 | J12: =IF(MOD(J11,7)=K$29,J11+2,J11+1) -> 12 | M12: =IF(MOD(M11,7)=N$29,M11+2,M11+1) -> 13 | P12: =IF(MOD(P11,7)=Q$29,P11+2,P11+1) -> 13 | S12: =IF(MOD(S11,7)=T$29,S11+2,S11+1) -> 12 | V12: =IF(MOD(V11,7)=W$29,V11+2,V11+1) -> 13 | Y12: =IF(MOD(Y11,7)=Z$29,Y11+2,Y11+1) -> 12 | AB12: =IF(MOD(AB11,7)=AC$29,AB11+2,AB11+1) -> 12 | AE12: =IF(MOD(AE11,7)=AF$29,AE11+2,AE11+1) -> 13 | AH12: =IF(MOD(AH11,7)=AI$29,AH11+2,AH11+1) -> 12
A13: =IF(MOD(A12,7)=B$29,A12+2,A12+1) -> 14 | D13: =IF(MOD(D12,7)=E$29,D12+2,D12+1) -> 14 | G13: =IF(MOD(G12,7)=H$29,G12+2,G12+1) -> 14 | J13: =IF(MOD(J12,7)=K$29,J12+2,J12+1) -> 13 | M13: =IF(MOD(M12,7)=N$29,M12+2,M12+1) -> 14 | P13: =IF(MOD(P12,7)=Q$29,P12+2,P12+1) -> 14 | S13: =IF(MOD(S12,7)=T$29,S12+2,S12+1) -> 13 | V13: =IF(MOD(V12,7)=W$29,V12+2,V12+1) -> 14 | Y13: =IF(MOD(Y12,7)=Z$29,Y12+2,Y12+1) -> 13 | AB13: =IF(MOD(AB12,7)=AC$29,AB12+2,AB12+1) -> 14 | AE13: =IF(MOD(AE12,7)=AF$29,AE12+2,AE12+1) -> 14 | AH13: =IF(MOD(AH12,7)=AI$29,AH12+2,AH12+1) -> 13
A14: =IF(MOD(A13,7)=B$29,A13+2,A13+1) -> 15 | D14: =IF(MOD(D13,7)=E$29,D13+2,D13+1) -> 15 | G14: =IF(MOD(G13,7)=H$29,G13+2,G13+1) -> 15 | J14: =IF(MOD(J13,7)=K$29,J13+2,J13+1) -> 15 | M14: =IF(MOD(M13,7)=N$29,M13+2,M13+1) -> 15 | P14: =IF(MOD(P13,7)=Q$29,P13+2,P13+1) -> 15 | S14: =IF(MOD(S13,7)=T$29,S13+2,S13+1) -> 15 | V14: =IF(MOD(V13,7)=W$29,V13+2,V13+1) -> 15 | Y14: =IF(MOD(Y13,7)=Z$29,Y13+2,Y13+1) -> 14 | AB14: =IF(MOD(AB13,7)=AC$29,AB13+2,AB13+1) -> 15 | AE14: =IF(MOD(AE13,7)=AF$29,AE13+2,AE13+1) -> 15 | AH14: =IF(MOD(AH13,7)=AI$29,AH13+2,AH13+1) -> 14
... A28: =IF(MOD(A27,7)=B$29,A27+2,A27+1) -> 31 | D28: =IF(MOD(D27,7)=E$29,D27+2,D27+1) -> 32 | G28: =IF(MOD(G27,7)=H$29,G27+2,G27+1) -> 32 | J28: =IF(MOD(J27,7)=K$29,J27+2,J27+1) -> 31 | M28: =IF(MOD(M27,7)=N$29,M27+2,M27+1) -> 31 | P28: =IF(MOD(P27,7)=Q$29,P27+2,P27+1) -> 32 | S28: =IF(MOD(S27,7)=T$29,S27+2,S27+1) -> 31 | V28: =IF(MOD(V27,7)=W$29,V27+2,V27+1) -> 31 | Y28: =IF(MOD(Y27,7)=Z$29,Y27+2,Y27+1) -> 31 | AB28: =IF(MOD(AB27,7)=AC$29,AB27+2,AB27+1) -> 31 | AE28: =IF(MOD(AE27,7)=AF$29,AE27+2,AE27+1) -> 32 | AH28: =IF(MOD(AH27,7)=AI$29,AH27+2,AH27+1) -> 31
A29: =vypocty!B8 -> 31 | B29: =vypocty!B12 -> 5 | C29: =SUM(C2:C28) -> 0 | D29: =vypocty!D8 -> 28 | E29: =vypocty!D12 -> 2 | F29: =SUM(F2:F28) -> 0 | G29: =vypocty!F8 -> 31 | H29: =vypocty!F12 -> 2 | I29: =SUM(I2:I28) -> 0 | J29: =vypocty!H8 -> 30 | K29: =vypocty!H12 -> 6 | L29: =SUM(L2:L28) -> 0 | M29: =vypocty!J8 -> 31 | N29: =vypocty!J12 -> 4 | O29: =SUM(O2:O28) -> 0 | P29: =vypocty!L8 -> 30 | Q29: =vypocty!L12 -> 1 | R29: =SUM(R2:R28) -> 0 | S29: =vypocty!N8 -> 31 | T29: =vypocty!N12 -> 6 | U29: =SUM(U2:U28) -> 0 | V29: =vypocty!P8 -> 31 | W29: =vypocty!P12 -> 3 | X29: =SUM(X2:X28) -> 0 | Y29: =vypocty!R8 -> 30 | Z29: =vypocty!R12 -> 0 | AA29: =SUM(AA2:AA28) -> 0 | AB29: =vypocty!T8 -> 31 | AC29: =vypocty!T12 -> 5 | AD29: =SUM(AD2:AD28) -> 0 | AE29: =vypocty!V8 -> 30 | AF29: =vypocty!V12 -> 2 | AG29: =SUM(AG2:AG28) -> 0 | AH29: =vypocty!X8 -> 31 | AI29: =vypocty!X12 -> 0 | AJ29: =SUM(AJ2:AJ28) -> 0
A30: =TODAY() -> 43646 | B30: Hotovo
A31: End:
A32: řeší se:
A34: =vypocty!B5 -> 1 | B34: Roční úkoly
A35: 2 - high | B35: 1 | E35: 2 | H35: 3 | K35: 4 | N35: 5 | Q35: 6 | T35: 7 | W35: 8 | Z35: 9 | AC35: 10 | AF35: 11 | AI35: brmbolec
A36: 1 - běžné | B36: 1 | E36: 2 | H36: 3 | K36: 4 | N36: 5 | Q36: 6 | T36: 7 | W36: 8 | Z36: 9 | AC36: 10 | AF36: 11 | AI36: 12
A37: 0 - low | B37: 1 | E37: 2 | H37: 3 | K37: 4 | N37: 5 | Q37: 6 | T37: 7 | W37: 8 | Z37: 9 | AC37: 10 | AF37: 11 | AI37: 12

Sheet ukoly
A1: =CONCATENATE(rok!A35," ","(import z ročního plánu):") -> 2 - high (import z ročního plánu): | B1: popis práce - poznámky:
A2: =rok!B35 -> 1
A3: =rok!E35 -> 2
A4: =rok!H35 -> 3
A5: =rok!K35 -> 4
A6: =rok!Q35 -> 6
A7: =rok!T35 -> 7
A8: =rok!W35 -> 8
A9: =rok!Z35 -> 9
A10: =rok!AC35 -> 10
A11: =rok!AF35 -> 11
A12: =rok!AI35 -> brmbolec
A13: =CONCATENATE(rok!A36," ","(import z ročního plánu):") -> 1 - běžné (import z ročního plánu): | B13: =B1 -> popis práce - poznámky:
A14: =rok!B36 -> 1
A15: =rok!E36 -> 2
A16: =rok!H36 -> 3
A17: =rok!K36 -> 4
A18: =rok!N36 -> 5
A19: =rok!Q36 -> 6
A20: =rok!T36 -> 7
A21: =rok!W36 -> 8
A22: =rok!Z36 -> 9
A23: =rok!AC36 -> 10
A24: =rok!AF36 -> 11
A25: =rok!AI36 -> 12
A26: =CONCATENATE(rok!A37," ","(import z ročního plánu):") -> 0 - low (import z ročního plánu): | B26: =B1 -> popis práce - poznámky:
A27: =rok!B37 -> 1
A28: =rok!E37 -> 2
A29: =rok!H37 -> 3
A30: =rok!K37 -> 4
A31: =rok!N37 -> 5
A32: =rok!Q37 -> 6
A33: =rok!T37 -> 7
A34: =rok!W37 -> 8
A35: =rok!Z37 -> 9
A36: =rok!AC37 -> 10
A37: =rok!AF37 -> 11
A38: =rok!AI37 -> 12

Sheet zakazky
A1: =rok!A1 -> 2019 | C1: =rok!B1 -> Leden | D1: č.zakázky, poznámky | E1: hledat: | F1: ft_
A2: =vypocty!B8 -> 31 | B2: =rok!A2 -> 1 | C2: =rok!B2 -> 0 | F2: =IFERROR(SEARCH($F$1,C2),0) -> 0
B3: =rok!A3 -> 2 | C3: =rok!B3 -> 0 | F3: =IFERROR(SEARCH($F$1,C3),0) -> 0
B4: =rok!A4 -> 3 | C4: =rok!B4 -> 0 | F4: =IFERROR(SEARCH($F$1,C4),0) -> 0
B5: =rok!A5 -> 4 | C5: =rok!B5 -> 0 | F5: =IFERROR(SEARCH($F$1,C5),0) -> 0
B6: =rok!A6 -> 5 | C6: =rok!B6 -> 0 | F6: =IFERROR(SEARCH($F$1,C6),0) -> 0
B7: =rok!A7 -> 7 | C7: =rok!B7 -> 0 | F7: =IFERROR(SEARCH($F$1,C7),0) -> 0
B8: =rok!A8 -> 8 | C8: =rok!B8 -> 0 | F8: =IFERROR(SEARCH($F$1,C8),0) -> 0
B9: =rok!A9 -> 9 | C9: =rok!B9 -> 0 | F9: =IFERROR(SEARCH($F$1,C9),0) -> 0
B10: =rok!A10 -> 10 | C10: =rok!B10 -> 0 | F10: =IFERROR(SEARCH($F$1,C10),0) -> 0
B11: =rok!A11 -> 11 | C11: =rok!B11 -> 0 | F11: =IFERROR(SEARCH($F$1,C11),0) -> 0
B12: =rok!A12 -> 12 | C12: =rok!B12 -> 0 | F12: =IFERROR(SEARCH($F$1,C12),0) -> 0
B13: =rok!A13 -> 14 | C13: =rok!B13 -> 0 | F13: =IFERROR(SEARCH($F$1,C13),0) -> 0
B14: =rok!A14 -> 15 | C14: =rok!B14 -> 0 | F14: =IFERROR(SEARCH($F$1,C14),0) -> 0
... B28: =rok!A28 -> 31 | C28: =rok!B28 -> 0 | F28: =IFERROR(SEARCH($F$1,C28),0) -> 0
B29: =rok!D1 -> II | C29: =rok!E1 -> Únor | D29: =$D$1 -> č.zakázky, poznámky
A30: =vypocty!D8 -> 28 | B30: =rok!D2 -> 1 | C30: =rok!E2 -> 0 | F30: =IFERROR(SEARCH($F$1,C30),0) -> 0
B31: =rok!D3 -> 2 | C31: =rok!E3 -> 0 | F31: =IFERROR(SEARCH($F$1,C31),0) -> 0
B32: =rok!D4 -> 4 | C32: =rok!E4 -> 0 | F32: =IFERROR(SEARCH($F$1,C32),0) -> 0
B33: =rok!D5 -> 5 | C33: =rok!E5 -> 0 | F33: =IFERROR(SEARCH($F$1,C33),0) -> 0
B34: =rok!D6 -> 6 | C34: =rok!E6 -> 0 | F34: =IFERROR(SEARCH($F$1,C34),0) -> 0
B35: =rok!D7 -> 7 | C35: =rok!E7 -> 0 | F35: =IFERROR(SEARCH($F$1,C35),0) -> 0
B36: =rok!D8 -> 8 | C36: =rok!E8 -> 0 | F36: =IFERROR(SEARCH($F$1,C36),0) -> 0
B37: =rok!D9 -> 9 | C37: =rok!E9 -> 0 | F37: =IFERROR(SEARCH($F$1,C37),0) -> 0
B38: =rok!D10 -> 11 | C38: =rok!E10 -> 0 | F38: =IFERROR(SEARCH($F$1,C38),0) -> 0
B39: =rok!D11 -> 12 | C39: =rok!E11 -> 0 | F39: =IFERROR(SEARCH($F$1,C39),0) -> 0
B40: =rok!D12 -> 13 | C40: =rok!E12 -> 0 | F40: =IFERROR(SEARCH($F$1,C40),0) -> 0
B41: =rok!D13 -> 14 | C41: =rok!E13 -> 0 | F41: =IFERROR(SEARCH($F$1,C41),0) -> 0
B42: =rok!D14 -> 15 | C42: =rok!E14 -> 0 | F42: =IFERROR(SEARCH($F$1,C42),0) -> 0
... B55: =rok!D27 -> 30 | C55: =rok!E27 -> 0 | F55: =IFERROR(SEARCH($F$1,C55),0) -> 0
F56: =IFERROR(SEARCH($F$1,C56),0) -> 0
B57: =rok!G1 -> III | C57: =rok!H1 -> Březen | D57: =$D$1 -> č.zakázky, poznámky
A58: =vypocty!F8 -> 31 | B58: =rok!G2 -> 1 | C58: =rok!H2 -> 0 | F58: =IFERROR(SEARCH($F$1,C58),0) -> 0
B59: =rok!G3 -> 2 | C59: =rok!H3 -> 0 | F59: =IFERROR(SEARCH($F$1,C59),0) -> 0
B60: =rok!G4 -> 4 | C60: =rok!H4 -> 0 | F60: =IFERROR(SEARCH($F$1,C60),0) -> 0
B61: =rok!G5 -> 5 | C61: =rok!H5 -> 0 | F61: =IFERROR(SEARCH($F$1,C61),0) -> 0
B62: =rok!G6 -> 6 | C62: =rok!H6 -> 0 | F62: =IFERROR(SEARCH($F$1,C62),0) -> 0
B63: =rok!G7 -> 7 | C63: =rok!H7 -> 0 | F63: =IFERROR(SEARCH($F$1,C63),0) -> 0
B64: =rok!G8 -> 8 | C64: =rok!H8 -> 0 | F64: =IFERROR(SEARCH($F$1,C64),0) -> 0
B65: =rok!G9 -> 9 | C65: =rok!H9 -> 0 | F65: =IFERROR(SEARCH($F$1,C65),0) -> 0
...

Sheet vypocty
A1: dny v měsíci, dle: | C1: http://kalendar.beda.cz/jak-jednoduse-zjistit-den-v-tydnu-pro-dane-datum
B2: =rok!A1 -> 2019 | C2: cesta
A3: kalendář z 1.listu | B3: =rok!A1 -> 2019 | C3: přestupný | D3: =IF(MOD(B3,4)=0,1,0) -> 0
A4: výpočet 1.1. dle beda.cz | B4: =MOD(INT((B3-2000)*1.25)+6+1-D3,7) -> 2 | C4: Po=1, Ne=0
A5: týden 1.1. | B5: =IF(B11<5,1,0) -> 1
B7: Leden | D7: Únor | F7: Březen | H7: Duben | J7: Květen | L7: Červen | N7: Červenec | P7: Srpen | R7: Září | T7: Říjen | V7: Listopad | X7: Prosinec
B8: 31 | D8: =28+D3 -> 28 | F8: 31 | H8: 30 | J8: 31 | L8: 30 | N8: 31 | P8: 31 | R8: 30 | T8: 31 | V8: 30 | X8: 31
A9: posun nový měsíc: | B9: =B8-28 -> 3 | D9: =D8-28 -> 0 | F9: =F8-28 -> 3 | H9: =H8-28 -> 2 | J9: =J8-28 -> 3 | L9: =L8-28 -> 2 | N9: =N8-28 -> 3 | P9: =P8-28 -> 3 | R9: =R8-28 -> 2 | T9: =T8-28 -> 3 | V9: =V8-28 -> 2
A10: 1.měsíce: | B10: =B4 -> 2 | D10: =MOD(B10+B9,7) -> 5 | F10: =MOD(D10+D9,7) -> 5 | H10: =MOD(F10+F9,7) -> 1 | J10: =MOD(H10+H9,7) -> 3 | L10: =MOD(J10+J9,7) -> 6 | N10: =MOD(L10+L9,7) -> 1 | P10: =MOD(N10+N9,7) -> 4 | R10: =MOD(P10+P9,7) -> 0 | T10: =MOD(R10+R9,7) -> 2 | V10: =MOD(T10+T9,7) -> 5 | X10: =MOD(V10+V9,7) -> 0
A11: 1. s opravou Neděle=7: | B11: =IF(B10=0,7,B10) -> 2 | D11: =IF(D10=0,7,D10) -> 5 | F11: =IF(F10=0,7,F10) -> 5 | H11: =IF(H10=0,7,H10) -> 1 | J11: =IF(J10=0,7,J10) -> 3 | L11: =IF(L10=0,7,L10) -> 6 | N11: =IF(N10=0,7,N10) -> 1 | P11: =IF(P10=0,7,P10) -> 4 | R11: =IF(R10=0,7,R10) -> 7 | T11: =IF(T10=0,7,T10) -> 2 | V11: =IF(V10=0,7,V10) -> 5 | X11: =IF(X10=0,7,X10) -> 7
A12: datum víkendu, So= 0: | B12: =IF(B10=0,0,7-B10) -> 5 | D12: =IF(D10=0,0,7-D10) -> 2 | F12: =IF(F10=0,0,7-F10) -> 2 | H12: =IF(H10=0,0,7-H10) -> 6 | J12: =IF(J10=0,0,7-J10) -> 4 | L12: =IF(L10=0,0,7-L10) -> 1 | N12: =IF(N10=0,0,7-N10) -> 6 | P12: =IF(P10=0,0,7-P10) -> 3 | R12: =IF(R10=0,0,7-R10) -> 0 | T12: =IF(T10=0,0,7-T10) -> 5 | V12: =IF(V10=0,0,7-V10) -> 2 | X12: =IF(X10=0,0,7-X10) -> 0
A14: vzorec, nepoužito: | B14: rok | C14: začíná
B15: 2000 | C15: 6
B16: 2001 | C16: 1
B17: 2002 | C17: 2
B18: 2003 | C18: 3
B19: 2004 | C19: 4
B20: 2005 | C20: 6
B21: 2006 | C21: 7
B22: 2007 | C22: 1
B23: 2008 | C23: 3
B24: 2009 | C24: 4
B25: 2010 | C25: 5
B26: 2011 | C26: 6
... B45: 2030 | C45: 2
