Workbook

Sheet List1
A2: A | B2: B | C2: A
A3: 1 | B3: 1 | C3: 1
A4: 2 | B4: 2 | C4: 2
A5: 3 | B5: 3 | C5: 3
A6: 4 | B6: 4 | C6: 4
A7: 5 | B7: 5 | C7: 5
A8: 6 | B8: 6 | C8: 6
A9: 7 | B9: 7 | C9: 7
A10: 8 | B10: 8 | C10: 8
A11: 9 | B11: 9 | C11: 9
A12: 10 | B12: 10 | C12: 10

Sheet List2
A2: C | B2: D | C2: C
A3: 11 | B3: 11 | C3: 11
A4: 22 | B4: 22 | C4: 22
A5: 33 | B5: 33 | C5: 33
A6: 44 | B6: 44 | C6: 44
A7: 55 | B7: 55 | C7: 55
A8: 66 | B8: 66 | C8: 66
A9: 77 | B9: 77 | C9: 77
A10: 88 | B10: 88 | C10: 88
A11: 99 | B11: 99 | C11: 99
A12: 100 | B12: 100 | C12: 100

Sheet List3
A4: =SUMIF(List1!A$2:C$2,"A",List1!A3:C3) -> 2 | F4: =SUMIF(List1!A$2:C$2,"A",INDIRECT("List1!A"&ROW()/2+1&":C"&ROW()/2+1)) -> 2
A5: =SUMIF(List2!A$2:C$2,"C",List2!A3:C3) -> 22 | F5: =SUMIF(List2!A$2:C$2,"C",INDIRECT("List2!A"&(ROW()-1)/2+1&":C"&(ROW()-1)/2+1)) -> 22
A6: =SUMIF(List1!A$2:C$2,"A",List1!A5:C5) -> 6 | B6: =SUMIF(List1!A$2:C$2,"A",List1!A4:C4) -> 4 | F6: =SUMIF(List1!A$2:C$2,"A",INDIRECT("List1!A"&ROW()/2+1&":C"&ROW()/2+1)) -> 4
A7: =SUMIF(List2!A$2:C$2,"C",List2!A5:C5) -> 66 | B7: =SUMIF(List2!A$2:C$2,"C",List2!A4:C4) -> 44 | F7: =SUMIF(List2!A$2:C$2,"C",INDIRECT("List2!A"&(ROW()-1)/2+1&":C"&(ROW()-1)/2+1)) -> 44
F8: =SUMIF(List1!A$2:C$2,"A",INDIRECT("List1!A"&ROW()/2+1&":C"&ROW()/2+1)) -> 6
F9: =SUMIF(List2!A$2:C$2,"C",INDIRECT("List2!A"&(ROW()-1)/2+1&":C"&(ROW()-1)/2+1)) -> 66
F10: =SUMIF(List1!A$2:C$2,"A",INDIRECT("List1!A"&ROW()/2+1&":C"&ROW()/2+1)) -> 8
F11: =SUMIF(List2!A$2:C$2,"C",INDIRECT("List2!A"&(ROW()-1)/2+1&":C"&(ROW()-1)/2+1)) -> 88
F12: =SUMIF(List1!A$2:C$2,"A",INDIRECT("List1!A"&ROW()/2+1&":C"&ROW()/2+1)) -> 10
F13: =SUMIF(List2!A$2:C$2,"C",INDIRECT("List2!A"&(ROW()-1)/2+1&":C"&(ROW()-1)/2+1)) -> 110
F14: =SUMIF(List1!A$2:C$2,"A",INDIRECT("List1!A"&ROW()/2+1&":C"&ROW()/2+1)) -> 12
F15: =SUMIF(List2!A$2:C$2,"C",INDIRECT("List2!A"&(ROW()-1)/2+1&":C"&(ROW()-1)/2+1)) -> 132
F16: =SUMIF(List1!A$2:C$2,"A",INDIRECT("List1!A"&ROW()/2+1&":C"&ROW()/2+1)) -> 14
F17: =SUMIF(List2!A$2:C$2,"C",INDIRECT("List2!A"&(ROW()-1)/2+1&":C"&(ROW()-1)/2+1)) -> 154
F18: =SUMIF(List1!A$2:C$2,"A",INDIRECT("List1!A"&ROW()/2+1&":C"&ROW()/2+1)) -> 16
F19: =SUMIF(List2!A$2:C$2,"C",INDIRECT("List2!A"&(ROW()-1)/2+1&":C"&(ROW()-1)/2+1)) -> 176
F20: =SUMIF(List1!A$2:C$2,"A",INDIRECT("List1!A"&ROW()/2+1&":C"&ROW()/2+1)) -> 18
F21: =SUMIF(List2!A$2:C$2,"C",INDIRECT("List2!A"&(ROW()-1)/2+1&":C"&(ROW()-1)/2+1)) -> 198
F22: =SUMIF(List1!A$2:C$2,"A",INDIRECT("List1!A"&ROW()/2+1&":C"&ROW()/2+1)) -> 20
F23: =SUMIF(List2!A$2:C$2,"C",INDIRECT("List2!A"&(ROW()-1)/2+1&":C"&(ROW()-1)/2+1)) -> 200
