Workbook

Sheet Souhrn
A3: Inventární č. | B3: Popis | C3: Celkem odpracováno Mhd | D3: odpracováno od servisu do servisu | E3: Zbývá do servisu Mhd | F3: Další servis | G3: Předchozí servis
A4: 45 | B4: Terex TL 70 | C4: ='45-Terex-TL70'!O7 -> 7619 | D4: ='45-Terex-TL70'!O9 -> 485 | E4: =SUM(F4-C4) -> 31 | F4: =G4+500 -> 7650 | G4: 7150 | M4: 0-400
A5: 68 | B5: JCB 406B | C5: ='68-JCB-406B'!O7 -> 6487.8 | D5: ='68-JCB-406B'!O9 -> 384.8 | E5: =SUM(F5-C5) -> 115.2 | F5: =G5+500 -> 6603 | G5: 6103 | M5: 401-450
A6: 74 | B6: JCB 406 | C6: ='74-JCB-406'!O7 -> 5450.1 | D6: ='74-JCB-406'!O9 -> 173.8 | E6: =SUM(F6-C6) -> 356.9 | F6: =G6+500 -> 5807 | G6: 5307 | M6: 451-480
A7: 148 | B7: KRAMEK 750 | C7: ='148-Kramek-750'!O7 -> 1576.8 | D7: ='148-Kramek-750'!O9 -> 77.2 | E7: =SUM(F7-C7) -> 428.2 | F7: =G7+500 -> 2005 | G7: 1505 | M7: 481-500
A8: 173 | B8: Terex TL 80 | C8: ='173-Terex-TL-80 '!O7 -> 2576.2 | D8: ='173-Terex-TL-80 '!O9 -> 422.2 | E8: =SUM(F8-C8) -> 77.8 | F8: =G8+500 -> 2654 | G8: 2154

Sheet 45-Terex-TL70
A1: 45 - Terex TL 70
A2: Datum | B2: Mth | C2: Odpracováno | D2: Tankování | E2: Průměr | F2: Stavba | G2: Převoz | H2: Tankovaní
B3: 7134
A4: 1.11. | B4: 7232.7 | C4: 98.7
A5: 4.11. | B5: 7243.9 | C5: 11.2 | D5: 37.2 | E5: =D5/C5 -> 3.3214286
A6: 8.11. | B6: 7259.7 | C6: =B6-B5 -> 15.8 | D6: 54.5 | E6: =D6/C6 -> 3.4493671
A7: 11.11. | B7: 7279.8 | C7: =B7-B6 -> 20.1 | D7: 34.5 | E7: =D7/C7 -> 1.7164179 | O7: =MAX(B3:B101) -> 7619
A8: 14.11. | B8: 7291.1 | C8: =B8-B7 -> 11.3 | D8: 22 | E8: =D8/C8 -> 1.9469027
A9: 15.11. | B9: 7297.5 | C9: =B9-B8 -> 6.4 | D9: 51.5 | E9: =D9/C9 -> 8.046875 | O9: =SUM(C3:C100) -> 485
A10: 17.11. | B10: 7309.3 | C10: =B10-B9 -> 11.8 | D10: 25 | E10: =D10/C10 -> 2.1186441 | H10: Kanystr
A11: 18.11. | B11: 7315.4 | C11: =B11-B10 -> 6.1 | D11: 48 | E11: =D11/C11 -> 7.8688525
A12: 21.11. | B12: 7340.1 | C12: =B12-B11 -> 24.7 | D12: 50 | E12: =D12/C12 -> 2.0242915 | H12: Kanystr
A13: 22.11. | B13: 7348.8 | C13: =B13-B12 -> 8.7 | D13: 63 | E13: =D13/C13 -> 7.2413793
A14: 24.11. | B14: 7362.2 | C14: =B14-B13 -> 13.4 | D14: 25 | E14: =D14/C14 -> 1.8656716 | H14: Kanystr
A15: 24.11. | B15: 7367.2 | C15: =B15-B14 -> 5 | D15: 53 | E15: =D15/C15 -> 10.6
A16: 27.11. | B16: 7387.1 | C16: =B16-B15 -> 19.9 | D16: 50 | E16: =D16/C16 -> 2.5125628 | H16: Kanystr
A17: 29.11. | B17: 7397.1 | C17: =B17-B16 -> 10 | D17: 63.8 | E17: =D17/C17 -> 6.38
A18: 1.12. | B18: 7406.1 | C18: =B18-B17 -> 9 | D18: 30 | E18: =D18/C18 -> 3.3333333 | H18: Kanystr
A19: 2.12. | B19: 7418.3 | C19: =B19-B18 -> 12.2 | D19: 59 | E19: =D19/C19 -> 4.8360656
A20: 5.12. | B20: 7438.1 | C20: =B20-B19 -> 19.8 | D20: 50 | E20: =D20/C20 -> 2.5252525 | H20: Kanystr
A21: 7.12. | B21: 7450.7 | C21: =B21-B20 -> 12.6 | D21: 70.4 | E21: =D21/C21 -> 5.5873016
A22: 12.12. | B22: 7475.1 | C22: =B22-B21 -> 24.4 | D22: 65.5 | E22: =D22/C22 -> 2.6844262
A23: 9.1.2023 | B23: 7509.9 | C23: =B23-B22 -> 34.8 | D23: 62.2 | E23: =D23/C23 -> 1.7873563
A24: 13.1.2023 | B24: 7529.1 | D24: 25 | H24: Kanystr
A25: 16.1.2023 | D25: 46.8
A26: 19.1.2023 | B26: 7547.2 | C26: =B26-B23 -> 37.3 | D26: 29.9 | E26: =D26/C26 -> 0.80160858
A27: 23.1.2023 | B27: 7569.6 | D27: 30 | H27: Kanystr
A28: 23.1.2023 | B28: 7572.3 | C28: =B28-B26 -> 25.1 | D28: 36.8 | E28: =D28/C28 -> 1.4661355
A29: 27.1.2023 | B29: 7586.1 | D29: 25 | H29: Kanystr
A30: 30.11.2023 | B30: 7599.8 | C30: =B30-B28 -> 27.5 | D30: 55.4 | E30: =D30/C30 -> 2.0145455
A31: 6.2.2023 | B31: 7608.8 | C31: =B31-B30 -> 9 | D31: 25.8 | E31: =D31/C31 -> 2.8666667
A32: 44986 | B32: 7619 | C32: 10.2 | D32: 46.99 | H32: Koudelka

Sheet 68-JCB-406B
B1: 68 - JCB 406B
B2: Datum | C2: Mth | D2: Odpracováno | E2: Tankování | F2: Průměr | G2: Stavba | H2: Převoz | I2: Tankovaní
C3: 6103
B4: 9.11. | C4: 6256.4 | D4: 153.4 | E4: 72
B5: 13.11. | C5: 6266.54 | D5: =C5-C4 -> 10.14 | E5: 44.4 | F5: =E5/D5 -> 4.3786982
B6: 15.11. | C6: 6285.8 | D6: =C6-C5 -> 19.26 | E6: 58.6 | F6: =E6/D6 -> 3.0425753
B7: 1.12. | C7: 6305.92 | D7: =C7-C6 -> 20.12 | H7: do Zbuch | O7: =MAX(C3:C100) -> 6487.8
B8: 2.12. | C8: 6310 | D8: =C8-C7 -> 4.08 | E8: 30 | F8: =E8/D8 -> 7.3529412 | I8: Kanystr
B9: 2.12. | C9: 6313 | D9: =C9-C8 -> 3 | E9: 30 | F9: =E9/D9 -> 10 | I9: Kanystr | O9: =SUM(D3:D100) -> 384.8
B10: 7.12. | C10: 6321.7 | D10: =C10-C9 -> 8.7 | E10: 71.5 | F10: =E10/D10 -> 8.2183908
B11: 13.12. | C11: 6335.5 | D11: =C11-C10 -> 13.8 | E11: 30 | F11: =E11/D11 -> 2.173913 | I11: Kanystr
B12: 15.12. | C12: 6343.8 | D12: =C12-C11 -> 8.3 | E12: 20 | F12: =E12/D12 -> 2.4096386 | I12: Kanystr
B13: 19.12. | C13: 6351.5 | D13: =C13-C12 -> 7.7 | E13: 20 | F13: =E13/D13 -> 2.5974026 | I13: Kanystr
B14: 4.1.2023 | C14: 6367.2 | D14: =C14-C13 -> 15.7 | E14: 39.4 | F14: =E14/D14 -> 2.5095541
B15: 10.1.2023 | C15: 6376.7 | D15: =C15-C14 -> 9.5 | E15: 20 | F15: =E15/D15 -> 2.1052632 | I15: Kanystr
B16: 12..1.2023 | C16: 6383.77 | D16: =C16-C15 -> 7.07 | E16: 20 | F16: =E16/D16 -> 2.8288543 | I16: Kanystr
B17: 13.1.2023 | C17: 6389.19 | D17: =C17-C16 -> 5.42 | E17: 20 | F17: =E17/D17 -> 3.6900369 | I17: Kanystr
B18: 16.1.2023 | C18: 6393.89 | D18: =C18-C17 -> 4.7 | E18: 20 | F18: =E18/D18 -> 4.2553191 | I18: Kanystr
B19: 17.1.2023 | C19: 6397.42 | D19: =C19-C18 -> 3.53 | E19: 39.7 | F19: =E19/D19 -> 11.246459 | J19: 75.08
B20: 19.1.2023 | C20: 6408.72 | D20: =C20-C19 -> 11.3 | E20: 30 | F20: =E20/D20 -> 2.6548673 | I20: Kanystr | J20: 239.1
B21: 25.1.2023 | C21: 6419.47 | D21: =C21-C20 -> 10.75 | E21: 30 | F21: =E21/D21 -> 2.7906977 | I21: Kanystr
B22: 27.1.2023 | C22: 6426.58 | D22: =C22-C21 -> 7.11 | E22: 20 | F22: =E22/D22 -> 2.8129395 | I22: Kanystr | J22: =J20/J19 -> 3.1846031
B23: 30.1.2023 | C23: 6434.3 | D23: =C23-C22 -> 7.72 | E23: 69.8 | F23: =E23/D23 -> 9.0414508
B24: 9.2.2023 | C24: 6453.01 | D24: =C24-C23 -> 18.71 | E24: 50 | F24: =E24/D24 -> 2.6723677 | I24: Kanystr
B25: 16.2.2023 | C25: 6474.01 | D25: =C25-C24 -> 21 | E25: 35 | F25: =E25/D25 -> 1.6666667 | I25: Kanystr
B26: 18.2.2023 | C26: 6481.01 | D26: =C26-C25 -> 7 | E26: 30 | F26: =E26/D26 -> 4.2857143 | I26: Kanystr
B27: 20.2.2023 | C27: 6487.8 | D27: =C27-C26 -> 6.79 | E27: 67.7 | F27: =E27/D27 -> 9.9705449

Sheet 74-JCB-406
A1: 74 - JCB 406
A2: Datum | B2: Mth | C2: Odpracováno | D2: Tankování | E2: Průměr | F2: Stavba | G2: Převoz | H2: Tankovaní
A3: 27.10. | B3: 5095 | D3: 52.5
A4: 8.11. | B4: 5130.9 | C4: =B4-B3 -> 35.9 | D4: 73 | E4: =C4/D4 -> 0.49178082
A5: 16.11. | B5: 5151.13 | C5: =B5-B4 -> 20.23 | D5: 50.4 | E5: =D5/C5 -> 2.4913495
A6: 24.11. | B6: 5186 | C6: =B6-B5 -> 34.87 | D6: 30 | E6: =D6/C6 -> 0.8603384 | H6: Kanystr
A7: 27.11. | B7: 5203 | C7: =B7-B6 -> 17 | D7: 25 | E7: =D7/C7 -> 1.4705882 | H7: Kanystr | O7: =MAX(B3:B101) -> 5450.1
A8: 14.12. | B8: 5223 | C8: =B8-B7 -> 20 | D8: 24 | E8: =D8/C8 -> 1.2 | H8: Kanystr
A9: 15.12. | B9: 5234.6 | C9: =B9-B8 -> 11.6 | D9: 51.7 | E9: =D9/C9 -> 4.4568966 | O9: =SUM(C12:C100) -> 173.8
A10: 21.21. | B10: 5251.1 | C10: =B10-B9 -> 16.5 | D10: 35.6 | E10: =D10/C10 -> 2.1575758
A11: 11.1.2023 | B11: 5276.3 | C11: =B11-B10 -> 25.2 | D11: 69.3 | E11: =D11/C11 -> 2.75
A12: 24.1.2023 | B12: 5304.4 | C12: =B12-B11 -> 28.1 | D12: 72.9 | E12: =D12/C12 -> 2.594306
A13: 1.2.2023 | B13: 5333.83 | C13: =B13-B12 -> 29.43 | D13: 75 | E13: =D13/C13 -> 2.54842
A14: 7.2.2023 | B14: 5359.6 | C14: =B14-B13 -> 25.77 | D14: 38.9 | E14: =D14/C14 -> 1.5095072
A15: 14.2.2023 | B15: 5382.9 | C15: =B15-B14 -> 23.3 | D15: 33.3 | E15: =D15/C15 -> 1.4291845
A16: 1.3.2023 | B16: 5408 | C16: =B16-B15 -> 25.1 | D16: 61.2 | E16: =D16/C16 -> 2.438247
A17: 7.3.2023 | B17: 5432.2 | C17: =B17-B16 -> 24.2 | D17: 49.9 | E17: =D17/C17 -> 2.0619835
A18: 15.3.2023 | B18: 5450.1 | C18: =B18-B17 -> 17.9 | D18: 29.5 | E18: =D18/C18 -> 1.6480447

Sheet 148-Kramek-750
A1: 148 - Kramer 750
A2: Datum | B2: Mth | C2: Odpracováno | D2: Tankování | E2: Průměr | F2: Stavba | G2: Převoz | H2: Tankovaní
A3: 28.10. | B3: 996.9 | D3: 39.8
A4: 7.11. | B4: 1016.2 | C4: =B4-B3 -> 19.3 | D4: 29.8 | E4: =D4/C4 -> 1.5440415
A5: 14.11. | B5: 1028.5 | C5: =B5-B4 -> 12.3 | D5: 45 | E5: =D5/C5 -> 3.6585366 | H5: kanystr
A6: 24.11. | B6: 1047.4 | C6: =B6-B5 -> 18.9 | D6: 62 | E6: =D6/C6 -> 3.2804233 | H6: kanystr
A7: 29.11. | B7: 1067.5 | C7: =B7-B6 -> 20.1 | D7: 55.6 | E7: =D7/C7 -> 2.7661692 | O7: =MAX(B3:B100) -> 1576.8
A8: 3.12. | B8: 1078.1 | C8: =B8-B7 -> 10.6 | D8: 38.4 | E8: =D8/C8 -> 3.6226415
A9: 6.12. | B9: 1087.5 | C9: =B9-B8 -> 9.4 | D9: 32.4 | E9: =D9/C9 -> 3.4468085 | O9: =SUM(C37:C99) -> 77.2
A10: 8.12. | B10: 1098.4 | C10: =B10-B9 -> 10.9 | D10: 28.4 | E10: =D10/C10 -> 2.6055046
A11: 12.12. | B11: 1112.7 | C11: =B11-B10 -> 14.3 | D11: 47.8 | E11: =D11/C11 -> 3.3426573
A12: 22.12. | D12: 50.4
A13: 3.1.2023 | B13: 1156 | C13: =B13-B11 -> 43.3 | D13: 46.5 | E13: =(D12+D13)/C13 -> 2.2378753
A14: 6.1.2023 | B14: 1169.7 | C14: =B14-B13 -> 13.7 | D14: 29.1 | E14: =D14/C14 -> 2.1240876
A15: 12.1.2023 | B15: 1185.2 | C15: =B15-B14 -> 15.5 | D15: 54.5 | E15: =D15/C15 -> 3.516129
A16: 13.1.2023 | B16: 1195.6 | C16: =B16-B15 -> 10.4 | D16: 16.1 | E16: =D16/C16 -> 1.5480769
A17: 16.1.2023 | B17: 1207.4 | C17: =B17-B16 -> 11.8 | D17: 49.7 | E17: =D17/C17 -> 4.2118644
A18: 18.1.2023 | B18: 1224 | C18: =B18-B17 -> 16.6 | D18: 46.3 | E18: =D18/C18 -> 2.7891566
A19: 20.1.2023 | B19: 1236 | C19: =B19-B18 -> 12 | D19: 39.6 | E19: =D19/C19 -> 3.3
A20: 24.1.2023 | B20: 1255.5 | C20: =B20-B19 -> 19.5 | D20: 36.2 | E20: =D20/C20 -> 1.8564103
A21: 26.1.2023 | B21: 1271 | C21: =B21-B20 -> 15.5 | D21: 55.7 | E21: =D21/C21 -> 3.5935484
A22: 1.2.2023 | B22: 1304.7 | C22: =B22-B21 -> 33.7 | D22: 53.7 | E22: =D22/C22 -> 1.5934718
A23: 3.2.2023 | B23: 1321.6 | C23: =B23-B22 -> 16.9 | D23: 43.4 | E23: =D23/C23 -> 2.5680473
A24: 6.2.2023 | B24: 1336.7 | C24: =B24-B23 -> 15.1 | D24: 55 | E24: =D24/C24 -> 3.6423841
A25: 8.2.2023 | B25: 1347.2 | C25: =B25-B24 -> 10.5 | D25: 38.6 | E25: =D25/C25 -> 3.6761905
... A27: 14.2.2023 | B27: 1379 | C27: =B27-B26 -> 15.7 | D27: 51 | E27: =D27/C27 -> 3.2484076
A28: 16.2.2023 | B28: 1393.3 | C28: =B28-B27 -> 14.3 | D28: 50 | E28: =D28/C28 -> 3.4965035 | G28: Kanystr
A29: 17.2.2023 | B29: 1400.1 | C29: =B29-B28 -> 6.8 | D29: 27.3 | E29: =D29/C29 -> 4.0147059
A30: 21.2.2023 | B30: 1418.7 | C30: =B30-B29 -> 18.6 | D30: 55.8 | E30: =D30/C30 -> 3
A31: 44980 | B31: 1436.6 | C31: =B31-B30 -> 17.9 | D31: 32.8 | E31: =D31/C31 -> 1.8324022 | G31: Kanystr
A32: 23.2.2023 | B32: 1437.4 | C32: =B32-B31 -> 0.8 | D32: 24.5 | E32: =D32/C32 -> 30.625
A33: 27.2.2023 | B33: 1457.8 | C33: =B33-B32 -> 20.4 | D33: 36.2 | E33: =D33/C33 -> 1.7745098
A34: 44985 | B34: 1468.7 | C34: =B34-B33 -> 10.9 | D34: 36.6 | E34: =D34/C34 -> 3.3577982 | G34: Kanystr
A35: 2.3.2023 | B35: 1478.5 | C35: =B35-B34 -> 9.8 | D35: 47.9 | E35: =D35/C35 -> 4.8877551
A36: 4.3.2023 | B36: 1499.6 | C36: =B36-B35 -> 21.1 | D36: 50 | E36: =D36/C36 -> 2.3696682 | G36: Kanystr
A37: 6.3.2023 | B37: 1502.5 | C37: =B37-B36 -> 2.9 | D37: 43.3 | E37: =D37/C37 -> 14.931034
A38: 9.3.2023 | D38: 34 | G38: Bez Baterie
A39: 13.3.2023 | B39: 1525.6 | C39: =B39-B37 -> 23.1 | D39: 38.8 | E39: =(D39+D38)/C39 -> 3.1515152
A40: 15.3.2023 | B40: 1535.8 | C40: =B40-B39 -> 10.2 | D40: 39.4 | E40: =D40/C40 -> 3.8627451
A41: 17.3.2023 | B41: 1561.1 | C41: =B41-B40 -> 25.3 | D41: 48.4 | E41: =D41/C41 -> 1.9130435
...

Sheet 173-Terex-TL-80 
A1: 173 - Terex TL 80
A2: Datum | B2: Mth | C2: Odpracováno | D2: Tankování | E2: Průměr | F2: Stavba | G2: Převoz | H2: Tankovaní
B3: 2154
A4: 1.11. | B4: 2265.4 | C4: 111.4 | D4: 32.7
A5: 8.11. | B5: 2272 | C5: =B5-B4 -> 6.6 | D5: 19.5 | E5: =D5/C5 -> 2.9545455
A6: 16.11. | B6: 2287 | C6: =B6-B5 -> 15 | D6: 38.4 | E6: =D6/C6 -> 2.56
A7: 23.11. | B7: 2298 | C7: =B7-B6 -> 11 | D7: 31.4 | E7: =D7/C7 -> 2.8545455 | O7: =MAX(B3:B101) -> 2576.2
A8: 5.12. | B8: 2320 | C8: =B8-B7 -> 22 | D8: 56 | E8: =D8/C8 -> 2.5454545
A9: 17.1.2023 | B9: 2347.5 | C9: =B9-B8 -> 27.5 | D9: 62.1 | E9: =D9/C9 -> 2.2581818 | G9: ze Dvora | H9: na Dvoře | O9: =SUM(C3:C100) -> 422.2
A10: 20.1.2023 | B10: 2350.3 | C10: =B10-B9 -> 2.8 | D10: 8.2 | E10: =D10/C10 -> 2.9285714
A11: 24.1.2023 | B11: 2358.1 | C11: =B11-B10 -> 7.8 | D11: 18.8 | E11: =D11/C11 -> 2.4102564
A12: 3.2.2023 | B12: 2386.9 | C12: =B12-B11 -> 28.8 | D12: 36.5 | E12: =D12/C12 -> 1.2673611
A13: 6.2.2023 | B13: 2397.9 | C13: =B13-B12 -> 11 | D13: 27 | E13: =D13/C13 -> 2.4545455
A14: 8.2.2023 | B14: 2412.8 | C14: =B14-B13 -> 14.9 | D14: 35.6 | E14: =D14/C14 -> 2.3892617 | G14: =I13/C14 -> 0
A15: 10.2.2023 | B15: 2430 | C15: =B15-B14 -> 17.2 | D15: 40.9 | E15: =D15/C15 -> 2.377907
A16: 14.2.2023 | B16: 2449.5 | C16: =B16-B15 -> 19.5 | D16: 59.1 | E16: =D16/C16 -> 3.0307692
A17: 20.2.2023 | B17: 2479 | C17: =B17-B16 -> 29.5 | D17: 46.9 | E17: =D17/C17 -> 1.5898305
A18: 23.2.2023 | B18: 2491.7 | C18: =B18-B17 -> 12.7 | D18: 36 | E18: =D18/C18 -> 2.8346457
A19: 27.2.2023 | B19: 2515.4 | C19: =B19-B18 -> 23.7 | D19: 56.4 | E19: =D19/C19 -> 2.3797468
A20: 2.3.2023 | B20: 2531.7 | C20: =B20-B19 -> 16.3 | D20: 40.9 | E20: =D20/C20 -> 2.5092025
A21: 6.3.2023 | B21: 2545.1 | C21: =B21-B20 -> 13.4 | D21: 40.3 | E21: =D21/C21 -> 3.0074627
A22: 9.3.2023 | B22: 2555.7 | C22: =B22-B21 -> 10.6 | D22: 21.8 | E22: =D22/C22 -> 2.0566038
A23: 15.3.2023 | B23: 2562.5 | C23: =B23-B22 -> 6.8 | D23: 20.8 | E23: =D23/C23 -> 3.0588235
A24: 17.3.2023 | B24: 2576.2 | C24: =B24-B23 -> 13.7 | D24: 46.4 | E24: =D24/C24 -> 3.3868613
