Workbook
Name PosSer: Souhrn!$G$7:$G$7

Sheet Souhrn
A1: 400 | B1: =A2 -> 450
A2: 450 | B2: =A3 -> 480
A3: 480 | B3: ¥ )
A5: Inventární č. | B5: Popis | C5: Celkem odpracováno [Mth] | D5: Odpracováno od posledního servisu [Mth] | E5: Zbývá do servisu [Mth] | F5: Další servis | G5: Předchozí servis | H5: Stavba | I5: Den servisu
A6: 44 | B6: Terex TL 65 | C6: =IFERROR(MAX(INDIRECT("'"&A6&"-"&B6&"'!B3:B1000")),"") -> 6738.7 | D6: {=IFERROR(SUM(INDIRECT("'"&A6&"-"&B6&"'!C"&MAX(ROW(INDIRECT("'"&A6&"-"&B6&"'!G3:G1000"))*((INDIRECT("'"&A6&"-"&B6&"'!G3:G1000"))="Servis"))+1&":C1000")),"")} -> 338.7 | E6: =IFERROR(F6-C6,"") -> 161.3 | F6: =IFERROR(G6+500,"") -> 6900 | G6: {=IFERROR(INDIRECT("'"&A6&"-"&B6&"'!B"&MAX(ROW(INDIRECT("'"&A6&"-"&B6&"'!G3:G1000"))*(INDIRECT("'"&A6&"-"&B6&"'!G3:G1000")="Servis"))),"")} -> 6400 | H6: {=IFERROR(INDIRECT("'"&A6&"-"&B6&"'!F"&MAX(ROW(INDIRECT("'"&A6&"-"&B6&"'!F3:F1000"))*(INDIRECT("'"&A6&"-"&B6&"'!F3:F1000")<>""))),"")} -> D5 - 100 | I6: {=IF(E6="","",IFERROR(MAX(INDIRECT("'"&A6&"-"&B6&"'!I3:I1000")),""))} -> 44860
A7: 45 | B7: Terex TL 70 | C7: =IFERROR(MAX(INDIRECT("'"&A7&"-"&B7&"'!B3:B1000")),"") -> 7619 | D7: {=IFERROR(SUM(INDIRECT("'"&A7&"-"&B7&"'!C"&MAX(ROW(INDIRECT("'"&A7&"-"&B7&"'!G3:G1000"))*((INDIRECT("'"&A7&"-"&B7&"'!G3:G1000"))="Servis"))+1&":C1000")),"")} -> 0 | E7: =IFERROR(F7-C7,"") -> 500 | F7: =IFERROR(G7+500,"") -> 8119 | G7: {=IFERROR(INDIRECT("'"&A7&"-"&B7&"'!B"&MAX(ROW(INDIRECT("'"&A7&"-"&B7&"'!G3:G1000"))*(INDIRECT("'"&A7&"-"&B7&"'!G3:G1000")="Servis"))),"")} -> 7619 | H7: {=IFERROR(INDIRECT("'"&A7&"-"&B7&"'!F"&MAX(ROW(INDIRECT("'"&A7&"-"&B7&"'!F3:F1000"))*(INDIRECT("'"&A7&"-"&B7&"'!F3:F1000")<>""))),"")} | I7: {=IF(E7="","",IFERROR(MAX(INDIRECT("'"&A7&"-"&B7&"'!I3:I1000")),""))} -> 44986
A8: 68 | B8: JCB 406 B | C8: =IFERROR(MAX(INDIRECT("'"&A8&"-"&B8&"'!B3:B1000")),"") -> 6487.8 | D8: {=IFERROR(SUM(INDIRECT("'"&A8&"-"&B8&"'!C"&MAX(ROW(INDIRECT("'"&A8&"-"&B8&"'!G3:G1000"))*((INDIRECT("'"&A8&"-"&B8&"'!G3:G1000"))="Servis"))+1&":C1000")),"")} -> 484.8 | E8: =IFERROR(F8-C8,"") -> 15.2 | F8: =IFERROR(G8+500,"") -> 6503 | G8: {=IFERROR(INDIRECT("'"&A8&"-"&B8&"'!B"&MAX(ROW(INDIRECT("'"&A8&"-"&B8&"'!G3:G1000"))*(INDIRECT("'"&A8&"-"&B8&"'!G3:G1000")="Servis"))),"")} -> 6003 | H8: {=IFERROR(INDIRECT("'"&A8&"-"&B8&"'!F"&MAX(ROW(INDIRECT("'"&A8&"-"&B8&"'!F3:F1000"))*(INDIRECT("'"&A8&"-"&B8&"'!F3:F1000")<>""))),"")} | I8: {=IF(E8="","",IFERROR(MAX(INDIRECT("'"&A8&"-"&B8&"'!I3:I1000")),""))} -> 44813
A9: 69 | B9: JCB 406 B | C9: =IFERROR(MAX(INDIRECT("'"&A9&"-"&B9&"'!B3:B1000")),"") -> 5247.2 | D9: {=IFERROR(SUM(INDIRECT("'"&A9&"-"&B9&"'!C"&MAX(ROW(INDIRECT("'"&A9&"-"&B9&"'!G3:G1000"))*((INDIRECT("'"&A9&"-"&B9&"'!G3:G1000"))="Servis"))+1&":C1000")),"")} -> 40.2 | E9: =IFERROR(F9-C9,"") -> 459.8 | F9: =IFERROR(G9+500,"") -> 5707 | G9: {=IFERROR(INDIRECT("'"&A9&"-"&B9&"'!B"&MAX(ROW(INDIRECT("'"&A9&"-"&B9&"'!G3:G1000"))*(INDIRECT("'"&A9&"-"&B9&"'!G3:G1000")="Servis"))),"")} -> 5207 | H9: {=IFERROR(INDIRECT("'"&A9&"-"&B9&"'!F"&MAX(ROW(INDIRECT("'"&A9&"-"&B9&"'!F3:F1000"))*(INDIRECT("'"&A9&"-"&B9&"'!F3:F1000")<>""))),"")} -> Dílna | I9: {=IF(E9="","",IFERROR(MAX(INDIRECT("'"&A9&"-"&B9&"'!I3:I1000")),""))} -> 44941
A10: 74 | B10: JCB 406 | C10: =IFERROR(MAX(INDIRECT("'"&A10&"-"&B10&"'!B3:B1000")),"") -> 5450.1 | D10: {=IFERROR(SUM(INDIRECT("'"&A10&"-"&B10&"'!C"&MAX(ROW(INDIRECT("'"&A10&"-"&B10&"'!G3:G1000"))*((INDIRECT("'"&A10&"-"&B10&"'!G3:G1000"))="Servis"))+1&":C1000")),"")} -> 145.7 | E10: =IFERROR(F10-C10,"") -> 354.3 | F10: =IFERROR(G10+500,"") -> 5804.4 | G10: {=IFERROR(INDIRECT("'"&A10&"-"&B10&"'!B"&MAX(ROW(INDIRECT("'"&A10&"-"&B10&"'!G3:G1000"))*(INDIRECT("'"&A10&"-"&B10&"'!G3:G1000")="Servis"))),"")} -> 5304.4 | H10: {=IFERROR(INDIRECT("'"&A10&"-"&B10&"'!F"&MAX(ROW(INDIRECT("'"&A10&"-"&B10&"'!F3:F1000"))*(INDIRECT("'"&A10&"-"&B10&"'!F3:F1000")<>""))),"")} | I10: {=IF(E10="","",IFERROR(MAX(INDIRECT("'"&A10&"-"&B10&"'!I3:I1000")),""))} -> 44950
A11: 75 | B11: JCB 436 e | C11: =IFERROR(MAX(INDIRECT("'"&A11&"-"&B11&"'!B3:B1000")),"") -> 4513 | D11: {=IFERROR(SUM(INDIRECT("'"&A11&"-"&B11&"'!C"&MAX(ROW(INDIRECT("'"&A11&"-"&B11&"'!G3:G1000"))*((INDIRECT("'"&A11&"-"&B11&"'!G3:G1000"))="Servis"))+1&":C1000")),"")} -> 206 | E11: =IFERROR(F11-C11,"") -> 294 | F11: =IFERROR(G11+500,"") -> 4807 | G11: {=IFERROR(INDIRECT("'"&A11&"-"&B11&"'!B"&MAX(ROW(INDIRECT("'"&A11&"-"&B11&"'!G3:G1000"))*(INDIRECT("'"&A11&"-"&B11&"'!G3:G1000")="Servis"))),"")} -> 4307 | H11: {=IFERROR(INDIRECT("'"&A11&"-"&B11&"'!F"&MAX(ROW(INDIRECT("'"&A11&"-"&B11&"'!F3:F1000"))*(INDIRECT("'"&A11&"-"&B11&"'!F3:F1000")<>""))),"")} -> Dvůr | I11: {=IF(E11="","",IFERROR(MAX(INDIRECT("'"&A11&"-"&B11&"'!I3:I1000")),""))} -> 44849
A12: 87 | B12: Terex TL 80 | C12: =IFERROR(MAX(INDIRECT("'"&A12&"-"&B12&"'!B3:B1000")),"") -> 4850.6 | D12: {=IFERROR(SUM(INDIRECT("'"&A12&"-"&B12&"'!C"&MAX(ROW(INDIRECT("'"&A12&"-"&B12&"'!G3:G1000"))*((INDIRECT("'"&A12&"-"&B12&"'!G3:G1000"))="Servis"))+1&":C1000")),"")} -> 245.6 | E12: =IFERROR(F12-C12,"") -> 254.4 | F12: =IFERROR(G12+500,"") -> 5105 | G12: {=IFERROR(INDIRECT("'"&A12&"-"&B12&"'!B"&MAX(ROW(INDIRECT("'"&A12&"-"&B12&"'!G3:G1000"))*(INDIRECT("'"&A12&"-"&B12&"'!G3:G1000")="Servis"))),"")} -> 4605 | H12: {=IFERROR(INDIRECT("'"&A12&"-"&B12&"'!F"&MAX(ROW(INDIRECT("'"&A12&"-"&B12&"'!F3:F1000"))*(INDIRECT("'"&A12&"-"&B12&"'!F3:F1000")<>""))),"")} -> dílna | I12: {=IF(E12="","",IFERROR(MAX(INDIRECT("'"&A12&"-"&B12&"'!I3:I1000")),""))} -> 44928
A13: 88 | B13: Terex TL 80 | C13: =IFERROR(MAX(INDIRECT("'"&A13&"-"&B13&"'!B3:B1000")),"") -> 5212.5 | D13: {=IFERROR(SUM(INDIRECT("'"&A13&"-"&B13&"'!C"&MAX(ROW(INDIRECT("'"&A13&"-"&B13&"'!G3:G1000"))*((INDIRECT("'"&A13&"-"&B13&"'!G3:G1000"))="Servis"))+1&":C1000")),"")} -> 341.3 | E13: =IFERROR(F13-C13,"") -> 158.7 | F13: =IFERROR(G13+500,"") -> 5371.2 | G13: {=IFERROR(INDIRECT("'"&A13&"-"&B13&"'!B"&MAX(ROW(INDIRECT("'"&A13&"-"&B13&"'!G3:G1000"))*(INDIRECT("'"&A13&"-"&B13&"'!G3:G1000")="Servis"))),"")} -> 4871.2 | H13: {=IFERROR(INDIRECT("'"&A13&"-"&B13&"'!F"&MAX(ROW(INDIRECT("'"&A13&"-"&B13&"'!F3:F1000"))*(INDIRECT("'"&A13&"-"&B13&"'!F3:F1000")<>""))),"")} -> Lapi | I13: {=IF(E13="","",IFERROR(MAX(INDIRECT("'"&A13&"-"&B13&"'!I3:I1000")),""))} -> 44886
A14: 100 | B14: JCB 406 T 4 | C14: =IFERROR(MAX(INDIRECT("'"&A14&"-"&B14&"'!B3:B1000")),"") -> 3811.9 | D14: {=IFERROR(SUM(INDIRECT("'"&A14&"-"&B14&"'!C"&MAX(ROW(INDIRECT("'"&A14&"-"&B14&"'!G3:G1000"))*((INDIRECT("'"&A14&"-"&B14&"'!G3:G1000"))="Servis"))+1&":C1000")),"")} -> 173 | E14: =IFERROR(F14-C14,"") -> 327 | F14: =IFERROR(G14+500,"") -> 4138.9 | G14: {=IFERROR(INDIRECT("'"&A14&"-"&B14&"'!B"&MAX(ROW(INDIRECT("'"&A14&"-"&B14&"'!G3:G1000"))*(INDIRECT("'"&A14&"-"&B14&"'!G3:G1000")="Servis"))),"")} -> 3638.9 | H14: {=IFERROR(INDIRECT("'"&A14&"-"&B14&"'!F"&MAX(ROW(INDIRECT("'"&A14&"-"&B14&"'!F3:F1000"))*(INDIRECT("'"&A14&"-"&B14&"'!F3:F1000")<>""))),"")} | I14: {=IF(E14="","",IFERROR(MAX(INDIRECT("'"&A14&"-"&B14&"'!I3:I1000")),""))} -> 44860
A15: 105 | B15: Terex TL 80 | C15: =IFERROR(MAX(INDIRECT("'"&A15&"-"&B15&"'!B3:B1000")),"") -> 3827.7 | D15: {=IFERROR(SUM(INDIRECT("'"&A15&"-"&B15&"'!C"&MAX(ROW(INDIRECT("'"&A15&"-"&B15&"'!G3:G1000"))*((INDIRECT("'"&A15&"-"&B15&"'!G3:G1000"))="Servis"))+1&":C1000")),"")} -> 228.2 | E15: =IFERROR(F15-C15,"") -> 271.8 | F15: =IFERROR(G15+500,"") -> 4099.5 | G15: {=IFERROR(INDIRECT("'"&A15&"-"&B15&"'!B"&MAX(ROW(INDIRECT("'"&A15&"-"&B15&"'!G3:G1000"))*(INDIRECT("'"&A15&"-"&B15&"'!G3:G1000")="Servis"))),"")} -> 3599.5 | H15: {=IFERROR(INDIRECT("'"&A15&"-"&B15&"'!F"&MAX(ROW(INDIRECT("'"&A15&"-"&B15&"'!F3:F1000"))*(INDIRECT("'"&A15&"-"&B15&"'!F3:F1000")<>""))),"")} | I15: {=IF(E15="","",IFERROR(MAX(INDIRECT("'"&A15&"-"&B15&"'!I3:I1000")),""))} -> 44896
A16: 20 | B16: Skuska | C16: =IFERROR(MAX(INDIRECT("'"&A16&"-"&B16&"'!B3:B1000")),"") -> 3811.9 | D16: {=IFERROR(SUM(INDIRECT("'"&A16&"-"&B16&"'!C"&MAX(ROW(INDIRECT("'"&A16&"-"&B16&"'!G3:G1000"))*((INDIRECT("'"&A16&"-"&B16&"'!G3:G1000"))="Servis"))+1&":C1000")),"")} -> 44.94 | E16: =IFERROR(F16-C16,"") -> 455.06 | F16: =IFERROR(G16+500,"") -> 4266.96 | G16: {=IFERROR(INDIRECT("'"&A16&"-"&B16&"'!B"&MAX(ROW(INDIRECT("'"&A16&"-"&B16&"'!G3:G1000"))*(INDIRECT("'"&A16&"-"&B16&"'!G3:G1000")="Servis"))),"")} -> 3766.96 | H16: {=IFERROR(INDIRECT("'"&A16&"-"&B16&"'!F"&MAX(ROW(INDIRECT("'"&A16&"-"&B16&"'!F3:F1000"))*(INDIRECT("'"&A16&"-"&B16&"'!F3:F1000")<>""))),"")} -> bbbb | I16: {=IF(E16="","",IFERROR(MAX(INDIRECT("'"&A16&"-"&B16&"'!I3:I1000")),""))} -> 44908
A17: 106 | B17: Terex TL 80 | C17: =IFERROR(MAX(INDIRECT("'"&A17&"-"&B17&"'!B3:B1000")),"") -> 5156.7 | D17: {=IFERROR(SUM(INDIRECT("'"&A17&"-"&B17&"'!C"&MAX(ROW(INDIRECT("'"&A17&"-"&B17&"'!G3:G1000"))*((INDIRECT("'"&A17&"-"&B17&"'!G3:G1000"))="Servis"))+1&":C1000")),"")} -> 138.7 | E17: =IFERROR(F17-C17,"") -> 361.3 | F17: =IFERROR(G17+500,"") -> 5518 | G17: {=IFERROR(INDIRECT("'"&A17&"-"&B17&"'!B"&MAX(ROW(INDIRECT("'"&A17&"-"&B17&"'!G3:G1000"))*(INDIRECT("'"&A17&"-"&B17&"'!G3:G1000")="Servis"))),"")} -> 5018 | H17: {=IFERROR(INDIRECT("'"&A17&"-"&B17&"'!F"&MAX(ROW(INDIRECT("'"&A17&"-"&B17&"'!F3:F1000"))*(INDIRECT("'"&A17&"-"&B17&"'!F3:F1000")<>""))),"")} -> D4 - Příbram | I17: {=IF(E17="","",IFERROR(MAX(INDIRECT("'"&A17&"-"&B17&"'!I3:I1000")),""))} -> 44896
... A26: 1000 | B26: Beton Nakladač | C26: =IFERROR(MAX(INDIRECT("'"&A26&"-"&B26&"'!B3:B1000")),"") -> 2788 | D26: {=IFERROR(SUM(INDIRECT("'"&A26&"-"&B26&"'!C"&MAX(ROW(INDIRECT("'"&A26&"-"&B26&"'!G3:G1000"))*((INDIRECT("'"&A26&"-"&B26&"'!G3:G1000"))="Servis"))+1&":C1000")),"")} -> 88 | E26: =IFERROR(F26-C26,"") | F26: =IFERROR(G26+500,"") | G26: {=IFERROR(INDIRECT("'"&A26&"-"&B26&"'!B"&MAX(ROW(INDIRECT("'"&A26&"-"&B26&"'!G3:G1000"))*(INDIRECT("'"&A26&"-"&B26&"'!G3:G1000")="Servis"))),"")} | H26: {=IFERROR(INDIRECT("'"&A26&"-"&B26&"'!F"&MAX(ROW(INDIRECT("'"&A26&"-"&B26&"'!F3:F1000"))*(INDIRECT("'"&A26&"-"&B26&"'!F3:F1000")<>""))),"")} | I26: {=IF(E26="","",IFERROR(MAX(INDIRECT("'"&A26&"-"&B26&"'!I3:I1000")),""))}

Sheet 20-Skuska
A1: 20-Skuska
A2: Datum | B2: Mth | C2: Odpracováno | D2: Tankování | E2: Průměr | F2: Stavba | G2: Převoz | H2: Tankovaní | I2: Den Servisu
A3: 44854 | B3: 3134 | G3: Servis | I3: =IF((G3="Servis"),A3,"") -> 44854
A4: 44860 | B4: 3638.9 | C4: =IF(B4="","",B4-B3) -> 504.9 | D4: 35.4 | E4: =IF(OR(C4="",C4=0,D4=""),"",D4/C4) -> 0.070112894 | I4: =IF((G4="Servis"),A4,"")
A5: 44866 | B5: 3657.5 | C5: =IF(B5="","",B5-B4) -> 18.6 | D5: 43.5 | E5: =IF(OR(C5="",C5=0,D5=""),"",D5/C5) -> 2.3387097 | I5: =IF((G5="Servis"),A5,"")
A6: 44874 | B6: 3680.9 | C6: =IF(B6="","",B6-B5) -> 23.4 | D6: 57.8 | E6: =IF(OR(C6="",C6=0,D6=""),"",D6/C6) -> 2.4700855 | F6: ddd | I6: =IF((G6="Servis"),A6,"")
A7: 44879 | B7: 3702.41 | C7: =IF(B7="","",B7-B6) -> 21.51 | D7: 17 | E7: =IF(OR(C7="",C7=0,D7=""),"",D7/C7) -> 0.79033008 | H7: Kadlec | I7: =IF((G7="Servis"),A7,"")
A8: 44881 | B8: 3712.89 | C8: =IF(B8="","",B8-B7) -> 10.48 | D8: 62.8 | E8: =IF(OR(C8="",C8=0,D8=""),"",D8/C8) -> 5.9923664 | F8: aaaa | I8: =IF((G8="Servis"),A8,"")
A9: 44886 | B9: 3737.18 | C9: =IF(B9="","",B9-B8) -> 24.29 | D9: 24 | E9: =IF(OR(C9="",C9=0,D9=""),"",D9/C9) -> 0.98806093 | F9: aa | H9: Kadlec | I9: =IF((G9="Servis"),A9,"")
A10: 44888 | B10: 3748.6 | C10: =IF(B10="","",B10-B9) -> 11.42 | D10: 63.2 | E10: =IF(OR(C10="",C10=0,D10=""),"",D10/C10) -> 5.5341506 | I10: =IF((G10="Servis"),A10,"")
A11: 44907 | B11: 3766.96 | C11: =IF(B11="","",B11-B10) -> 18.36 | D11: 25 | E11: =IF(OR(C11="",C11=0,D11=""),"",D11/C11) -> 1.3616558 | F11: bb | H11: Kadlec | I11: =IF((G11="Servis"),A11,"")
A12: 44908 | B12: 3766.96 | C12: =IF(B12="","",B12-B11) -> 0 | D12: 25 | E12: =IF(OR(C12="",C12=0,D12=""),"",D12/C12) | F12: bbbb | G12: Servis | H12: Kadlec | I12: =IF((G12="Servis"),A12,"") -> 44908
A13: 44914 | B13: 3773.35 | C13: =IF(B13="","",B13-B12) -> 6.39 | D13: 20 | E13: =IF(OR(C13="",C13=0,D13=""),"",D13/C13) -> 3.1298905 | H13: Kadlec | I13: =IF((G13="Servis"),A13,"")
A14: 44939 | B14: 3785.45 | C14: =IF(B14="","",B14-B13) -> 12.1 | D14: 25 | E14: =IF(OR(C14="",C14=0,D14=""),"",D14/C14) -> 2.0661157 | H14: Kadlec | I14: =IF((G14="Servis"),A14,"")
A15: 44970 | B15: 3796.2 | C15: =IF(B15="","",B15-B14) -> 10.75 | D15: 67.2 | E15: =IF(OR(C15="",C15=0,D15=""),"",D15/C15) -> 6.2511628 | I15: =IF((G15="Servis"),A15,"")
A16: 44993 | B16: 3811.9 | C16: =IF(B16="","",B16-B15) -> 15.7 | D16: 26.6 | E16: =IF(OR(C16="",C16=0,D16=""),"",D16/C16) -> 1.6942675 | I16: =IF((G16="Servis"),A16,"")
C17: =IF(B17="","",B17-B16) | E17: =IF(OR(C17="",C17=0,D17=""),"",D17/C17) | I17: =IF((G17="Servis"),A17,"")
C18: =IF(B18="","",B18-B17) | E18: =IF(OR(C18="",C18=0,D18=""),"",D18/C18) | I18: =IF((G18="Servis"),A18,"")
C19: =IF(B19="","",B19-B18) | E19: =IF(OR(C19="",C19=0,D19=""),"",D19/C19) | I19: =IF((G19="Servis"),A19,"")
C20: =IF(B20="","",B20-B19) | E20: =IF(OR(C20="",C20=0,D20=""),"",D20/C20) | I20: =IF((G20="Servis"),A20,"")
C21: =IF(B21="","",B21-B20) | E21: =IF(OR(C21="",C21=0,D21=""),"",D21/C21) | I21: =IF((G21="Servis"),A21,"")
C22: =IF(B22="","",B22-B21) | E22: =IF(OR(C22="",C22=0,D22=""),"",D22/C22) | I22: =IF((G22="Servis"),A22,"")
C23: =IF(B23="","",B23-B22) | E23: =IF(OR(C23="",C23=0,D23=""),"",D23/C23) | I23: =IF((G23="Servis"),A23,"")
C24: =IF(B24="","",B24-B23) | E24: =IF(OR(C24="",C24=0,D24=""),"",D24/C24) | I24: =IF((G24="Servis"),A24,"")
C25: =IF(B25="","",B25-B24) | E25: =IF(OR(C25="",C25=0,D25=""),"",D25/C25) | I25: =IF((G25="Servis"),A25,"")
C26: =IF(B26="","",B26-B25) | E26: =IF(OR(C26="",C26=0,D26=""),"",D26/C26) | I26: =IF((G26="Servis"),A26,"")
C27: =IF(B27="","",B27-B26) | E27: =IF(OR(C27="",C27=0,D27=""),"",D27/C27) | I27: =IF((G27="Servis"),A27,"")
C28: =IF(B28="","",B28-B27) | E28: =IF(OR(C28="",C28=0,D28=""),"",D28/C28) | I28: =IF((G28="Servis"),A28,"")
... C100: =IF(B100="","",B100-B99) | E100: =IF(OR(C100="",C100=0,D100=""),"",D100/C100) | I100: =IF((G100="Servis"),A100,"")

Sheet 44-Terex TL 65
A1: =Souhrn!A6&"-"&Souhrn!B6 -> 44-Terex TL 65
A2: Datum | B2: Mth | C2: Odpracováno | D2: Tankování | E2: Průměr | F2: Stavba | G2: Převoz | H2: Tankovaní | I2: Den Servisu
A3: 44860 | B3: 6400 | G3: Servis | I3: =IF((G3="Servis"),A3,"") -> 44860
A4: 44865 | B4: 6421 | C4: =IF(B4="","",B4-B3) -> 21 | D4: 42.6 | E4: =IF(OR(C4="",C4=0,D4=""),"",D4/C4) -> 2.0285714 | F4: Křenice | I4: =IF((G4="Servis"),A4,"")
A5: 44890 | B5: 6449 | C5: =IF(B5="","",B5-B4) -> 28 | D5: 35.1 | E5: =IF(OR(C5="",C5=0,D5=""),"",D5/C5) -> 1.2535714 | F5: Jirkov | I5: =IF((G5="Servis"),A5,"")
A6: 44895 | B6: 6480.2 | C6: =IF(B6="","",B6-B5) -> 31.2 | D6: 47.8 | E6: =IF(OR(C6="",C6=0,D6=""),"",D6/C6) -> 1.5320513 | F6: Jirkov | I6: =IF((G6="Servis"),A6,"")
A7: 44897 | B7: 6494.2 | C7: =IF(B7="","",B7-B6) -> 14 | D7: 37.3 | E7: =IF(OR(C7="",C7=0,D7=""),"",D7/C7) -> 2.6642857 | F7: Jirkov | I7: =IF((G7="Servis"),A7,"")
A8: 44902 | B8: 6526.2 | C8: =IF(B8="","",B8-B7) -> 32 | D8: 44.3 | E8: =IF(OR(C8="",C8=0,D8=""),"",D8/C8) -> 1.384375 | F8: Jirkov | I8: =IF((G8="Servis"),A8,"")
A9: 44908 | B9: 6551.3 | C9: =IF(B9="","",B9-B8) -> 25.1 | D9: 62.9 | E9: =IF(OR(C9="",C9=0,D9=""),"",D9/C9) -> 2.5059761 | F9: Jirkov | I9: =IF((G9="Servis"),A9,"")
A10: 44914 | B10: 6589.8 | C10: =IF(B10="","",B10-B9) -> 38.5 | D10: 33.5 | E10: =IF(OR(C10="",C10=0,D10=""),"",D10/C10) -> 0.87012987 | F10: Jirkov | I10: =IF((G10="Servis"),A10,"")
A11: 44949 | B11: 6662.7 | C11: =IF(B11="","",B11-B10) -> 72.9 | D11: 49.6 | E11: =IF(OR(C11="",C11=0,D11=""),"",D11/C11) -> 0.68038409 | F11: Jirkov | I11: =IF((G11="Servis"),A11,"")
A12: 44977 | B12: 6709 | C12: =IF(B12="","",B12-B11) -> 46.3 | D12: 67 | E12: =IF(OR(C12="",C12=0,D12=""),"",D12/C12) -> 1.4470842 | F12: Dílna | G12: Koudelka | H12: 44977 | I12: =IF((G12="Servis"),A12,"")
A13: 44991 | B13: 6730.3 | C13: =IF(B13="","",B13-B12) -> 21.3 | D13: 41.9 | E13: =IF(OR(C13="",C13=0,D13=""),"",D13/C13) -> 1.9671362 | F13: Zbuch | I13: =IF((G13="Servis"),A13,"")
A14: 45005 | B14: 6738.7 | C14: =IF(B14="","",B14-B13) -> 8.4 | D14: 21.8 | E14: =IF(OR(C14="",C14=0,D14=""),"",D14/C14) -> 2.5952381 | F14: D5 - 100 | I14: =IF((G14="Servis"),A14,"")
C15: =IF(B15="","",B15-B14) | E15: =IF(OR(C15="",C15=0,D15=""),"",D15/C15) | I15: =IF((G15="Servis"),A15,"")
C16: =IF(B16="","",B16-B15) | E16: =IF(OR(C16="",C16=0,D16=""),"",D16/C16) | I16: =IF((G16="Servis"),A16,"")
C17: =IF(B17="","",B17-B16) | E17: =IF(OR(C17="",C17=0,D17=""),"",D17/C17) | I17: =IF((G17="Servis"),A17,"")
C18: =IF(B18="","",B18-B17) | E18: =IF(OR(C18="",C18=0,D18=""),"",D18/C18) | I18: =IF((G18="Servis"),A18,"")
C19: =IF(B19="","",B19-B18) | E19: =IF(OR(C19="",C19=0,D19=""),"",D19/C19) | I19: =IF((G19="Servis"),A19,"")
C20: =IF(B20="","",B20-B19) | E20: =IF(OR(C20="",C20=0,D20=""),"",D20/C20) | I20: =IF((G20="Servis"),A20,"")
C21: =IF(B21="","",B21-B20) | E21: =IF(OR(C21="",C21=0,D21=""),"",D21/C21) | I21: =IF((G21="Servis"),A21,"")
C22: =IF(B22="","",B22-B21) | E22: =IF(OR(C22="",C22=0,D22=""),"",D22/C22) | I22: =IF((G22="Servis"),A22,"")
C23: =IF(B23="","",B23-B22) | E23: =IF(OR(C23="",C23=0,D23=""),"",D23/C23) | I23: =IF((G23="Servis"),A23,"")
C24: =IF(B24="","",B24-B23) | E24: =IF(OR(C24="",C24=0,D24=""),"",D24/C24) | I24: =IF((G24="Servis"),A24,"")
C25: =IF(B25="","",B25-B24) | E25: =IF(OR(C25="",C25=0,D25=""),"",D25/C25) | I25: =IF((G25="Servis"),A25,"")
C26: =IF(B26="","",B26-B25) | E26: =IF(OR(C26="",C26=0,D26=""),"",D26/C26) | I26: =IF((G26="Servis"),A26,"")
... C100: =IF(B100="","",B100-B99) | E100: =IF(OR(C100="",C100=0,D100=""),"",D100/C100) | I100: =IF((G100="Servis"),A100,"")

Sheet 45-Terex TL 70
A1: =Souhrn!A7&"-"&Souhrn!B7 -> 45-Terex TL 70
A2: Datum | B2: Mth | C2: Odpracováno | D2: Tankování | E2: Průměr | F2: Stavba | G2: Převoz | H2: Tankovaní | I2: Den Servisu
A3: 44839 | B3: 7134 | G3: Servis | I3: =IF((G3="Servis"),A3,"") -> 44839
A4: =DATEVALUE("1.11.2022") -> 44866 | B4: 7232.7 | C4: =IF(B4="","",B4-B3) -> 98.7 | E4: =IF(OR(C4="",C4=0,D4=""),"",D4/C4) | I4: =IF((G4="Servis"),A4,"")
A5: 44872 | B5: 7243.9 | C5: 11.2 | D5: 37.2 | E5: =IF(OR(C5="",C5=0,D5=""),"",D5/C5) -> 3.3214286 | I5: =IF((G5="Servis"),A5,"")
A6: 44873 | B6: 7259.7 | C6: =B6-B5 -> 15.8 | D6: 54.5 | E6: =IF(OR(C6="",C6=0,D6=""),"",D6/C6) -> 3.4493671
A7: 45241 | B7: 7279.8 | C7: =B7-B6 -> 20.1 | D7: 34.5 | E7: =IF(OR(C7="",C7=0,D7=""),"",D7/C7) -> 1.7164179 | I7: =IF((G7="Servis"),A7,"")
A8: 45244 | B8: 7291.1 | C8: =B8-B7 -> 11.3 | D8: 22 | E8: =IF(OR(C8="",C8=0,D8=""),"",D8/C8) -> 1.9469027 | I8: =IF((G8="Servis"),A8,"")
A9: 45245 | B9: 7297.5 | C9: =B9-B8 -> 6.4 | D9: 51.5 | E9: =IF(OR(C9="",C9=0,D9=""),"",D9/C9) -> 8.046875 | I9: =IF((G9="Servis"),A9,"")
A10: 45247 | B10: 7309.3 | C10: =B10-B9 -> 11.8 | D10: 25 | E10: =IF(OR(C10="",C10=0,D10=""),"",D10/C10) -> 2.1186441 | H10: Kanystr | I10: =IF((G10="Servis"),A10,"")
A11: 45248 | B11: 7315.4 | C11: =B11-B10 -> 6.1 | D11: 48 | E11: =IF(OR(C11="",C11=0,D11=""),"",D11/C11) -> 7.8688525 | I11: =IF((G11="Servis"),A11,"")
A12: 45251 | B12: 7340.1 | C12: =B12-B11 -> 24.7 | D12: 50 | E12: =IF(OR(C12="",C12=0,D12=""),"",D12/C12) -> 2.0242915 | H12: Kanystr | I12: =IF((G12="Servis"),A12,"")
A13: 45252 | B13: 7348.8 | C13: =B13-B12 -> 8.7 | D13: 63 | E13: =IF(OR(C13="",C13=0,D13=""),"",D13/C13) -> 7.2413793 | I13: =IF((G13="Servis"),A13,"")
A14: 45254 | B14: 7362.2 | C14: =B14-B13 -> 13.4 | D14: 25 | E14: =IF(OR(C14="",C14=0,D14=""),"",D14/C14) -> 1.8656716 | H14: Kanystr | I14: =IF((G14="Servis"),A14,"")
A15: 45254 | B15: 7367.2 | C15: =B15-B14 -> 5 | D15: 53 | E15: =IF(OR(C15="",C15=0,D15=""),"",D15/C15) -> 10.6 | I15: =IF((G15="Servis"),A15,"")
A16: 45257 | B16: 7387.1 | C16: =B16-B15 -> 19.9 | D16: 50 | E16: =IF(OR(C16="",C16=0,D16=""),"",D16/C16) -> 2.5125628 | H16: Kanystr | I16: =IF((G16="Servis"),A16,"")
A17: 45259 | B17: 7397.1 | C17: =B17-B16 -> 10 | D17: 63.8 | E17: =IF(OR(C17="",C17=0,D17=""),"",D17/C17) -> 6.38 | I17: =IF((G17="Servis"),A17,"")
A18: 44896 | B18: 7406.1 | C18: =B18-B17 -> 9 | D18: 30 | E18: =IF(OR(C18="",C18=0,D18=""),"",D18/C18) -> 3.3333333 | H18: Kanystr | I18: =IF((G18="Servis"),A18,"")
A19: 44897 | B19: 7418.3 | C19: =B19-B18 -> 12.2 | D19: 59 | E19: =IF(OR(C19="",C19=0,D19=""),"",D19/C19) -> 4.8360656 | I19: =IF((G19="Servis"),A19,"")
A20: 44900 | B20: 7438.1 | C20: =B20-B19 -> 19.8 | D20: 50 | E20: =IF(OR(C20="",C20=0,D20=""),"",D20/C20) -> 2.5252525 | H20: Kanystr | I20: =IF((G20="Servis"),A20,"")
A21: 45261 | B21: 7450.7 | C21: =B21-B20 -> 12.6 | D21: 70.4 | E21: =IF(OR(C21="",C21=0,D21=""),"",D21/C21) -> 5.5873016 | I21: =IF((G21="Servis"),A21,"")
A22: 44907 | B22: 7475.1 | C22: =B22-B21 -> 24.4 | D22: 65.5 | E22: =IF(OR(C22="",C22=0,D22=""),"",D22/C22) -> 2.6844262 | I22: =IF((G22="Servis"),A22,"")
A23: 44935 | B23: 7509.9 | C23: =B23-B22 -> 34.8 | D23: 62.2 | E23: =IF(OR(C23="",C23=0,D23=""),"",D23/C23) -> 1.7873563 | I23: =IF((G23="Servis"),A23,"")
A24: 44939 | B24: 7529.1 | D24: 25 | E24: =IF(OR(C24="",C24=0,D24=""),"",D24/C24) | H24: Kanystr | I24: =IF((G24="Servis"),A24,"")
A25: 44942 | D25: 46.8 | E25: =IF(OR(C25="",C25=0,D25=""),"",D25/C25) | I25: =IF((G25="Servis"),A25,"")
A26: 44945 | B26: 7547.2 | C26: =B26-B23 -> 37.3 | D26: 29.9 | E26: =IF(OR(C26="",C26=0,D26=""),"",D26/C26) -> 0.80160858 | I26: =IF((G26="Servis"),A26,"")
A27: 44949 | B27: 7569.6 | D27: 30 | E27: =IF(OR(C27="",C27=0,D27=""),"",D27/C27) | H27: Kanystr | I27: =IF((G27="Servis"),A27,"")
A28: 44949 | B28: 7572.3 | C28: =B28-B26 -> 25.1 | D28: 36.8 | E28: =IF(OR(C28="",C28=0,D28=""),"",D28/C28) -> 1.4661355 | I28: =IF((G28="Servis"),A28,"")
A29: 44953 | B29: 7586.1 | D29: 25 | E29: =IF(OR(C29="",C29=0,D29=""),"",D29/C29) | H29: Kanystr | I29: =IF((G29="Servis"),A29,"")
A30: 45260 | B30: 7599.8 | C30: =B30-B28 -> 27.5 | D30: 55.4 | E30: =IF(OR(C30="",C30=0,D30=""),"",D30/C30) -> 2.0145455 | I30: =IF((G30="Servis"),A30,"")
A31: 44963 | B31: 7608.8 | C31: =B31-B30 -> 9 | D31: 25.8 | E31: =IF(OR(C31="",C31=0,D31=""),"",D31/C31) -> 2.8666667 | I31: =IF((G31="Servis"),A31,"")
A32: 44986 | B32: 7619 | D32: 46.99 | E32: =IF(OR(C32="",C32=0,D32=""),"",D32/C32) | G32: Servis | H32: Koudelka | I32: =IF((G32="Servis"),A32,"") -> 44986
C33: =IF(B33="","",B33-B32) | E33: =IF(OR(C33="",C33=0,D33=""),"",D33/C33) | I33: =IF((G33="Servis"),A33,"")
C34: =IF(B34="","",B34-B33) | E34: =IF(OR(C34="",C34=0,D34=""),"",D34/C34) | I34: =IF((G34="Servis"),A34,"")
C35: =IF(B35="","",B35-B34) | E35: =IF(OR(C35="",C35=0,D35=""),"",D35/C35) | I35: =IF((G35="Servis"),A35,"")
C36: =IF(B36="","",B36-B35) | E36: =IF(OR(C36="",C36=0,D36=""),"",D36/C36) | I36: =IF((G36="Servis"),A36,"")
C37: =IF(B37="","",B37-B36) | E37: =IF(OR(C37="",C37=0,D37=""),"",D37/C37) | I37: =IF((G37="Servis"),A37,"")
C38: =IF(B38="","",B38-B37) | E38: =IF(OR(C38="",C38=0,D38=""),"",D38/C38) | I38: =IF((G38="Servis"),A38,"")
C39: =IF(B39="","",B39-B38) | E39: =IF(OR(C39="",C39=0,D39=""),"",D39/C39) | I39: =IF((G39="Servis"),A39,"")
C40: =IF(B40="","",B40-B39) | E40: =IF(OR(C40="",C40=0,D40=""),"",D40/C40) | I40: =IF((G40="Servis"),A40,"")
...

Sheet 68-JCB 406 B
A1: =Souhrn!A8&"-"&Souhrn!B8 -> 68-JCB 406 B
A2: Datum | B2: Mth | C2: Odpracováno | D2: Tankování | E2: Průměr | F2: Stavba | G2: Převoz | H2: Tankovaní | I2: Den Servisu
A3: 44813 | B3: 6003 | G3: Servis | I3: =IF((G3="Servis"),A3,"") -> 44813
A4: 44874 | B4: 6256.4 | C4: =IF(B4="","",B4-B3) -> 253.4 | D4: 72 | E4: =IF(OR(C4="",C4=0,D4=""),"",D4/C4) -> 0.28413575 | I4: =IF((G4="Servis"),A4,"")
A5: 44878 | B5: 6266.54 | C5: =IF(B5="","",B5-B4) -> 10.14 | D5: 44.4 | E5: =IF(OR(C5="",C5=0,D5=""),"",D5/C5) -> 4.3786982 | I5: =IF((G5="Servis"),A5,"")
A6: 44880 | B6: 6285.8 | C6: =IF(B6="","",B6-B5) -> 19.26 | D6: 58.6 | E6: =IF(OR(C6="",C6=0,D6=""),"",D6/C6) -> 3.0425753 | I6: =IF((G6="Servis"),A6,"")
A7: 44896 | B7: 6305.92 | C7: =IF(B7="","",B7-B6) -> 20.12 | E7: =IF(OR(C7="",C7=0,D7=""),"",D7/C7) | G7: do Zbuch | I7: =IF((G7="Servis"),A7,"")
A8: 44897 | B8: 6310 | C8: =IF(B8="","",B8-B7) -> 4.08 | D8: 30 | E8: =IF(OR(C8="",C8=0,D8=""),"",D8/C8) -> 7.3529412 | H8: Kanystr | I8: =IF((G8="Servis"),A8,"")
A9: 44897 | B9: 6313 | C9: =IF(B9="","",B9-B8) -> 3 | D9: 30 | E9: =IF(OR(C9="",C9=0,D9=""),"",D9/C9) -> 10 | H9: Kanystr | I9: =IF((G9="Servis"),A9,"")
A10: 44902 | B10: 6321.7 | C10: =IF(B10="","",B10-B9) -> 8.7 | D10: 71.5 | E10: =IF(OR(C10="",C10=0,D10=""),"",D10/C10) -> 8.2183908 | I10: =IF((G10="Servis"),A10,"")
A11: 44908 | B11: 6335.5 | C11: =IF(B11="","",B11-B10) -> 13.8 | D11: 30 | E11: =IF(OR(C11="",C11=0,D11=""),"",D11/C11) -> 2.173913 | H11: Kanystr | I11: =IF((G11="Servis"),A11,"")
A12: 44910 | B12: 6343.8 | C12: =IF(B12="","",B12-B11) -> 8.3 | D12: 20 | E12: =IF(OR(C12="",C12=0,D12=""),"",D12/C12) -> 2.4096386 | H12: Kanystr | I12: =IF((G12="Servis"),A12,"")
A13: 44914 | B13: 6351.5 | C13: =IF(B13="","",B13-B12) -> 7.7 | D13: 20 | E13: =IF(OR(C13="",C13=0,D13=""),"",D13/C13) -> 2.5974026 | H13: Kanystr | I13: =IF((G13="Servis"),A13,"")
A14: 44930 | B14: 6367.2 | C14: =IF(B14="","",B14-B13) -> 15.7 | D14: 39.4 | E14: =IF(OR(C14="",C14=0,D14=""),"",D14/C14) -> 2.5095541 | I14: =IF((G14="Servis"),A14,"")
A15: 44936 | B15: 6376.7 | C15: =IF(B15="","",B15-B14) -> 9.5 | D15: 20 | E15: =IF(OR(C15="",C15=0,D15=""),"",D15/C15) -> 2.1052632 | H15: Kanystr | I15: =IF((G15="Servis"),A15,"")
A16: 44938 | B16: 6383.77 | C16: =IF(B16="","",B16-B15) -> 7.07 | D16: 20 | E16: =IF(OR(C16="",C16=0,D16=""),"",D16/C16) -> 2.8288543 | H16: Kanystr | I16: =IF((G16="Servis"),A16,"")
A17: 44939 | B17: 6389.19 | C17: =IF(B17="","",B17-B16) -> 5.42 | D17: 20 | E17: =IF(OR(C17="",C17=0,D17=""),"",D17/C17) -> 3.6900369 | H17: Kanystr | I17: =IF((G17="Servis"),A17,"")
A18: 44942 | B18: 6393.89 | C18: =IF(B18="","",B18-B17) -> 4.7 | D18: 20 | E18: =IF(OR(C18="",C18=0,D18=""),"",D18/C18) -> 4.2553191 | H18: Kanystr | I18: =IF((G18="Servis"),A18,"")
A19: 44943 | B19: 6397.42 | C19: =IF(B19="","",B19-B18) -> 3.53 | D19: 39.7 | E19: =IF(OR(C19="",C19=0,D19=""),"",D19/C19) -> 11.246459 | I19: =IF((G19="Servis"),A19,"")
A20: 44945 | B20: 6408.72 | C20: =IF(B20="","",B20-B19) -> 11.3 | D20: 30 | E20: =IF(OR(C20="",C20=0,D20=""),"",D20/C20) -> 2.6548673 | H20: Kanystr | I20: =IF((G20="Servis"),A20,"")
A21: 44951 | B21: 6419.47 | C21: =IF(B21="","",B21-B20) -> 10.75 | D21: 30 | E21: =IF(OR(C21="",C21=0,D21=""),"",D21/C21) -> 2.7906977 | H21: Kanystr | I21: =IF((G21="Servis"),A21,"")
A22: 44953 | B22: 6426.58 | C22: =IF(B22="","",B22-B21) -> 7.11 | D22: 20 | E22: =IF(OR(C22="",C22=0,D22=""),"",D22/C22) -> 2.8129395 | H22: Kanystr | I22: =IF((G22="Servis"),A22,"")
A23: 44956 | B23: 6434.3 | C23: =IF(B23="","",B23-B22) -> 7.72 | D23: 69.8 | E23: =IF(OR(C23="",C23=0,D23=""),"",D23/C23) -> 9.0414508 | I23: =IF((G23="Servis"),A23,"")
A24: 44966 | B24: 6453.01 | C24: =IF(B24="","",B24-B23) -> 18.71 | D24: 50 | E24: =IF(OR(C24="",C24=0,D24=""),"",D24/C24) -> 2.6723677 | H24: Kanystr | I24: =IF((G24="Servis"),A24,"")
A25: 44973 | B25: 6474.01 | C25: =IF(B25="","",B25-B24) -> 21 | D25: 35 | E25: =IF(OR(C25="",C25=0,D25=""),"",D25/C25) -> 1.6666667 | H25: Kanystr | I25: =IF((G25="Servis"),A25,"")
A26: 44975 | B26: 6481.01 | C26: =IF(B26="","",B26-B25) -> 7 | D26: 30 | E26: =IF(OR(C26="",C26=0,D26=""),"",D26/C26) -> 4.2857143 | H26: Kanystr | I26: =IF((G26="Servis"),A26,"")
A27: 44977 | B27: 6487.8 | C27: =IF(B27="","",B27-B26) -> 6.79 | D27: 67.7 | E27: =IF(OR(C27="",C27=0,D27=""),"",D27/C27) -> 9.9705449 | I27: =IF((G27="Servis"),A27,"")
E28: =IF(OR(C28="",C28=0,D28=""),"",D28/C28) | I28: =IF((G28="Servis"),A28,"")
C29: =IF(B29="","",B29-B28) | E29: =IF(OR(C29="",C29=0,D29=""),"",D29/C29) | I29: =IF((G29="Servis"),A29,"")
C30: =IF(B30="","",B30-B29) | E30: =IF(OR(C30="",C30=0,D30=""),"",D30/C30) | I30: =IF((G30="Servis"),A30,"")
C31: =IF(B31="","",B31-B30) | E31: =IF(OR(C31="",C31=0,D31=""),"",D31/C31) | I31: =IF((G31="Servis"),A31,"")
C32: =IF(B32="","",B32-B31) | E32: =IF(OR(C32="",C32=0,D32=""),"",D32/C32) | I32: =IF((G32="Servis"),A32,"")
C33: =IF(B33="","",B33-B32) | E33: =IF(OR(C33="",C33=0,D33=""),"",D33/C33) | I33: =IF((G33="Servis"),A33,"")
C34: =IF(B34="","",B34-B33) | E34: =IF(OR(C34="",C34=0,D34=""),"",D34/C34) | I34: =IF((G34="Servis"),A34,"")
C35: =IF(B35="","",B35-B34) | E35: =IF(OR(C35="",C35=0,D35=""),"",D35/C35) | I35: =IF((G35="Servis"),A35,"")
C36: =IF(B36="","",B36-B35) | E36: =IF(OR(C36="",C36=0,D36=""),"",D36/C36) | I36: =IF((G36="Servis"),A36,"")
C37: =IF(B37="","",B37-B36) | E37: =IF(OR(C37="",C37=0,D37=""),"",D37/C37) | I37: =IF((G37="Servis"),A37,"")
C38: =IF(B38="","",B38-B37) | E38: =IF(OR(C38="",C38=0,D38=""),"",D38/C38) | I38: =IF((G38="Servis"),A38,"")
C39: =IF(B39="","",B39-B38) | E39: =IF(OR(C39="",C39=0,D39=""),"",D39/C39) | I39: =IF((G39="Servis"),A39,"")
C40: =IF(B40="","",B40-B39) | E40: =IF(OR(C40="",C40=0,D40=""),"",D40/C40) | I40: =IF((G40="Servis"),A40,"")
...

Sheet 69-JCB 406 B
A1: =Souhrn!A9&"-"&Souhrn!B9 -> 69-JCB 406 B
A2: Datum | B2: Mth | C2: Odpracováno | D2: Tankování | E2: Průměr | F2: Stavba | G2: Převoz | H2: Tankovaní | I2: Den Servisu
A3: 44941 | B3: 5207 | F3: Dílna | G3: Servis | I3: =IF((G3="Servis"),A3,"") -> 44941
A4: 44942 | B4: 5225 | C4: =IF(B4="","",B4-B3) -> 18 | D4: 68 | E4: =IF(OR(C4="",C4=0,D4=""),"",D4/C4) -> 3.7777778 | I4: =IF((G4="Servis"),A4,"")
A5: 44943 | B5: 5247.2 | C5: =IF(B5="","",B5-B4) -> 22.2 | D5: 45 | E5: =IF(OR(C5="",C5=0,D5=""),"",D5/C5) -> 2.027027 | I5: =IF((G5="Servis"),A5,"")
A6: 44944 | C6: =IF(B6="","",B6-B5) | E6: =IF(OR(C6="",C6=0,D6=""),"",D6/C6) | I6: =IF((G6="Servis"),A6,"")
C7: =IF(B7="","",B7-B6) | E7: =IF(OR(C7="",C7=0,D7=""),"",D7/C7) | I7: =IF((G7="Servis"),A7,"")
C8: =IF(B8="","",B8-B7) | E8: =IF(OR(C8="",C8=0,D8=""),"",D8/C8) | I8: =IF((G8="Servis"),A8,"")
C9: =IF(B9="","",B9-B8) | E9: =IF(OR(C9="",C9=0,D9=""),"",D9/C9) | I9: =IF((G9="Servis"),A9,"")
C10: =IF(B10="","",B10-B9) | E10: =IF(OR(C10="",C10=0,D10=""),"",D10/C10) | I10: =IF((G10="Servis"),A10,"")
C11: =IF(B11="","",B11-B10) | E11: =IF(OR(C11="",C11=0,D11=""),"",D11/C11) | I11: =IF((G11="Servis"),A11,"")
C12: =IF(B12="","",B12-B11) | E12: =IF(OR(C12="",C12=0,D12=""),"",D12/C12) | I12: =IF((G12="Servis"),A12,"")
C13: =IF(B13="","",B13-B12) | E13: =IF(OR(C13="",C13=0,D13=""),"",D13/C13) | I13: =IF((G13="Servis"),A13,"")
C14: =IF(B14="","",B14-B13) | E14: =IF(OR(C14="",C14=0,D14=""),"",D14/C14) | I14: =IF((G14="Servis"),A14,"")
C15: =IF(B15="","",B15-B14) | E15: =IF(OR(C15="",C15=0,D15=""),"",D15/C15) | I15: =IF((G15="Servis"),A15,"")
C16: =IF(B16="","",B16-B15) | E16: =IF(OR(C16="",C16=0,D16=""),"",D16/C16) | I16: =IF((G16="Servis"),A16,"")
C17: =IF(B17="","",B17-B16) | E17: =IF(OR(C17="",C17=0,D17=""),"",D17/C17) | I17: =IF((G17="Servis"),A17,"")
C18: =IF(B18="","",B18-B17) | E18: =IF(OR(C18="",C18=0,D18=""),"",D18/C18) | I18: =IF((G18="Servis"),A18,"")
... C100: =IF(B100="","",B100-B99) | E100: =IF(OR(C100="",C100=0,D100=""),"",D100/C100) | I100: =IF((G100="Servis"),A100,"")

Sheet 74-JCB 406
A1: =Souhrn!A10&"-"&Souhrn!B10 -> 74-JCB 406
A2: Datum | B2: Mth | C2: Odpracováno | D2: Tankování | E2: Průměr | F2: Stavba | G2: Převoz | H2: Tankovaní | I2: Den Servisu
A3: 44799 | B3: 4807 | G3: Servis | I3: =IF((G3="Servis"),A3,"") -> 44799
A4: 44861 | B4: 5095 | C4: =IF(B4="","",B4-B3) -> 288 | D4: 52.5 | E4: =IF(OR(C4="",C4=0,D4=""),"",D4/C4) -> 0.18229167 | I4: =IF((G4="Servis"),A4,"")
A5: 44873 | B5: 5130.9 | C5: =IF(B5="","",B5-B4) -> 35.9 | D5: 73 | E5: =IF(OR(C5="",C5=0,D5=""),"",D5/C5) -> 2.0334262 | I5: =IF((G5="Servis"),A5,"")
A6: 44881 | B6: 5151.13 | C6: =IF(B6="","",B6-B5) -> 20.23 | D6: 50.4 | E6: =IF(OR(C6="",C6=0,D6=""),"",D6/C6) -> 2.4913495 | I6: =IF((G6="Servis"),A6,"")
A7: 44889 | B7: 5186 | C7: =IF(B7="","",B7-B6) -> 34.87 | D7: 30 | E7: =IF(OR(C7="",C7=0,D7=""),"",D7/C7) -> 0.8603384 | H7: Kanystr | I7: =IF((G7="Servis"),A7,"")
A8: 44892 | B8: 5203 | C8: =IF(B8="","",B8-B7) -> 17 | D8: 25 | E8: =IF(OR(C8="",C8=0,D8=""),"",D8/C8) -> 1.4705882 | H8: Kanystr | I8: =IF((G8="Servis"),A8,"")
A9: 44909 | B9: 5223 | C9: =IF(B9="","",B9-B8) -> 20 | D9: 24 | E9: =IF(OR(C9="",C9=0,D9=""),"",D9/C9) -> 1.2 | H9: Kanystr | I9: =IF((G9="Servis"),A9,"")
A10: 44910 | B10: 5234.6 | C10: =IF(B10="","",B10-B9) -> 11.6 | D10: 51.7 | E10: =IF(OR(C10="",C10=0,D10=""),"",D10/C10) -> 4.4568966 | I10: =IF((G10="Servis"),A10,"")
A11: 44916 | B11: 5251.1 | C11: =IF(B11="","",B11-B10) -> 16.5 | D11: 35.6 | E11: =IF(OR(C11="",C11=0,D11=""),"",D11/C11) -> 2.1575758 | I11: =IF((G11="Servis"),A11,"")
A12: 44937 | B12: 5276.3 | C12: =IF(B12="","",B12-B11) -> 25.2 | D12: 69.3 | E12: =IF(OR(C12="",C12=0,D12=""),"",D12/C12) -> 2.75 | I12: =IF((G12="Servis"),A12,"")
A13: 44950 | B13: 5304.4 | C13: =IF(B13="","",B13-B12) -> 28.1 | D13: 72.9 | E13: =IF(OR(C13="",C13=0,D13=""),"",D13/C13) -> 2.594306 | G13: Servis | I13: =IF((G13="Servis"),A13,"") -> 44950
A14: 44958 | B14: 5333.83 | C14: =IF(B14="","",B14-B13) -> 29.43 | D14: 75 | E14: =IF(OR(C14="",C14=0,D14=""),"",D14/C14) -> 2.54842 | I14: =IF((G14="Servis"),A14,"")
A15: 44964 | B15: 5359.6 | C15: =IF(B15="","",B15-B14) -> 25.77 | D15: 38.9 | E15: =IF(OR(C15="",C15=0,D15=""),"",D15/C15) -> 1.5095072 | I15: =IF((G15="Servis"),A15,"")
A16: 44971 | B16: 5382.9 | C16: =IF(B16="","",B16-B15) -> 23.3 | D16: 33.3 | E16: =IF(OR(C16="",C16=0,D16=""),"",D16/C16) -> 1.4291845 | I16: =IF((G16="Servis"),A16,"")
A17: 44986 | B17: 5408 | C17: =IF(B17="","",B17-B16) -> 25.1 | D17: 61.2 | E17: =IF(OR(C17="",C17=0,D17=""),"",D17/C17) -> 2.438247 | I17: =IF((G17="Servis"),A17,"")
A18: 44992 | B18: 5432.2 | C18: =IF(B18="","",B18-B17) -> 24.2 | D18: 49.9 | E18: =IF(OR(C18="",C18=0,D18=""),"",D18/C18) -> 2.0619835 | I18: =IF((G18="Servis"),A18,"")
A19: 45000 | B19: 5450.1 | C19: =IF(B19="","",B19-B18) -> 17.9 | D19: 29.5 | E19: =IF(OR(C19="",C19=0,D19=""),"",D19/C19) -> 1.6480447 | I19: =IF((G19="Servis"),A19,"")
C20: =IF(B20="","",B20-B19) | E20: =IF(OR(C20="",C20=0,D20=""),"",D20/C20) | I20: =IF((G20="Servis"),A20,"")
C21: =IF(B21="","",B21-B20) | E21: =IF(OR(C21="",C21=0,D21=""),"",D21/C21) | I21: =IF((G21="Servis"),A21,"")
C22: =IF(B22="","",B22-B21) | E22: =IF(OR(C22="",C22=0,D22=""),"",D22/C22) | I22: =IF((G22="Servis"),A22,"")
C23: =IF(B23="","",B23-B22) | E23: =IF(OR(C23="",C23=0,D23=""),"",D23/C23) | I23: =IF((G23="Servis"),A23,"")
C24: =IF(B24="","",B24-B23) | E24: =IF(OR(C24="",C24=0,D24=""),"",D24/C24) | I24: =IF((G24="Servis"),A24,"")
C25: =IF(B25="","",B25-B24) | E25: =IF(OR(C25="",C25=0,D25=""),"",D25/C25) | I25: =IF((G25="Servis"),A25,"")
C26: =IF(B26="","",B26-B25) | E26: =IF(OR(C26="",C26=0,D26=""),"",D26/C26) | I26: =IF((G26="Servis"),A26,"")
C27: =IF(B27="","",B27-B26) | E27: =IF(OR(C27="",C27=0,D27=""),"",D27/C27) | I27: =IF((G27="Servis"),A27,"")
C28: =IF(B28="","",B28-B27) | E28: =IF(OR(C28="",C28=0,D28=""),"",D28/C28) | I28: =IF((G28="Servis"),A28,"")
C29: =IF(B29="","",B29-B28) | E29: =IF(OR(C29="",C29=0,D29=""),"",D29/C29) | I29: =IF((G29="Servis"),A29,"")
C30: =IF(B30="","",B30-B29) | E30: =IF(OR(C30="",C30=0,D30=""),"",D30/C30) | I30: =IF((G30="Servis"),A30,"")
C31: =IF(B31="","",B31-B30) | E31: =IF(OR(C31="",C31=0,D31=""),"",D31/C31) | I31: =IF((G31="Servis"),A31,"")
... C100: =IF(B100="","",B100-B99) | E100: =IF(OR(C100="",C100=0,D100=""),"",D100/C100) | I100: =IF((G100="Servis"),A100,"")

Sheet 75-JCB 436 e
A1: =Souhrn!A11&"-"&Souhrn!B11 -> 75-JCB 436 e
A2: Datum | B2: Mth | C2: Odpracováno | D2: Tankování | E2: Průměr | F2: Stavba | G2: Převoz | H2: Tankovaní | I2: Den Servisu
A3: 44849 | B3: 4307 | G3: Servis | I3: =IF((G3="Servis"),A3,"") -> 44849
A4: 44869 | B4: 4383.1 | C4: =IF(B4="","",B4-B3) -> 76.1 | D4: 114.3 | E4: =IF(OR(C4="",C4=0,D4=""),"",D4/C4) -> 1.5019711 | I4: =IF((G4="Servis"),A4,"")
A5: 44874 | B5: 4400.7 | C5: =IF(B5="","",B5-B4) -> 17.6 | D5: 108.5 | E5: =IF(OR(C5="",C5=0,D5=""),"",D5/C5) -> 6.1647727 | H5: Šindelař | I5: =IF((G5="Servis"),A5,"")
A6: 44874 | B6: 4409.3 | C6: =IF(B6="","",B6-B5) -> 8.6 | E6: =IF(OR(C6="",C6=0,D6=""),"",D6/C6) | I6: =IF((G6="Servis"),A6,"")
A7: 44879 | B7: 4436 | C7: =IF(B7="","",B7-B6) -> 26.7 | D7: 108.9 | E7: =IF(OR(C7="",C7=0,D7=""),"",D7/C7) -> 4.0786517 | H7: Martin | I7: =IF((G7="Servis"),A7,"")
A8: 44883 | B8: 4440.3 | C8: =IF(B8="","",B8-B7) -> 4.3 | D8: 61.6 | E8: =IF(OR(C8="",C8=0,D8=""),"",D8/C8) -> 14.325581 | F8: Dvůr | H8: Martin | I8: =IF((G8="Servis"),A8,"")
A9: 44943 | B9: 4455.2 | C9: =IF(B9="","",B9-B8) -> 14.9 | D9: 157.9 | E9: =IF(OR(C9="",C9=0,D9=""),"",D9/C9) -> 10.597315 | F9: Dvůr | I9: =IF((G9="Servis"),A9,"")
A10: 44979 | B10: 4471 | C10: =IF(B10="","",B10-B9) -> 15.8 | D10: 157 | E10: =IF(OR(C10="",C10=0,D10=""),"",D10/C10) -> 9.9367089 | F10: Dvůr | H10: Kapr | I10: =IF((G10="Servis"),A10,"")
A11: 44982 | B11: 4487.4 | C11: =IF(B11="","",B11-B10) -> 16.4 | D11: 140.76 | E11: =IF(OR(C11="",C11=0,D11=""),"",D11/C11) -> 8.5829268 | F11: Dvůr | H11: Martin | I11: =IF((G11="Servis"),A11,"")
A12: 44986 | B12: 4499.1 | C12: =IF(B12="","",B12-B11) -> 11.7 | D12: 117.1 | E12: =IF(OR(C12="",C12=0,D12=""),"",D12/C12) -> 10.008547 | F12: Dvůr | H12: Cisterna | I12: =IF((G12="Servis"),A12,"")
A13: 44992 | B13: 4513 | C13: =IF(B13="","",B13-B12) -> 13.9 | D13: 173.3 | E13: =IF(OR(C13="",C13=0,D13=""),"",D13/C13) -> 12.467626 | F13: Dvůr | H13: Šindelář | I13: =IF((G13="Servis"),A13,"")
C14: =IF(B14="","",B14-B13) | E14: =IF(OR(C14="",C14=0,D14=""),"",D14/C14) | I14: =IF((G14="Servis"),A14,"")
C15: =IF(B15="","",B15-B14) | E15: =IF(OR(C15="",C15=0,D15=""),"",D15/C15) | I15: =IF((G15="Servis"),A15,"")
C16: =IF(B16="","",B16-B15) | E16: =IF(OR(C16="",C16=0,D16=""),"",D16/C16) | I16: =IF((G16="Servis"),A16,"")
C17: =IF(B17="","",B17-B16) | E17: =IF(OR(C17="",C17=0,D17=""),"",D17/C17) | I17: =IF((G17="Servis"),A17,"")
C18: =IF(B18="","",B18-B17) | E18: =IF(OR(C18="",C18=0,D18=""),"",D18/C18) | I18: =IF((G18="Servis"),A18,"")
C19: =IF(B19="","",B19-B18) | E19: =IF(OR(C19="",C19=0,D19=""),"",D19/C19) | I19: =IF((G19="Servis"),A19,"")
C20: =IF(B20="","",B20-B19) | E20: =IF(OR(C20="",C20=0,D20=""),"",D20/C20) | I20: =IF((G20="Servis"),A20,"")
C21: =IF(B21="","",B21-B20) | E21: =IF(OR(C21="",C21=0,D21=""),"",D21/C21) | I21: =IF((G21="Servis"),A21,"")
C22: =IF(B22="","",B22-B21) | E22: =IF(OR(C22="",C22=0,D22=""),"",D22/C22) | I22: =IF((G22="Servis"),A22,"")
C23: =IF(B23="","",B23-B22) | E23: =IF(OR(C23="",C23=0,D23=""),"",D23/C23) | I23: =IF((G23="Servis"),A23,"")
C24: =IF(B24="","",B24-B23) | E24: =IF(OR(C24="",C24=0,D24=""),"",D24/C24) | I24: =IF((G24="Servis"),A24,"")
C25: =IF(B25="","",B25-B24) | E25: =IF(OR(C25="",C25=0,D25=""),"",D25/C25) | I25: =IF((G25="Servis"),A25,"")
... C100: =IF(B100="","",B100-B99) | E100: =IF(OR(C100="",C100=0,D100=""),"",D100/C100) | I100: =IF((G100="Servis"),A100,"")

Sheet 87-Terex TL 80
A1: =Souhrn!A12&"-"&Souhrn!B12 -> 87-Terex TL 80
A2: Datum | B2: Mth | C2: Odpracováno | D2: Tankování | E2: Průměr | F2: Stavba | G2: Převoz | H2: Tankovaní | I2: Den Servisu
A3: 44798 | B3: 4104 | G3: Servis | I3: =IF((G3="Servis"),A3,"") -> 44798
A4: 44861 | B4: 4407 | C4: =IF(B4="","",B4-B3) -> 303 | D4: 72.2 | E4: =IF(OR(C4="",C4=0,D4=""),"",D4/C4) -> 0.23828383 | F4: Malešická | I4: =IF((G4="Servis"),A4,"")
A5: 44866 | B5: 4430.6 | C5: =IF(B5="","",B5-B4) -> 23.6 | D5: 72.5 | E5: =IF(OR(C5="",C5=0,D5=""),"",D5/C5) -> 3.0720339 | F5: Malešická | I5: =IF((G5="Servis"),A5,"")
A6: 44874 | B6: 4461.7 | C6: =IF(B6="","",B6-B5) -> 31.1 | D6: 48.5 | E6: =IF(OR(C6="",C6=0,D6=""),"",D6/C6) -> 1.5594855 | F6: Malešická | I6: =IF((G6="Servis"),A6,"")
A7: 44881 | B7: 4500.5 | C7: =IF(B7="","",B7-B6) -> 38.8 | D7: 66.9 | E7: =IF(OR(C7="",C7=0,D7=""),"",D7/C7) -> 1.7242268 | F7: Malešická | I7: =IF((G7="Servis"),A7,"")
A8: 44888 | B8: 4539.6 | C8: =IF(B8="","",B8-B7) -> 39.1 | D8: 53.7 | E8: =IF(OR(C8="",C8=0,D8=""),"",D8/C8) -> 1.3734015 | F8: Malešická | I8: =IF((G8="Servis"),A8,"")
A9: 44896 | B9: 4567.1 | C9: =IF(B9="","",B9-B8) -> 27.5 | D9: 25 | E9: =IF(OR(C9="",C9=0,D9=""),"",D9/C9) -> 0.90909091 | F9: Malešická | H9: Kadlec | I9: =IF((G9="Servis"),A9,"")
A10: 44904 | B10: 4576.3 | C10: =IF(B10="","",B10-B9) -> 9.2 | D10: 25 | E10: =IF(OR(C10="",C10=0,D10=""),"",D10/C10) -> 2.7173913 | F10: Malešická | H10: Kadlec | I10: =IF((G10="Servis"),A10,"")
A11: 44909 | B11: 4587.1 | C11: =IF(B11="","",B11-B10) -> 10.8 | D11: 57.1 | E11: =IF(OR(C11="",C11=0,D11=""),"",D11/C11) -> 5.287037 | F11: Malešická | I11: =IF((G11="Servis"),A11,"")
A12: 44915 | B12: 4601.7 | C12: =IF(B12="","",B12-B11) -> 14.6 | D12: 20 | E12: =IF(OR(C12="",C12=0,D12=""),"",D12/C12) -> 1.369863 | F12: Malešická | H12: Kadlec | I12: =IF((G12="Servis"),A12,"")
A13: 44928 | B13: 4605 | C13: =IF(B13="","",B13-B12) -> 3.3 | D13: 26.3 | E13: =IF(OR(C13="",C13=0,D13=""),"",D13/C13) -> 7.969697 | F13: Malešický Háj | G13: Servis | I13: =IF((G13="Servis"),A13,"") -> 44928
A14: 44938 | B14: 4622.2 | C14: =IF(B14="","",B14-B13) -> 17.2 | D14: 25 | E14: =IF(OR(C14="",C14=0,D14=""),"",D14/C14) -> 1.4534884 | F14: D4 - Příbram | H14: Ruslan Čip | I14: =IF((G14="Servis"),A14,"")
A15: 44939 | B15: 4627.3 | C15: =IF(B15="","",B15-B14) -> 5.1 | D15: 61.7 | E15: =IF(OR(C15="",C15=0,D15=""),"",D15/C15) -> 12.098039 | F15: D4 - Příbram | I15: =IF((G15="Servis"),A15,"")
A16: 44943 | B16: 4655.1 | C16: =IF(B16="","",B16-B15) -> 27.8 | D16: 73.7 | E16: =IF(OR(C16="",C16=0,D16=""),"",D16/C16) -> 2.6510791 | F16: D4 - Příbram | I16: =IF((G16="Servis"),A16,"")
A17: 44945 | B17: 4666.7 | C17: =IF(B17="","",B17-B16) -> 11.6 | D17: 31.3 | E17: =IF(OR(C17="",C17=0,D17=""),"",D17/C17) -> 2.6982759 | F17: D4 - Příbram | I17: =IF((G17="Servis"),A17,"")
A18: 44949 | B18: 4694 | C18: =IF(B18="","",B18-B17) -> 27.3 | D18: 69 | E18: =IF(OR(C18="",C18=0,D18=""),"",D18/C18) -> 2.5274725 | F18: D4 - Příbram | I18: =IF((G18="Servis"),A18,"")
A19: 44953 | B19: 4724.1 | C19: =IF(B19="","",B19-B18) -> 30.1 | D19: 62.6 | E19: =IF(OR(C19="",C19=0,D19=""),"",D19/C19) -> 2.0797342 | F19: D4 - Příbram | I19: =IF((G19="Servis"),A19,"")
A20: 44959 | B20: 4729 | C20: =IF(B20="","",B20-B19) -> 4.9 | E20: =IF(OR(C20="",C20=0,D20=""),"",D20/C20) | G20: Koudelka | I20: =IF((G20="Servis"),A20,"") | J20: Poškozené p.z.koncové světlo
A21: 44966 | B21: 4751.3 | C21: =IF(B21="","",B21-B20) -> 22.3 | D21: 61 | E21: =IF(OR(C21="",C21=0,D21=""),"",D21/C21) -> 2.735426 | F21: Nehvizdy | I21: =IF((G21="Servis"),A21,"")
A22: 44974 | B22: 4761.2 | C22: =IF(B22="","",B22-B21) -> 9.9 | D22: 42.6 | E22: =IF(OR(C22="",C22=0,D22=""),"",D22/C22) -> 4.3030303 | F22: Nehvizdy | I22: =IF((G22="Servis"),A22,"")
A23: 44981 | B23: 4779 | C23: =IF(B23="","",B23-B22) -> 17.8 | D23: 50.3 | E23: =IF(OR(C23="",C23=0,D23=""),"",D23/C23) -> 2.8258427 | F23: Nehvizdy | I23: =IF((G23="Servis"),A23,"")
A24: 44987 | B24: 4803 | C24: =IF(B24="","",B24-B23) -> 24 | D24: 43.3 | E24: =IF(OR(C24="",C24=0,D24=""),"",D24/C24) -> 1.8041667 | F24: Nehvizdy | I24: =IF((G24="Servis"),A24,"")
A25: 44992 | B25: 4818.5 | C25: =IF(B25="","",B25-B24) -> 15.5 | D25: 20 | E25: =IF(OR(C25="",C25=0,D25=""),"",D25/C25) -> 1.2903226 | F25: Nehvizdy | H25: Mustafa | I25: =IF((G25="Servis"),A25,"")
A26: 44992 | B26: 4824.4 | C26: =IF(B26="","",B26-B25) -> 5.9 | D26: 63.1 | E26: =IF(OR(C26="",C26=0,D26=""),"",D26/C26) -> 10.694915 | F26: Nehvizdy | I26: =IF((G26="Servis"),A26,"")
A27: 44999 | B27: 4848.8 | C27: =IF(B27="","",B27-B26) -> 24.4 | D27: 10 | E27: =IF(OR(C27="",C27=0,D27=""),"",D27/C27) -> 0.40983607 | F27: Nehvizdy | H27: Mustafa | I27: =IF((G27="Servis"),A27,"")
A28: 44998 | B28: 4850.6 | C28: =IF(B28="","",B28-B27) -> 1.8 | D28: 49.3 | E28: =IF(OR(C28="",C28=0,D28=""),"",D28/C28) -> 27.388889 | F28: Nehvizdy | I28: =IF((G28="Servis"),A28,"")
C29: =IF(B29="","",B29-B28) | E29: =IF(OR(C29="",C29=0,D29=""),"",D29/C29) | F29: dílna | I29: =IF((G29="Servis"),A29,"")
C30: =IF(B30="","",B30-B29) | E30: =IF(OR(C30="",C30=0,D30=""),"",D30/C30) | I30: =IF((G30="Servis"),A30,"")
C31: =IF(B31="","",B31-B30) | E31: =IF(OR(C31="",C31=0,D31=""),"",D31/C31) | I31: =IF((G31="Servis"),A31,"")
C32: =IF(B32="","",B32-B31) | E32: =IF(OR(C32="",C32=0,D32=""),"",D32/C32) | I32: =IF((G32="Servis"),A32,"")
C33: =IF(B33="","",B33-B32) | E33: =IF(OR(C33="",C33=0,D33=""),"",D33/C33) | I33: =IF((G33="Servis"),A33,"")
C34: =IF(B34="","",B34-B33) | E34: =IF(OR(C34="",C34=0,D34=""),"",D34/C34) | I34: =IF((G34="Servis"),A34,"")
C35: =IF(B35="","",B35-B34) | E35: =IF(OR(C35="",C35=0,D35=""),"",D35/C35) | I35: =IF((G35="Servis"),A35,"")
C36: =IF(B36="","",B36-B35) | E36: =IF(OR(C36="",C36=0,D36=""),"",D36/C36) | I36: =IF((G36="Servis"),A36,"")
C37: =IF(B37="","",B37-B36) | E37: =IF(OR(C37="",C37=0,D37=""),"",D37/C37) | I37: =IF((G37="Servis"),A37,"")
C38: =IF(B38="","",B38-B37) | E38: =IF(OR(C38="",C38=0,D38=""),"",D38/C38) | I38: =IF((G38="Servis"),A38,"")
C39: =IF(B39="","",B39-B38) | E39: =IF(OR(C39="",C39=0,D39=""),"",D39/C39) | I39: =IF((G39="Servis"),A39,"")
C40: =IF(B40="","",B40-B39) | E40: =IF(OR(C40="",C40=0,D40=""),"",D40/C40) | I40: =IF((G40="Servis"),A40,"")
...

Sheet 88-Terex TL 80
A1: =Souhrn!A13&"-"&Souhrn!B13 -> 88-Terex TL 80
A2: Datum | B2: Mth | C2: Odpracováno | D2: Tankování | E2: Průměr | F2: Stavba | G2: Převoz | H2: Tankovaní | I2: Den Servisu
A3: 44738 | B3: 4386 | G3: Servis | I3: =IF((G3="Servis"),A3,"") -> 44738
A4: 44861 | B4: 4777.7 | C4: =IF(B4="","",B4-B3) -> 391.7 | D4: 69.1 | E4: =IF(OR(C4="",C4=0,D4=""),"",D4/C4) -> 0.17641052 | F4: Lapi | I4: =IF((G4="Servis"),A4,"")
A5: 44866 | B5: 4796 | C5: =IF(B5="","",B5-B4) -> 18.3 | D5: 66.7 | E5: =IF(OR(C5="",C5=0,D5=""),"",D5/C5) -> 3.6448087 | F5: Lapi | I5: =IF((G5="Servis"),A5,"")
A6: 44869 | B6: 4811.2 | C6: =IF(B6="","",B6-B5) -> 15.2 | D6: 44.1 | E6: =IF(OR(C6="",C6=0,D6=""),"",D6/C6) -> 2.9013158 | F6: Prakab | I6: =IF((G6="Servis"),A6,"")
A7: 44874 | B7: 4824.4 | C7: =IF(B7="","",B7-B6) -> 13.2 | D7: 54.1 | E7: =IF(OR(C7="",C7=0,D7=""),"",D7/C7) -> 4.0984848 | F7: Prakab | I7: =IF((G7="Servis"),A7,"")
A8: 44880 | B8: 4848 | C8: =IF(B8="","",B8-B7) -> 23.6 | D8: 55.6 | E8: =IF(OR(C8="",C8=0,D8=""),"",D8/C8) -> 2.3559322 | F8: Lapi | I8: =IF((G8="Servis"),A8,"")
A9: 44886 | B9: 4871.2 | C9: =IF(B9="","",B9-B8) -> 23.2 | D9: 62.3 | E9: =IF(OR(C9="",C9=0,D9=""),"",D9/C9) -> 2.6853448 | F9: Lapi | G9: Servis | I9: =IF((G9="Servis"),A9,"") -> 44886
A10: 44895 | B10: 4913.5 | C10: =IF(B10="","",B10-B9) -> 42.3 | D10: 20 | E10: =IF(OR(C10="",C10=0,D10=""),"",D10/C10) -> 0.47281324 | F10: Lapi | H10: Kanystr | I10: =IF((G10="Servis"),A10,"")
A11: 44895 | B11: 4915 | C11: =IF(B11="","",B11-B10) -> 1.5 | D11: 62.2 | E11: =IF(OR(C11="",C11=0,D11=""),"",D11/C11) -> 41.466667 | F11: Lapi | I11: =IF((G11="Servis"),A11,"")
A12: 44900 | B12: 4933.5 | C12: =IF(B12="","",B12-B11) -> 18.5 | D12: 38 | E12: =IF(OR(C12="",C12=0,D12=""),"",D12/C12) -> 2.0540541 | F12: Lapi | I12: =IF((G12="Servis"),A12,"")
A13: 44904 | B13: 4961.3 | C13: =IF(B13="","",B13-B12) -> 27.8 | D13: 58.2 | E13: =IF(OR(C13="",C13=0,D13=""),"",D13/C13) -> 2.0935252 | F13: Lapi | I13: =IF((G13="Servis"),A13,"")
A14: 44909 | B14: 4977 | C14: =IF(B14="","",B14-B13) -> 15.7 | D14: 57 | E14: =IF(OR(C14="",C14=0,D14=""),"",D14/C14) -> 3.6305732 | F14: Lapi | I14: =IF((G14="Servis"),A14,"")
A15: 44929 | B15: 5008 | C15: =IF(B15="","",B15-B14) -> 31 | D15: 20 | E15: =IF(OR(C15="",C15=0,D15=""),"",D15/C15) -> 0.64516129 | F15: Lapi | H15: Kanystr | I15: =IF((G15="Servis"),A15,"")
A16: 44930 | B16: 5008.8 | C16: =IF(B16="","",B16-B15) -> 0.8 | D16: 56.3 | E16: =IF(OR(C16="",C16=0,D16=""),"",D16/C16) -> 70.375 | F16: lapi | I16: =IF((G16="Servis"),A16,"")
A17: 44938 | B17: 5016.6 | C17: =IF(B17="","",B17-B16) -> 7.8 | D17: 32.6 | E17: =IF(OR(C17="",C17=0,D17=""),"",D17/C17) -> 4.1794872 | F17: Lapi | I17: =IF((G17="Servis"),A17,"")
A18: 44946 | B18: 5029.6 | C18: =IF(B18="","",B18-B17) -> 13 | D18: 50 | E18: =IF(OR(C18="",C18=0,D18=""),"",D18/C18) -> 3.8461538 | F18: lapi | I18: =IF((G18="Servis"),A18,"")
A19: 44953 | B19: 5056.4 | C19: =IF(B19="","",B19-B18) -> 26.8 | D19: 51.7 | E19: =IF(OR(C19="",C19=0,D19=""),"",D19/C19) -> 1.9291045 | F19: lapi | I19: =IF((G19="Servis"),A19,"")
A20: 44959 | B20: 5082.1 | C20: =IF(B20="","",B20-B19) -> 25.7 | D20: 70.8 | E20: =IF(OR(C20="",C20=0,D20=""),"",D20/C20) -> 2.7548638 | F20: lapi | I20: =IF((G20="Servis"),A20,"")
A21: 44966 | B21: 5100.8 | C21: =IF(B21="","",B21-B20) -> 18.7 | D21: 60.3 | E21: =IF(OR(C21="",C21=0,D21=""),"",D21/C21) -> 3.2245989 | F21: Lapi | I21: =IF((G21="Servis"),A21,"")
A22: 44970 | B22: 5115.4 | C22: =IF(B22="","",B22-B21) -> 14.6 | D22: 54.1 | E22: =IF(OR(C22="",C22=0,D22=""),"",D22/C22) -> 3.7054795 | F22: Lapi | I22: =IF((G22="Servis"),A22,"")
A23: 44974 | B23: 5134.8 | C23: =IF(B23="","",B23-B22) -> 19.4 | D23: 65.3 | E23: =IF(OR(C23="",C23=0,D23=""),"",D23/C23) -> 3.3659794 | F23: Lapi | I23: =IF((G23="Servis"),A23,"")
A24: 44981 | B24: 5151.8 | C24: =IF(B24="","",B24-B23) -> 17 | D24: 46.1 | E24: =IF(OR(C24="",C24=0,D24=""),"",D24/C24) -> 2.7117647 | F24: Lapi | I24: =IF((G24="Servis"),A24,"")
A25: 44986 | B25: 5164.3 | C25: =IF(B25="","",B25-B24) -> 12.5 | D25: 50.4 | E25: =IF(OR(C25="",C25=0,D25=""),"",D25/C25) -> 4.032 | F25: Lapi | I25: =IF((G25="Servis"),A25,"")
A26: 44992 | B26: 5185.2 | C26: =IF(B26="","",B26-B25) -> 20.9 | D26: 34.8 | E26: =IF(OR(C26="",C26=0,D26=""),"",D26/C26) -> 1.6650718 | F26: Lapi | I26: =IF((G26="Servis"),A26,"")
A27: 44999 | B27: 5212.5 | C27: =IF(B27="","",B27-B26) -> 27.3 | D27: 66.7 | E27: =IF(OR(C27="",C27=0,D27=""),"",D27/C27) -> 2.4432234 | F27: Lapi | I27: =IF((G27="Servis"),A27,"")
C28: =IF(B28="","",B28-B27) | E28: =IF(OR(C28="",C28=0,D28=""),"",D28/C28) | I28: =IF((G28="Servis"),A28,"")
C29: =IF(B29="","",B29-B28) | E29: =IF(OR(C29="",C29=0,D29=""),"",D29/C29) | I29: =IF((G29="Servis"),A29,"")
C30: =IF(B30="","",B30-B29) | E30: =IF(OR(C30="",C30=0,D30=""),"",D30/C30) | I30: =IF((G30="Servis"),A30,"")
C31: =IF(B31="","",B31-B30) | E31: =IF(OR(C31="",C31=0,D31=""),"",D31/C31) | I31: =IF((G31="Servis"),A31,"")
C32: =IF(B32="","",B32-B31) | E32: =IF(OR(C32="",C32=0,D32=""),"",D32/C32) | I32: =IF((G32="Servis"),A32,"")
C33: =IF(B33="","",B33-B32) | E33: =IF(OR(C33="",C33=0,D33=""),"",D33/C33) | I33: =IF((G33="Servis"),A33,"")
C34: =IF(B34="","",B34-B33) | E34: =IF(OR(C34="",C34=0,D34=""),"",D34/C34) | I34: =IF((G34="Servis"),A34,"")
C35: =IF(B35="","",B35-B34) | E35: =IF(OR(C35="",C35=0,D35=""),"",D35/C35) | I35: =IF((G35="Servis"),A35,"")
C36: =IF(B36="","",B36-B35) | E36: =IF(OR(C36="",C36=0,D36=""),"",D36/C36) | I36: =IF((G36="Servis"),A36,"")
C37: =IF(B37="","",B37-B36) | E37: =IF(OR(C37="",C37=0,D37=""),"",D37/C37) | I37: =IF((G37="Servis"),A37,"")
C38: =IF(B38="","",B38-B37) | E38: =IF(OR(C38="",C38=0,D38=""),"",D38/C38) | I38: =IF((G38="Servis"),A38,"")
C39: =IF(B39="","",B39-B38) | E39: =IF(OR(C39="",C39=0,D39=""),"",D39/C39) | I39: =IF((G39="Servis"),A39,"")
... C100: =IF(B100="","",B100-B99) | E100: =IF(OR(C100="",C100=0,D100=""),"",D100/C100) | I100: =IF((G100="Servis"),A100,"")

Sheet 100-JCB 406 T 4
A1: =Souhrn!A14&"-"&Souhrn!B14 -> 100-JCB 406 T 4
A2: Datum | B2: Mth | C2: Odpracováno | D2: Tankování | E2: Průměr | F2: Stavba | G2: Převoz | H2: Tankovaní | I2: Den Servisu
A3: 44645 | B3: 3134 | G3: Servis | I3: =IF((G3="Servis"),A3,"") -> 44645
A4: 44860 | B4: 3638.9 | C4: =IF(B4="","",B4-B3) -> 504.9 | D4: 35.4 | E4: =IF(OR(C4="",C4=0,D4=""),"",D4/C4) -> 0.070112894 | G4: Servis | I4: =IF((G4="Servis"),A4,"") -> 44860
A5: 44866 | B5: 3657.5 | C5: =IF(B5="","",B5-B4) -> 18.6 | D5: 43.5 | E5: =IF(OR(C5="",C5=0,D5=""),"",D5/C5) -> 2.3387097 | I5: =IF((G5="Servis"),A5,"")
A6: 44874 | B6: 3680.9 | C6: =IF(B6="","",B6-B5) -> 23.4 | D6: 57.8 | E6: =IF(OR(C6="",C6=0,D6=""),"",D6/C6) -> 2.4700855 | I6: =IF((G6="Servis"),A6,"")
A7: 44879 | B7: 3702.41 | C7: =IF(B7="","",B7-B6) -> 21.51 | D7: 17 | E7: =IF(OR(C7="",C7=0,D7=""),"",D7/C7) -> 0.79033008 | H7: Kadlec | I7: =IF((G7="Servis"),A7,"")
A8: 44881 | B8: 3712.89 | C8: =IF(B8="","",B8-B7) -> 10.48 | D8: 62.8 | E8: =IF(OR(C8="",C8=0,D8=""),"",D8/C8) -> 5.9923664 | I8: =IF((G8="Servis"),A8,"")
A9: 44886 | B9: 3737.18 | C9: =IF(B9="","",B9-B8) -> 24.29 | D9: 24 | E9: =IF(OR(C9="",C9=0,D9=""),"",D9/C9) -> 0.98806093 | H9: Kadlec | I9: =IF((G9="Servis"),A9,"")
A10: 44888 | B10: 3748.6 | C10: =IF(B10="","",B10-B9) -> 11.42 | D10: 63.2 | E10: =IF(OR(C10="",C10=0,D10=""),"",D10/C10) -> 5.5341506 | I10: =IF((G10="Servis"),A10,"")
A11: 44907 | B11: 3766.96 | C11: =IF(B11="","",B11-B10) -> 18.36 | D11: 25 | E11: =IF(OR(C11="",C11=0,D11=""),"",D11/C11) -> 1.3616558 | H11: Kadlec | I11: =IF((G11="Servis"),A11,"")
A12: 44908 | B12: 3766.96 | C12: =IF(B12="","",B12-B11) -> 0 | D12: 25 | E12: =IF(OR(C12="",C12=0,D12=""),"",D12/C12) | H12: Kadlec | I12: =IF((G12="Servis"),A12,"")
A13: 44914 | B13: 3773.35 | C13: =IF(B13="","",B13-B12) -> 6.39 | D13: 20 | E13: =IF(OR(C13="",C13=0,D13=""),"",D13/C13) -> 3.1298905 | H13: Kadlec | I13: =IF((G13="Servis"),A13,"")
A14: 44939 | B14: 3785.45 | C14: =IF(B14="","",B14-B13) -> 12.1 | D14: 25 | E14: =IF(OR(C14="",C14=0,D14=""),"",D14/C14) -> 2.0661157 | H14: Kadlec | I14: =IF((G14="Servis"),A14,"")
A15: 44970 | B15: 3796.2 | C15: =IF(B15="","",B15-B14) -> 10.75 | D15: 67.2 | E15: =IF(OR(C15="",C15=0,D15=""),"",D15/C15) -> 6.2511628 | I15: =IF((G15="Servis"),A15,"")
A16: 44993 | B16: 3811.9 | C16: =IF(B16="","",B16-B15) -> 15.7 | D16: 26.6 | E16: =IF(OR(C16="",C16=0,D16=""),"",D16/C16) -> 1.6942675 | I16: =IF((G16="Servis"),A16,"")
C17: =IF(B17="","",B17-B16) | E17: =IF(OR(C17="",C17=0,D17=""),"",D17/C17) | I17: =IF((G17="Servis"),A17,"")
C18: =IF(B18="","",B18-B17) | E18: =IF(OR(C18="",C18=0,D18=""),"",D18/C18) | I18: =IF((G18="Servis"),A18,"")
C19: =IF(B19="","",B19-B18) | E19: =IF(OR(C19="",C19=0,D19=""),"",D19/C19) | I19: =IF((G19="Servis"),A19,"")
C20: =IF(B20="","",B20-B19) | E20: =IF(OR(C20="",C20=0,D20=""),"",D20/C20) | I20: =IF((G20="Servis"),A20,"")
C21: =IF(B21="","",B21-B20) | E21: =IF(OR(C21="",C21=0,D21=""),"",D21/C21) | I21: =IF((G21="Servis"),A21,"")
C22: =IF(B22="","",B22-B21) | E22: =IF(OR(C22="",C22=0,D22=""),"",D22/C22) | I22: =IF((G22="Servis"),A22,"")
C23: =IF(B23="","",B23-B22) | E23: =IF(OR(C23="",C23=0,D23=""),"",D23/C23) | I23: =IF((G23="Servis"),A23,"")
C24: =IF(B24="","",B24-B23) | E24: =IF(OR(C24="",C24=0,D24=""),"",D24/C24) | I24: =IF((G24="Servis"),A24,"")
C25: =IF(B25="","",B25-B24) | E25: =IF(OR(C25="",C25=0,D25=""),"",D25/C25) | I25: =IF((G25="Servis"),A25,"")
C26: =IF(B26="","",B26-B25) | E26: =IF(OR(C26="",C26=0,D26=""),"",D26/C26) | I26: =IF((G26="Servis"),A26,"")
C27: =IF(B27="","",B27-B26) | E27: =IF(OR(C27="",C27=0,D27=""),"",D27/C27) | I27: =IF((G27="Servis"),A27,"")
C28: =IF(B28="","",B28-B27) | E28: =IF(OR(C28="",C28=0,D28=""),"",D28/C28) | I28: =IF((G28="Servis"),A28,"")
... C100: =IF(B100="","",B100-B99) | E100: =IF(OR(C100="",C100=0,D100=""),"",D100/C100) | I100: =IF((G100="Servis"),A100,"")

Sheet 105-Terex TL 80
A1: =Souhrn!A15&"-"&Souhrn!B15 -> 105-Terex TL 80
A2: Datum | B2: Mth | C2: Odpracováno | D2: Tankování | E2: Průměr | F2: Stavba | G2: Převoz | H2: Tankovaní | I2: Den Servisu
A3: 44846 | B3: 3220 | G3: Servis | I3: =IF((G3="Servis"),A3,"") -> 44846
A4: 44867 | B4: 3490.6 | C4: =IF(B4="","",B4-B3) -> 270.6 | D4: 50.6 | E4: =IF(OR(C4="",C4=0,D4=""),"",D4/C4) -> 0.18699187 | I4: =IF((G4="Servis"),A4,"")
A5: 44874 | B5: 3510.7 | C5: =IF(B5="","",B5-B4) -> 20.1 | D5: 48.1 | E5: =IF(OR(C5="",C5=0,D5=""),"",D5/C5) -> 2.3930348 | I5: =IF((G5="Servis"),A5,"")
A6: 44879 | B6: 3531.1 | C6: =IF(B6="","",B6-B5) -> 20.4 | D6: 20 | E6: =IF(OR(C6="",C6=0,D6=""),"",D6/C6) -> 0.98039216 | I6: =IF((G6="Servis"),A6,"")
A7: 44881 | B7: 3539.2 | C7: =IF(B7="","",B7-B6) -> 8.1 | D7: 59.6 | E7: =IF(OR(C7="",C7=0,D7=""),"",D7/C7) -> 7.3580247 | I7: =IF((G7="Servis"),A7,"")
A8: 44888 | B8: 3574.2 | C8: =IF(B8="","",B8-B7) -> 35 | D8: 62.4 | E8: =IF(OR(C8="",C8=0,D8=""),"",D8/C8) -> 1.7828571 | I8: =IF((G8="Servis"),A8,"")
A9: 44896 | B9: 3599.5 | C9: =IF(B9="","",B9-B8) -> 25.3 | D9: 61 | E9: =IF(OR(C9="",C9=0,D9=""),"",D9/C9) -> 2.4110672 | G9: Servis | I9: =IF((G9="Servis"),A9,"") -> 44896
A10: 44915 | B10: 3628 | C10: =IF(B10="","",B10-B9) -> 28.5 | D10: 20 | E10: =IF(OR(C10="",C10=0,D10=""),"",D10/C10) -> 0.70175439 | H10: Kanystr | I10: =IF((G10="Servis"),A10,"")
A11: 44929 | B11: 3631.6 | C11: =IF(B11="","",B11-B10) -> 3.6 | D11: 50.7 | E11: =IF(OR(C11="",C11=0,D11=""),"",D11/C11) -> 14.083333 | I11: =IF((G11="Servis"),A11,"")
A12: 44935 | B12: 3638.9 | C12: =IF(B12="","",B12-B11) -> 7.3 | D12: 26.2 | E12: =IF(OR(C12="",C12=0,D12=""),"",D12/C12) -> 3.5890411 | I12: =IF((G12="Servis"),A12,"")
A13: 44939 | B13: 3642 | C13: =IF(B13="","",B13-B12) -> 3.1 | D13: 11.2 | E13: =IF(OR(C13="",C13=0,D13=""),"",D13/C13) -> 3.6129032 | I13: =IF((G13="Servis"),A13,"")
A14: 44972 | B14: 3672.1 | C14: =IF(B14="","",B14-B13) -> 30.1 | D14: 25 | E14: =IF(OR(C14="",C14=0,D14=""),"",D14/C14) -> 0.83056478 | I14: =IF((G14="Servis"),A14,"")
A15: 44973 | B15: 3681.6 | C15: =IF(B15="","",B15-B14) -> 9.5 | D15: 44.7 | E15: =IF(OR(C15="",C15=0,D15=""),"",D15/C15) -> 4.7052632 | I15: =IF((G15="Servis"),A15,"")
A16: 44978 | B16: 3702.3 | C16: =IF(B16="","",B16-B15) -> 20.7 | D16: 23.3 | E16: =IF(OR(C16="",C16=0,D16=""),"",D16/C16) -> 1.1256039 | H16: Kanystr | I16: =IF((G16="Servis"),A16,"")
A17: 44979 | B17: 3707.8 | C17: =IF(B17="","",B17-B16) -> 5.5 | D17: 64 | E17: =IF(OR(C17="",C17=0,D17=""),"",D17/C17) -> 11.636364 | I17: =IF((G17="Servis"),A17,"")
A18: 44981 | B18: 3722.2 | C18: =IF(B18="","",B18-B17) -> 14.4 | D18: 33.9 | E18: =IF(OR(C18="",C18=0,D18=""),"",D18/C18) -> 2.3541667 | I18: =IF((G18="Servis"),A18,"")
A19: 44985 | B19: 3740.8 | C19: =IF(B19="","",B19-B18) -> 18.6 | D19: 53.4 | E19: =IF(OR(C19="",C19=0,D19=""),"",D19/C19) -> 2.8709677 | I19: =IF((G19="Servis"),A19,"")
A20: 44987 | B20: 3756.6 | C20: =IF(B20="","",B20-B19) -> 15.8 | D20: 46.1 | E20: =IF(OR(C20="",C20=0,D20=""),"",D20/C20) -> 2.9177215 | I20: =IF((G20="Servis"),A20,"")
A21: 44991 | B21: 3776.3 | C21: =IF(B21="","",B21-B20) -> 19.7 | D21: 20 | E21: =IF(OR(C21="",C21=0,D21=""),"",D21/C21) -> 1.0152284 | H21: Kanystr | I21: =IF((G21="Servis"),A21,"")
A22: 44992 | B22: 3783.5 | C22: =IF(B22="","",B22-B21) -> 7.2 | D22: 50.4 | E22: =IF(OR(C22="",C22=0,D22=""),"",D22/C22) -> 7 | I22: =IF((G22="Servis"),A22,"")
A23: 44995 | B23: 3808 | C23: =IF(B23="","",B23-B22) -> 24.5 | D23: 45.9 | E23: =IF(OR(C23="",C23=0,D23=""),"",D23/C23) -> 1.8734694 | I23: =IF((G23="Servis"),A23,"")
A24: 45000 | B24: 3827.7 | C24: =IF(B24="","",B24-B23) -> 19.7 | D24: 53.6 | E24: =IF(OR(C24="",C24=0,D24=""),"",D24/C24) -> 2.7208122 | I24: =IF((G24="Servis"),A24,"")
C25: =IF(B25="","",B25-B24) | E25: =IF(OR(C25="",C25=0,D25=""),"",D25/C25) | I25: =IF((G25="Servis"),A25,"")
C26: =IF(B26="","",B26-B25) | E26: =IF(OR(C26="",C26=0,D26=""),"",D26/C26) | I26: =IF((G26="Servis"),A26,"")
C27: =IF(B27="","",B27-B26) | E27: =IF(OR(C27="",C27=0,D27=""),"",D27/C27) | I27: =IF((G27="Servis"),A27,"")
C28: =IF(B28="","",B28-B27) | E28: =IF(OR(C28="",C28=0,D28=""),"",D28/C28) | I28: =IF((G28="Servis"),A28,"")
C29: =IF(B29="","",B29-B28) | E29: =IF(OR(C29="",C29=0,D29=""),"",D29/C29) | I29: =IF((G29="Servis"),A29,"")
C30: =IF(B30="","",B30-B29) | E30: =IF(OR(C30="",C30=0,D30=""),"",D30/C30) | I30: =IF((G30="Servis"),A30,"")
C31: =IF(B31="","",B31-B30) | E31: =IF(OR(C31="",C31=0,D31=""),"",D31/C31) | I31: =IF((G31="Servis"),A31,"")
C32: =IF(B32="","",B32-B31) | E32: =IF(OR(C32="",C32=0,D32=""),"",D32/C32) | I32: =IF((G32="Servis"),A32,"")
C33: =IF(B33="","",B33-B32) | E33: =IF(OR(C33="",C33=0,D33=""),"",D33/C33) | I33: =IF((G33="Servis"),A33,"")
C34: =IF(B34="","",B34-B33) | E34: =IF(OR(C34="",C34=0,D34=""),"",D34/C34) | I34: =IF((G34="Servis"),A34,"")
C35: =IF(B35="","",B35-B34) | E35: =IF(OR(C35="",C35=0,D35=""),"",D35/C35) | I35: =IF((G35="Servis"),A35,"")
C36: =IF(B36="","",B36-B35) | E36: =IF(OR(C36="",C36=0,D36=""),"",D36/C36) | I36: =IF((G36="Servis"),A36,"")
... C100: =IF(B100="","",B100-B99) | E100: =IF(OR(C100="",C100=0,D100=""),"",D100/C100) | I100: =IF((G100="Servis"),A100,"")

Sheet 106-Terex TL 80
A1: 106-Terex TL 80
