Workbook

Sheet Zoznam
A1: Kód | B1: Mesto
A2: A1 | B2: Bratislava
A3: A5 | B3: Košice
A4: B2 | B4: Bratislava
A5: B3 | B5: Bratislava
A6: C1 | B6: Košice
A7: C3 | B7: Košice
A8: C5 | B8: Bratislava

Sheet marec
A1: Kód | B1: Cena | D1: Mesto | E1: Celkom | H1: Bratislava
A2: A1 | B2: 1000 | D2: Bratislava | G2: =VLOOKUP(A2,Zoznam!$A$2:$B$8,2,FALSE) -> Bratislava | H2: =VLOOKUP(A2,Zoznam!$A$2:$B$8,2,FALSE)=$D$2 -> TRUE | I2: =H2*B2 -> 1000
A3: A5 | B3: 500 | D3: Košice | G3: =VLOOKUP(A3,Zoznam!$A$2:$B$8,2,FALSE) -> Košice | H3: =VLOOKUP(A3,Zoznam!$A$2:$B$8,2,FALSE)=$D$2 -> FALSE | I3: =H3*B3 -> 0
A4: B2 | B4: 800 | G4: =VLOOKUP(A4,Zoznam!$A$2:$B$8,2,FALSE) -> Bratislava | H4: =VLOOKUP(A4,Zoznam!$A$2:$B$8,2,FALSE)=$D$2 -> TRUE | I4: =H4*B4 -> 800
A5: B3 | B5: 1500 | G5: =VLOOKUP(A5,Zoznam!$A$2:$B$8,2,FALSE) -> Bratislava | H5: =VLOOKUP(A5,Zoznam!$A$2:$B$8,2,FALSE)=$D$2 -> TRUE | I5: =H5*B5 -> 1500
A6: C1 | B6: 900 | G6: =VLOOKUP(A6,Zoznam!$A$2:$B$8,2,FALSE) -> Košice | H6: =VLOOKUP(A6,Zoznam!$A$2:$B$8,2,FALSE)=$D$2 -> FALSE | I6: =H6*B6 -> 0
A7: C3 | B7: 700 | G7: =VLOOKUP(A7,Zoznam!$A$2:$B$8,2,FALSE) -> Košice | H7: =VLOOKUP(A7,Zoznam!$A$2:$B$8,2,FALSE)=$D$2 -> FALSE | I7: =H7*B7 -> 0
A8: C5 | B8: 1200 | G8: =VLOOKUP(A8,Zoznam!$A$2:$B$8,2,FALSE) -> Bratislava | H8: =VLOOKUP(A8,Zoznam!$A$2:$B$8,2,FALSE)=$D$2 -> TRUE | I8: =H8*B8 -> 1200
I9: =SUM(I2:I8) -> 4500 | K9: normálny súčet
I11: {=SUM(H2:H8*B2:B8)} -> 4500 | K11: maticový súčet
A13: Cieľ: zosúčtovať Cenu podľa príslušnosti k mestu | I13: {=SUM((VLOOKUP(A2:A8,Zoznam!$A$2:$B$8,2,FALSE)=$D$2)*B2:B8)} -> 6600 | K13: maticový súčet s vnorením VLOOKUP
