Workbook

Sheet január
A1: dátum | B1: stroj | C1: množstvo litrov
A2: 45293 | B2: velinpasov | C2: 11.53
A3: 45293 | B3: volvo L45H | C3: 30.15
A4: 45293 | B4: volvo L70H | C4: 39.94
A5: 45293 | B5: hyster3,52 | C5: 150.63
A6: 45293 | B6: ompimespo | C6: 117.98
A7: 45293 | B7: velinpasov | C7: 48.06
A8: 45294 | B8: hyster3,52 | C8: 21.71
A9: 45294 | B9: velinpasov | C9: 9.82
A10: 45295 | B10: hyster3,52 | C10: 23.03
A11: 45295 | B11: hyster3,51 | C11: 31.39
A12: 45295 | B12: velinpasov | C12: 10.02
A13: 45296 | B13: velinpasov | C13: 12.01
... A84: 45322 | B84: velinpasov | C84: 12.02

Sheet február
A1: dátum | B1: stroj | C1: množstvo litrov
A2: 45323 | B2: hyster2,5 | C2: 35.89
A3: 45323 | B3: hyster3,51 | C3: 46.85
A4: 45323 | B4: hyster3,52 | C4: 41.15
A5: 45323 | B5: volvo L70H | C5: 155.64
A6: 45323 | B6: velinpasov | C6: 11.22
A7: 45324 | B7: caterpilar | C7: 137.11
A8: 45324 | B8: hyster3,52 | C8: 36.15
A9: 45324 | B9: velinpasov | C9: 10.28
A10: 45325 | B10: hyster2,5 | C10: 42.76
A11: 45327 | B11: hyster3,51 | C11: 40.41
A12: 45327 | B12: velinpasov | C12: 10.96
A13: 45327 | B13: hyster3,52 | C13: 41.62
... A98: 45351 | B98: velinpasov | C98: 25.59

Sheet marec
A1: dátum | B1: stroj | C1: množstvo litrov
A2: 45352 | B2: hyster2,5 | C2: 54.93
A3: 45352 | B3: hyster2,5 | C3: 7.04
A4: 45352 | B4: hyster3,51 | C4: 5.71
A5: 45353 | B5: hyster3,51 | C5: 38.46
A6: 45355 | B6: hyster2,5 | C6: 35.82
A7: 45355 | B7: caterpilar | C7: 136.85
A8: 45355 | B8: velinpasov | C8: 14
A9: 45355 | B9: hyster3,52 | C9: 21.6
A10: 45355 | B10: volvol70h | C10: 174.21
A11: 45355 | B11: velinpasov | C11: 13.67
A12: 45356 | B12: hyster3,51 | C12: 29.66
A13: 45356 | B13: hyster3,52 | C13: 33.26
... A89: 45379 | B89: hyster3,52 | C89: 37.95

Sheet apríl
A1: dátum | B1: stroj | C1: množstvo litrov
A2: 45384 | B2: velinpasov | C2: 13.5
A3: 45384 | B3: hyster3,51 | C3: 32.59
A4: 45384 | B4: volvol70h | C4: 147.58
A5: 45384 | B5: velinpasov | C5: 8.63
A6: 45385 | B6: hyster3,52 | C6: 38.58
A7: 45385 | B7: hyster2,5 | C7: 37.37
A8: 45385 | B8: caterpilar | C8: 131.87
A9: 45385 | B9: hyster3,51 | C9: 34.62
A10: 45385 | B10: velinpasov | C10: 12.02
A11: 45386 | B11: hyster3,52 | C11: 35.06
A12: 45386 | B12: hyster3,51 | C12: 30.8
A13: 45386 | B13: hyster2,5 | C13: 32.41
... A98: 45412 | B98: velinpasov | C98: 10.52

Sheet máj
A1: dátum | B1: stroj | C1: množstvo litrov
A2: 45413 | B2: volvol70h | C2: 163.2
A3: 45413 | B3: caterpilar | C3: 118.24
A4: 45413 | B4: ompimespo | C4: 31.65
A5: 45413 | B5: hyster2,5 | C5: 34.98
A6: 45413 | B6: hyster3,51 | C6: 33.02
A7: 45413 | B7: velinpasov | C7: 9.85
A8: 45414 | B8: hyster3,52 | C8: 39.75
A9: 45414 | B9: velinpasov | C9: 9.64
A10: 45415 | B10: volvol70h | C10: 150.66
A11: 45415 | B11: hyster2,5 | C11: 30.06
A12: 45415 | B12: velinpasov | C12: 11.76
A13: 45415 | B13: hyster3,51 | C13: 35.04
... A103: 45443 | B103: hyster2,5 | C103: 40.45

Sheet jún
A1: dátum | B1: stroj | C1: množstvo litrov
A2: 45444 | B2: velinpasov | C2: 12.68
A3: 45446 | B3: hyster3,52 | C3: 33.17
A4: 45446 | B4: caterpilar | C4: 142.93
A5: 45446 | B5: hyster3,51 | C5: 34.91
A6: 45446 | B6: ompimespo | C6: 32.95
A7: 45447 | B7: velinpasov | C7: 12.04
A8: 45447 | B8: volvol70h | C8: 181.57
A9: 45447 | B9: caterpilar | C9: 122.23
A10: 45447 | B10: velinpasov | C10: 12.87
A11: 45448 | B11: hyster3,52 | C11: 31.96
A12: 45448 | B12: hyster3,51 | C12: 38.14
A13: 45448 | B13: velinpasov | C13: 11.86
... A90: 45472 | B90: ompimespo | C90: 34.4

Sheet júl
A1: dátum | B1: stroj | C1: množstvo litrov
A2: 45474 | B2: hyster2,5 | C2: 44.59
A3: 45474 | B3: hyster3,51 | C3: 31.69
A4: 45474 | B4: velinpasov | C4: 11.67
A5: 45474 | B5: caterpilar | C5: 101.47
A6: 45474 | B6: velinpasov | C6: 7.74
A7: 45475 | B7: hyster3,51 | C7: 34.43
A8: 45475 | B8: hyster2,5 | C8: 38.55
A9: 45475 | B9: velinpasov | C9: 4.99
A10: 45475 | B10: velinpasov | C10: 7.55
A11: 45476 | B11: volvol70h | C11: 167.03
A12: 45476 | B12: hyster3,51 | C12: 30.2
A13: 45476 | B13: ompimespo | C13: 34.46
... A106: 45504 | B106: velinpasov | C106: 7.4

Sheet august
A1: dátum | B1: stroj | C1: množstvo litrov
A2: 45505 | B2: hyster3,51 | C2: 32.1
A3: 45505 | B3: caterpilar | C3: 118.55
A4: 45505 | B4: velinpasov | C4: 7.65
A5: 45506 | B5: hyster2,5 | C5: 37.79
A6: 45506 | B6: velinpasov | C6: 11.8
A7: 45506 | B7: manitou | C7: 28.26
A8: 45506 | B8: hyster3,52 | C8: 34.03
A9: 45506 | B9: caterpilar | C9: 96
A10: 45506 | B10: velinpasov | C10: 11.29
A11: 45507 | B11: hyster3,51 | C11: 37.82
A12: 45507 | B12: velinpasov | C12: 12.8
A13: 45509 | B13: caterpilar | C13: 99.57
... A85: 45535 | B85: velinpasov | C85: 12.62

Sheet september
A1: dátum | B1: stroj | C1: množstvo litrov
A2: 45537 | B2: ompimespo | C2: 32.85
A3: 45537 | B3: hyster3,51 | C3: 38.05
A4: 45537 | B4: velinpasov | C4: 12.58
A5: 45538 | B5: volvol70h | C5: 135.61
A6: 45538 | B6: manitou | C6: 23.06
A7: 45538 | B7: velinpasov | C7: 12.15
A8: 45538 | B8: hyster3,51 | C8: 37.06
A9: 45539 | B9: hyster3,52 | C9: 36.27
A10: 45539 | B10: velinpasov | C10: 12.4
A11: 45539 | B11: caterpilar | C11: 141.97
A12: 45539 | B12: hyster3,51 | C12: 30.07
A13: 45539 | B13: manitou | C13: 27.43
A14: 45540 | B14: volvol70h | C14: 137.49
... A109: 45565 | B109: hyster2,5 | C109: 38.74

Sheet október
A1: dátum | B1: stroj | C1: množstvo litrov
A2: 45566 | B2: hyster3,51 | C2: 34.69
A3: 45566 | B3: velinpasov | C3: 11.79
A4: 45566 | B4: caterpilar | C4: 136.18
A5: 45566 | B5: manitou | C5: 33.19
A6: 45566 | B6: velinpasov | C6: 13
A7: 45566 | B7: ompimespo | C7: 33.14
A8: 45567 | B8: velinpasov | C8: 12.21
A9: 45567 | B9: hyster3,52 | C9: 46.3
A10: 45567 | B10: volvol70h | C10: 155.64
A11: 45567 | B11: hyster3,51 | C11: 34.31
A12: 45567 | B12: velinpasov | C12: 8.09
A13: 45567 | B13: velinpasov | C13: 12.36
... A144: 45596 | B144: hyster3,52 | C144: 44.34

Sheet november
A1: dátum | B1: stroj | C1: množstvo litrov
A2: 45597 | B2: caterpilar | C2: 100.93 | E2: 45600 | F2: mth
A3: 45597 | B3: velinpasov | C3: 11.79
A4: 45600 | B4: volvol70h | C4: 181.67 | E4: manitou | F4: 7264
A5: 45600 | B5: ompimespo | C5: 33.76 | E5: hyster3,51 | F5: 7785
A6: 45600 | B6: velinpasov | C6: 11.44 | E6: hyster3,52 | F6: 742
A7: 45600 | B7: hyster3,51 | C7: 36.37 | E7: hyster2,5 | F7: 3398
A8: 45600 | B8: hyster3,52 | C8: 42.45 | E8: caterpilar | F8: 7315
A9: 45600 | B9: velinpasov | C9: 13.15 | E9: volvol70h | F9: 22831
A10: 45601 | B10: hyster3,52 | C10: 24.23 | E10: volvol45h | F10: 14678
A11: 45602 | B11: hyster3,51 | C11: 39.6 | E11: ompimespo | F11: 10697
A12: 45602 | B12: caterpilar | C12: 123.7
A13: 45602 | B13: velinpasov | C13: 39.6
A14: 45603 | B14: ompimespo | C14: 36.15
A15: 45603 | B15: hyster3,52 | C15: 37.35
A16: 45603 | B16: velinpasov | C16: 11.86
A17: 45603 | B17: hyster3,51 | C17: 40.65
A18: 45603 | B18: volvol70h | C18: 174.16
A19: 45603 | B19: velinpasov | C19: 12.2
A20: 45604 | B20: hyster3,52 | C20: 39.67
A21: 45604 | B21: hyster3,51 | C21: 33.73
A22: 45604 | B22: velinpasov | C22: 11.29
A23: 45604 | B23: caterpilar | C23: 145.12
... A115: 45626 | B115: velinpasov | C115: 12.65

Sheet december
A1: dátum | B1: stroj | C1: množstvo litrov
A2: 45628 | B2: velinpasov | C2: 9.33 | E2: 45628 | F2: mth | I2: 45646 | J2: mth
A3: 45628 | B3: hyster2,5 | C3: 44.12
A4: 45628 | B4: hyster3,52 | C4: 46.18 | E4: manitou | F4: 7277 | I4: manitou | J4: 7280
A5: 45628 | B5: volvol70h | C5: 181.02 | E5: hyster3,51 | F5: 8009 | I5: hyster3,51 | J5: 8185
A6: 45628 | B6: hyster3,51 | C6: 31.36 | E6: hyster3,52 | F6: 995 | I6: hyster3,52 | J6: 1145
A7: 45628 | B7: caterpilar | C7: 112.38 | E7: hyster2,5 | F7: 3521 | I7: hyster2,5 | J7: 3693
A8: 45628 | B8: velinpasov | C8: 13.03 | E8: caterpilar | F8: 7315 | I8: caterpilar | J8: 7747
A9: 45629 | B9: velinpasov | C9: 10.56 | E9: volvol70h | F9: 23050 | I9: volvol70h | J9: 23211
A10: 45629 | B10: hyster3,51 | C10: 26.05 | E10: volvol45h | F10: 14721 | I10: volvol45h | J10: 14738
A11: 45629 | B11: hyster2,5 | C11: 36.85 | E11: ompimespo | F11: 10782 | I11: ompimespo | J11: 10791
A12: 45629 | B12: velinpasov | C12: 13.03
A13: 45630 | B13: hyster3,52 | C13: 45.65
A14: 45630 | B14: caterpilar | C14: 141.38
A15: 45630 | B15: velinpasov | C15: 10.08
A16: 45630 | B16: hyster3,51 | C16: 33.46
A17: 45630 | B17: velinpasov | C17: 13.05
A18: 45631 | B18: hyster2,5 | C18: 40.03
A19: 45631 | B19: volvol45h | C19: 88.82
A20: 45631 | B20: velinpasov | C20: 6.43
A21: 45631 | B21: volvol70h | C21: 182.02
A22: 45631 | B22: hyster3,52 | C22: 23.88
A23: 45631 | B23: hyster3,51 | C23: 26.73
... A82: 45645 | B82: hyster2,5 | C82: 37.16

Sheet Diesel
A1: 2025 | B1: Total Liters | D1: =SUBTOTAL(9,D2:D1500) -> 398.29 | E1: Names | H1: caterpilar - hyster2,5- hyster3,51 - hyster3,52 - manitou - ompimespo- velinpasov - volvo L45H - volvo L70H -
A2: Month | B2: Date | C2: Machine | D2: Quantity
A3: =TEXT(B3,"mmmm") -> gennaio | B3: 45659 | C3: velinpasov | D3: 11.53
A4: =TEXT(B4,"mmmm") -> gennaio | B4: 45293 | C4: volvo L45H | D4: 30.15
A5: =TEXT(B5,"mmmm") -> gennaio | B5: 45293 | C5: volvo L70H | D5: 39.94
A6: =TEXT(B6,"mmmm") -> gennaio | B6: 45293 | C6: hyster3,52 | D6: 150.63
A7: =TEXT(B7,"mmmm") -> gennaio | B7: 45293 | C7: ompimespo | D7: 117.98
A8: =TEXT(B8,"mmmm") -> gennaio | B8: 45293 | C8: velinpasov | D8: 48.06

Sheet Summary
D1: caterpilar | E1: hyster2,5 | F1: hyster3,51 | G1: hyster3,52 | H1: manitou | I1: ompimespo | J1: Velinpasov | K1: volvo L70H | L1: volvo L45H
B2: Gennaio | C2: =SUM(D2:L2) -> 398.29 | D2: =SUMIFS(Diesel!D3:D1500,Diesel!A3:A1500,B2,Diesel!C3:C1500,"caterpilar") -> 0 | E2: =SUMIFS(Diesel!D3:D1500,Diesel!A3:A1500,B2,Diesel!C3:C1500,"hyster2,5") -> 0 | F2: =SUMIFS(Diesel!D3:D1500,Diesel!A3:A1500,B2,Diesel!C3:C1500,"hyster3,51") -> 0 | G2: =SUMIFS(Diesel!D3:D1500,Diesel!A3:A1500,B2,Diesel!C3:C1500,"hyster3,52") -> 150.63 | H2: =SUMIFS(Diesel!D3:D1500,Diesel!A3:A1500,B2,Diesel!C3:C1500,"manitou") -> 0 | I2: =SUMIFS(Diesel!D3:D1500,Diesel!A3:A1500,B2,Diesel!C3:C1500,"ompimespo") -> 117.98 | J2: =SUMIFS(Diesel!D3:D1500,Diesel!A3:A1500,B2,Diesel!C3:C1500,"Velinpasov") -> 59.59 | K2: =SUMIFS(Diesel!D3:D1500,Diesel!A3:A1500,B2,Diesel!C3:C1500,"volvo L70H") -> 39.94 | L2: =SUMIFS(Diesel!D3:D1500,Diesel!A3:A1500,B2,Diesel!C3:C1500,"volvo L45H") -> 30.15
B3: Febbraio | C3: =SUM(D3:L3) -> 0 | D3: =SUMIFS(Diesel!D3:D1500,Diesel!A3:A1500,B3,Diesel!C3:C1500,"caterpilar") -> 0 | E3: =SUMIFS(Diesel!D4:D1501,Diesel!A4:A1501,B3,Diesel!C4:C1501,"hyster2,5") -> 0 | F3: =SUMIFS(Diesel!D4:D1501,Diesel!A4:A1501,B3,Diesel!C4:C1501,"hyster3,51") -> 0 | G3: =SUMIFS(Diesel!D4:D1501,Diesel!A4:A1501,B3,Diesel!C4:C1501,"hyster3,52") -> 0 | H3: =SUMIFS(Diesel!D4:D1501,Diesel!A4:A1501,B3,Diesel!C4:C1501,"manitou") -> 0 | I3: =SUMIFS(Diesel!D4:D1501,Diesel!A4:A1501,B3,Diesel!C4:C1501,"ompimespo") -> 0 | J3: =SUMIFS(Diesel!D4:D1501,Diesel!A4:A1501,B3,Diesel!C4:C1501,"Velinpasov") -> 0 | K3: =SUMIFS(Diesel!D4:D1501,Diesel!A4:A1501,B3,Diesel!C4:C1501,"volvo L70H") -> 0 | L3: =SUMIFS(Diesel!D4:D1501,Diesel!A4:A1501,B3,Diesel!C4:C1501,"volvo L45H") -> 0
B4: Marzo | C4: =SUM(D4:L4) -> 0 | D4: =SUMIFS(Diesel!D3:D1500,Diesel!A3:A1500,B4,Diesel!C3:C1500,"caterpilar") -> 0 | E4: =SUMIFS(Diesel!D5:D1502,Diesel!A5:A1502,B4,Diesel!C5:C1502,"hyster2,5") -> 0 | F4: =SUMIFS(Diesel!D5:D1502,Diesel!A5:A1502,B4,Diesel!C5:C1502,"hyster3,51") -> 0 | G4: =SUMIFS(Diesel!D5:D1502,Diesel!A5:A1502,B4,Diesel!C5:C1502,"hyster3,52") -> 0 | H4: =SUMIFS(Diesel!D5:D1502,Diesel!A5:A1502,B4,Diesel!C5:C1502,"manitou") -> 0 | I4: =SUMIFS(Diesel!D5:D1502,Diesel!A5:A1502,B4,Diesel!C5:C1502,"ompimespo") -> 0 | J4: =SUMIFS(Diesel!D5:D1502,Diesel!A5:A1502,B4,Diesel!C5:C1502,"Velinpasov") -> 0 | K4: =SUMIFS(Diesel!D5:D1502,Diesel!A5:A1502,B4,Diesel!C5:C1502,"volvo L70H") -> 0 | L4: =SUMIFS(Diesel!D5:D1502,Diesel!A5:A1502,B4,Diesel!C5:C1502,"volvo L45H") -> 0
B5: Aprile | C5: =SUM(D5:L5) -> 0 | D5: =SUMIFS(Diesel!D3:D1500,Diesel!A3:A1500,B5,Diesel!C3:C1500,"caterpilar") -> 0 | E5: =SUMIFS(Diesel!D6:D1503,Diesel!A6:A1503,B5,Diesel!C6:C1503,"hyster2,5") -> 0 | F5: =SUMIFS(Diesel!D6:D1503,Diesel!A6:A1503,B5,Diesel!C6:C1503,"hyster3,51") -> 0 | G5: =SUMIFS(Diesel!D6:D1503,Diesel!A6:A1503,B5,Diesel!C6:C1503,"hyster3,52") -> 0 | H5: =SUMIFS(Diesel!D6:D1503,Diesel!A6:A1503,B5,Diesel!C6:C1503,"manitou") -> 0 | I5: =SUMIFS(Diesel!D6:D1503,Diesel!A6:A1503,B5,Diesel!C6:C1503,"ompimespo") -> 0 | J5: =SUMIFS(Diesel!D6:D1503,Diesel!A6:A1503,B5,Diesel!C6:C1503,"Velinpasov") -> 0 | K5: =SUMIFS(Diesel!D6:D1503,Diesel!A6:A1503,B5,Diesel!C6:C1503,"volvo L70H") -> 0 | L5: =SUMIFS(Diesel!D6:D1503,Diesel!A6:A1503,B5,Diesel!C6:C1503,"volvo L45H") -> 0
B6: Maggio | C6: =SUM(D6:L6) -> 0 | D6: =SUMIFS(Diesel!D3:D1500,Diesel!A3:A1500,B6,Diesel!C3:C1500,"caterpilar") -> 0 | E6: =SUMIFS(Diesel!D7:D1504,Diesel!A7:A1504,B6,Diesel!C7:C1504,"hyster2,5") -> 0 | F6: =SUMIFS(Diesel!D7:D1504,Diesel!A7:A1504,B6,Diesel!C7:C1504,"hyster3,51") -> 0 | G6: =SUMIFS(Diesel!D7:D1504,Diesel!A7:A1504,B6,Diesel!C7:C1504,"hyster3,52") -> 0 | H6: =SUMIFS(Diesel!D7:D1504,Diesel!A7:A1504,B6,Diesel!C7:C1504,"manitou") -> 0 | I6: =SUMIFS(Diesel!D7:D1504,Diesel!A7:A1504,B6,Diesel!C7:C1504,"ompimespo") -> 0 | J6: =SUMIFS(Diesel!D7:D1504,Diesel!A7:A1504,B6,Diesel!C7:C1504,"Velinpasov") -> 0 | K6: =SUMIFS(Diesel!D7:D1504,Diesel!A7:A1504,B6,Diesel!C7:C1504,"volvo L70H") -> 0 | L6: =SUMIFS(Diesel!D7:D1504,Diesel!A7:A1504,B6,Diesel!C7:C1504,"volvo L45H") -> 0
B7: Giugno | C7: =SUM(D7:L7) -> 0 | D7: =SUMIFS(Diesel!D3:D1500,Diesel!A3:A1500,B7,Diesel!C3:C1500,"caterpilar") -> 0 | E7: =SUMIFS(Diesel!D8:D1505,Diesel!A8:A1505,B7,Diesel!C8:C1505,"hyster2,5") -> 0 | F7: =SUMIFS(Diesel!D8:D1505,Diesel!A8:A1505,B7,Diesel!C8:C1505,"hyster3,51") -> 0 | G7: =SUMIFS(Diesel!D8:D1505,Diesel!A8:A1505,B7,Diesel!C8:C1505,"hyster3,52") -> 0 | H7: =SUMIFS(Diesel!D8:D1505,Diesel!A8:A1505,B7,Diesel!C8:C1505,"manitou") -> 0 | I7: =SUMIFS(Diesel!D8:D1505,Diesel!A8:A1505,B7,Diesel!C8:C1505,"ompimespo") -> 0 | J7: =SUMIFS(Diesel!D8:D1505,Diesel!A8:A1505,B7,Diesel!C8:C1505,"Velinpasov") -> 0 | K7: =SUMIFS(Diesel!D8:D1505,Diesel!A8:A1505,B7,Diesel!C8:C1505,"volvo L70H") -> 0 | L7: =SUMIFS(Diesel!D8:D1505,Diesel!A8:A1505,B7,Diesel!C8:C1505,"volvo L45H") -> 0
B8: Luglio | C8: =SUM(D8:L8) -> 0 | D8: =SUMIFS(Diesel!D3:D1500,Diesel!A3:A1500,B8,Diesel!C3:C1500,"caterpilar") -> 0 | E8: =SUMIFS(Diesel!D9:D1506,Diesel!A9:A1506,B8,Diesel!C9:C1506,"hyster2,5") -> 0 | F8: =SUMIFS(Diesel!D9:D1506,Diesel!A9:A1506,B8,Diesel!C9:C1506,"hyster3,51") -> 0 | G8: =SUMIFS(Diesel!D9:D1506,Diesel!A9:A1506,B8,Diesel!C9:C1506,"hyster3,52") -> 0 | H8: =SUMIFS(Diesel!D9:D1506,Diesel!A9:A1506,B8,Diesel!C9:C1506,"manitou") -> 0 | I8: =SUMIFS(Diesel!D9:D1506,Diesel!A9:A1506,B8,Diesel!C9:C1506,"ompimespo") -> 0 | J8: =SUMIFS(Diesel!D9:D1506,Diesel!A9:A1506,B8,Diesel!C9:C1506,"Velinpasov") -> 0 | K8: =SUMIFS(Diesel!D9:D1506,Diesel!A9:A1506,B8,Diesel!C9:C1506,"volvo L70H") -> 0 | L8: =SUMIFS(Diesel!D9:D1506,Diesel!A9:A1506,B8,Diesel!C9:C1506,"volvo L45H") -> 0
B9: Agosto | C9: =SUM(D9:L9) -> 0 | D9: =SUMIFS(Diesel!D3:D1500,Diesel!A3:A1500,B9,Diesel!C3:C1500,"caterpilar") -> 0 | E9: =SUMIFS(Diesel!D10:D1507,Diesel!A10:A1507,B9,Diesel!C10:C1507,"hyster2,5") -> 0 | F9: =SUMIFS(Diesel!D10:D1507,Diesel!A10:A1507,B9,Diesel!C10:C1507,"hyster3,51") -> 0 | G9: =SUMIFS(Diesel!D10:D1507,Diesel!A10:A1507,B9,Diesel!C10:C1507,"hyster3,52") -> 0 | H9: =SUMIFS(Diesel!D10:D1507,Diesel!A10:A1507,B9,Diesel!C10:C1507,"manitou") -> 0 | I9: =SUMIFS(Diesel!D10:D1507,Diesel!A10:A1507,B9,Diesel!C10:C1507,"ompimespo") -> 0 | J9: =SUMIFS(Diesel!D10:D1507,Diesel!A10:A1507,B9,Diesel!C10:C1507,"Velinpasov") -> 0 | K9: =SUMIFS(Diesel!D10:D1507,Diesel!A10:A1507,B9,Diesel!C10:C1507,"volvo L70H") -> 0 | L9: =SUMIFS(Diesel!D10:D1507,Diesel!A10:A1507,B9,Diesel!C10:C1507,"volvo L45H") -> 0
B10: Settembre | C10: =SUM(D10:L10) -> 0 | D10: =SUMIFS(Diesel!D3:D1500,Diesel!A3:A1500,B10,Diesel!C3:C1500,"caterpilar") -> 0 | E10: =SUMIFS(Diesel!D11:D1508,Diesel!A11:A1508,B10,Diesel!C11:C1508,"hyster2,5") -> 0 | F10: =SUMIFS(Diesel!D11:D1508,Diesel!A11:A1508,B10,Diesel!C11:C1508,"hyster3,51") -> 0 | G10: =SUMIFS(Diesel!D11:D1508,Diesel!A11:A1508,B10,Diesel!C11:C1508,"hyster3,52") -> 0 | H10: =SUMIFS(Diesel!D11:D1508,Diesel!A11:A1508,B10,Diesel!C11:C1508,"manitou") -> 0 | I10: =SUMIFS(Diesel!D11:D1508,Diesel!A11:A1508,B10,Diesel!C11:C1508,"ompimespo") -> 0 | J10: =SUMIFS(Diesel!D11:D1508,Diesel!A11:A1508,B10,Diesel!C11:C1508,"Velinpasov") -> 0 | K10: =SUMIFS(Diesel!D11:D1508,Diesel!A11:A1508,B10,Diesel!C11:C1508,"volvo L70H") -> 0 | L10: =SUMIFS(Diesel!D11:D1508,Diesel!A11:A1508,B10,Diesel!C11:C1508,"volvo L45H") -> 0
B11: Ottobre | C11: =SUM(D11:L11) -> 0 | D11: =SUMIFS(Diesel!D3:D1500,Diesel!A3:A1500,B11,Diesel!C3:C1500,"caterpilar") -> 0 | E11: =SUMIFS(Diesel!D12:D1509,Diesel!A12:A1509,B11,Diesel!C12:C1509,"hyster2,5") -> 0 | F11: =SUMIFS(Diesel!D12:D1509,Diesel!A12:A1509,B11,Diesel!C12:C1509,"hyster3,51") -> 0 | G11: =SUMIFS(Diesel!D12:D1509,Diesel!A12:A1509,B11,Diesel!C12:C1509,"hyster3,52") -> 0 | H11: =SUMIFS(Diesel!D12:D1509,Diesel!A12:A1509,B11,Diesel!C12:C1509,"manitou") -> 0 | I11: =SUMIFS(Diesel!D12:D1509,Diesel!A12:A1509,B11,Diesel!C12:C1509,"ompimespo") -> 0 | J11: =SUMIFS(Diesel!D12:D1509,Diesel!A12:A1509,B11,Diesel!C12:C1509,"Velinpasov") -> 0 | K11: =SUMIFS(Diesel!D12:D1509,Diesel!A12:A1509,B11,Diesel!C12:C1509,"volvo L70H") -> 0 | L11: =SUMIFS(Diesel!D12:D1509,Diesel!A12:A1509,B11,Diesel!C12:C1509,"volvo L45H") -> 0
B12: Novembre | C12: =SUM(D12:L12) -> 0 | D12: =SUMIFS(Diesel!D4:D1501,Diesel!A4:A1501,B12,Diesel!C4:C1501,"caterpilar") -> 0 | E12: =SUMIFS(Diesel!D13:D1510,Diesel!A13:A1510,B12,Diesel!C13:C1510,"hyster2,5") -> 0 | F12: =SUMIFS(Diesel!D13:D1510,Diesel!A13:A1510,B12,Diesel!C13:C1510,"hyster3,51") -> 0 | G12: =SUMIFS(Diesel!D13:D1510,Diesel!A13:A1510,B12,Diesel!C13:C1510,"hyster3,52") -> 0 | H12: =SUMIFS(Diesel!D13:D1510,Diesel!A13:A1510,B12,Diesel!C13:C1510,"manitou") -> 0 | I12: =SUMIFS(Diesel!D13:D1510,Diesel!A13:A1510,B12,Diesel!C13:C1510,"ompimespo") -> 0 | J12: =SUMIFS(Diesel!D13:D1510,Diesel!A13:A1510,B12,Diesel!C13:C1510,"Velinpasov") -> 0 | K12: =SUMIFS(Diesel!D13:D1510,Diesel!A13:A1510,B12,Diesel!C13:C1510,"volvo L70H") -> 0 | L12: =SUMIFS(Diesel!D13:D1510,Diesel!A13:A1510,B12,Diesel!C13:C1510,"volvo L45H") -> 0
B13: Dicembre | C13: =SUM(D13:L13) -> 0 | D13: =SUMIFS(Diesel!D5:D1502,Diesel!A5:A1502,B13,Diesel!C5:C1502,"caterpilar") -> 0 | E13: =SUMIFS(Diesel!D14:D1511,Diesel!A14:A1511,B13,Diesel!C14:C1511,"hyster2,5") -> 0 | F13: =SUMIFS(Diesel!D14:D1511,Diesel!A14:A1511,B13,Diesel!C14:C1511,"hyster3,51") -> 0 | G13: =SUMIFS(Diesel!D14:D1511,Diesel!A14:A1511,B13,Diesel!C14:C1511,"hyster3,52") -> 0 | H13: =SUMIFS(Diesel!D14:D1511,Diesel!A14:A1511,B13,Diesel!C14:C1511,"manitou") -> 0 | I13: =SUMIFS(Diesel!D14:D1511,Diesel!A14:A1511,B13,Diesel!C14:C1511,"ompimespo") -> 0 | J13: =SUMIFS(Diesel!D14:D1511,Diesel!A14:A1511,B13,Diesel!C14:C1511,"Velinpasov") -> 0 | K13: =SUMIFS(Diesel!D14:D1511,Diesel!A14:A1511,B13,Diesel!C14:C1511,"volvo L70H") -> 0 | L13: =SUMIFS(Diesel!D14:D1511,Diesel!A14:A1511,B13,Diesel!C14:C1511,"volvo L45H") -> 0
B14: Totali | C14: =SUM(C2:C13) -> 398.29 | D14: =SUM(D2:D13) -> 0 | E14: =SUM(E2:E13) -> 0 | F14: =SUM(F2:F13) -> 0 | G14: =SUM(G2:G13) -> 150.63 | H14: =SUM(H2:H13) -> 0 | I14: =SUM(I2:I13) -> 117.98 | J14: =SUM(J2:J13) -> 59.59 | ... L14: =SUM(L2:L13) -> 30.15
